BEGIN:VCALENDAR
VERSION:2.0
PRODID:-//River of Life Worship Center - ECPv6.15.20//NONSGML v1.0//EN
CALSCALE:GREGORIAN
METHOD:PUBLISH
X-ORIGINAL-URL:https://theriveroflifeworshipcenter.org
X-WR-CALDESC:Events for River of Life Worship Center
REFRESH-INTERVAL;VALUE=DURATION:PT1H
X-Robots-Tag:noindex
X-PUBLISHED-TTL:PT1H
BEGIN:VTIMEZONE
TZID:UTC
BEGIN:STANDARD
TZOFFSETFROM:+0000
TZOFFSETTO:+0000
TZNAME:UTC
DTSTART:20230101T000000
END:STANDARD
END:VTIMEZONE
BEGIN:VEVENT
DTSTART;TZID=UTC:20240301T080000
DTEND;TZID=UTC:20240301T090000
DTSTAMP:20260425T125027
CREATED:20240212T065033Z
LAST-MODIFIED:20240212T065033Z
UID:3961-1709280000-1709283600@theriveroflifeworshipcenter.org
SUMMARY:Prayer Line
DESCRIPTION:
URL:https://theriveroflifeworshipcenter.org/event/prayer-line-265/
END:VEVENT
BEGIN:VEVENT
DTSTART;TZID=UTC:20240304T080000
DTEND;TZID=UTC:20240304T090000
DTSTAMP:20260425T125027
CREATED:20240212T065459Z
LAST-MODIFIED:20240212T065459Z
UID:3982-1709539200-1709542800@theriveroflifeworshipcenter.org
SUMMARY:Prayer Line
DESCRIPTION:
URL:https://theriveroflifeworshipcenter.org/event/prayer-line-270/
END:VEVENT
BEGIN:VEVENT
DTSTART;TZID=UTC:20240304T123000
DTEND;TZID=UTC:20240304T133000
DTSTAMP:20260425T125027
CREATED:20240204T183658Z
LAST-MODIFIED:20240204T183658Z
UID:3933-1709555400-1709559000@theriveroflifeworshipcenter.org
SUMMARY:Healing Service
DESCRIPTION:
URL:https://theriveroflifeworshipcenter.org/event/healing-service-5/
END:VEVENT
BEGIN:VEVENT
DTSTART;TZID=UTC:20240304T123000
DTEND;TZID=UTC:20240304T133000
DTSTAMP:20260425T125027
CREATED:20240302T061745Z
LAST-MODIFIED:20240302T061917Z
UID:4061-1709555400-1709559000@theriveroflifeworshipcenter.org
SUMMARY:Healing Service
DESCRIPTION:
URL:https://theriveroflifeworshipcenter.org/event/healing-service-6/
END:VEVENT
BEGIN:VEVENT
DTSTART;TZID=UTC:20240305T120000
DTEND;TZID=UTC:20240305T130000
DTSTAMP:20260425T125027
CREATED:20240212T071609Z
LAST-MODIFIED:20240212T071609Z
UID:4011-1709640000-1709643600@theriveroflifeworshipcenter.org
SUMMARY:Do you Need Prayer? Join us every Tuesday from 12:00-1:00 PM
DESCRIPTION:
URL:https://theriveroflifeworshipcenter.org/event/do-you-need-prayer-join-us-every-tuesday-from-1200-100-pm-106/
END:VEVENT
BEGIN:VEVENT
DTSTART;TZID=UTC:20240305T190000
DTEND;TZID=UTC:20240305T200000
DTSTAMP:20260425T125027
CREATED:20240212T065906Z
LAST-MODIFIED:20240212T065907Z
UID:3991-1709665200-1709668800@theriveroflifeworshipcenter.org
SUMMARY:Tuesday Night Virtual Bible Study
DESCRIPTION:
URL:https://theriveroflifeworshipcenter.org/event/tuesday-night-virtual-bible-study-97/
END:VEVENT
BEGIN:VEVENT
DTSTART;TZID=UTC:20240306T080000
DTEND;TZID=UTC:20240306T090000
DTSTAMP:20260425T125027
CREATED:20240212T064902Z
LAST-MODIFIED:20240212T064902Z
UID:3965-1709712000-1709715600@theriveroflifeworshipcenter.org
SUMMARY:Prayer Line
DESCRIPTION:
URL:https://theriveroflifeworshipcenter.org/event/prayer-line-261/
END:VEVENT
BEGIN:VEVENT
DTSTART;TZID=UTC:20240307T120000
DTEND;TZID=UTC:20240307T130000
DTSTAMP:20260425T125027
CREATED:20240212T070925Z
LAST-MODIFIED:20240212T070925Z
UID:4003-1709812800-1709816400@theriveroflifeworshipcenter.org
SUMMARY:Do you Need Prayer? Join us every Thursday from 12:00-1:00 PM
DESCRIPTION:
URL:https://theriveroflifeworshipcenter.org/event/do-you-need-prayer-join-us-every-thursday-from-1200-100-pm-97/
END:VEVENT
BEGIN:VEVENT
DTSTART;TZID=UTC:20240308T080000
DTEND;TZID=UTC:20240308T090000
DTSTAMP:20260425T125027
CREATED:20240212T065055Z
LAST-MODIFIED:20240212T065055Z
UID:3960-1709884800-1709888400@theriveroflifeworshipcenter.org
SUMMARY:Prayer Line
DESCRIPTION:
URL:https://theriveroflifeworshipcenter.org/event/prayer-line-266/
END:VEVENT
BEGIN:VEVENT
DTSTART;TZID=UTC:20240311T080000
DTEND;TZID=UTC:20240311T090000
DTSTAMP:20260425T125027
CREATED:20240212T064754Z
LAST-MODIFIED:20240212T064754Z
UID:3968-1710144000-1710147600@theriveroflifeworshipcenter.org
SUMMARY:Prayer Line
DESCRIPTION:
URL:https://theriveroflifeworshipcenter.org/event/prayer-line-242/
END:VEVENT
BEGIN:VEVENT
DTSTART;TZID=UTC:20240312T120000
DTEND;TZID=UTC:20240312T130000
DTSTAMP:20260425T125027
CREATED:20240212T071634Z
LAST-MODIFIED:20240212T071634Z
UID:4010-1710244800-1710248400@theriveroflifeworshipcenter.org
SUMMARY:Do you Need Prayer? Join us every Tuesday from 12:00-1:00 PM
DESCRIPTION:
URL:https://theriveroflifeworshipcenter.org/event/do-you-need-prayer-join-us-every-tuesday-from-1200-100-pm-107/
END:VEVENT
BEGIN:VEVENT
DTSTART;TZID=UTC:20240312T190000
DTEND;TZID=UTC:20240312T200000
DTSTAMP:20260425T125027
CREATED:20240212T065927Z
LAST-MODIFIED:20240212T065927Z
UID:3990-1710270000-1710273600@theriveroflifeworshipcenter.org
SUMMARY:Tuesday Night Virtual Bible Study
DESCRIPTION:
URL:https://theriveroflifeworshipcenter.org/event/tuesday-night-virtual-bible-study-98/
END:VEVENT
BEGIN:VEVENT
DTSTART;TZID=UTC:20240313T080000
DTEND;TZID=UTC:20240313T090000
DTSTAMP:20260425T125027
CREATED:20240212T064923Z
LAST-MODIFIED:20240212T064923Z
UID:3964-1710316800-1710320400@theriveroflifeworshipcenter.org
SUMMARY:Prayer Line
DESCRIPTION:
URL:https://theriveroflifeworshipcenter.org/event/prayer-line-262/
END:VEVENT
BEGIN:VEVENT
DTSTART;TZID=UTC:20240314T120000
DTEND;TZID=UTC:20240314T130000
DTSTAMP:20260425T125027
CREATED:20240212T070949Z
LAST-MODIFIED:20240212T070949Z
UID:4002-1710417600-1710421200@theriveroflifeworshipcenter.org
SUMMARY:Do you Need Prayer? Join us every Thursday from 12:00-1:00 PM
DESCRIPTION:
URL:https://theriveroflifeworshipcenter.org/event/do-you-need-prayer-join-us-every-thursday-from-1200-100-pm-103/
END:VEVENT
BEGIN:VEVENT
DTSTART;TZID=UTC:20240315T080000
DTEND;TZID=UTC:20240315T090000
DTSTAMP:20260425T125027
CREATED:20240212T065117Z
LAST-MODIFIED:20240212T065117Z
UID:3959-1710489600-1710493200@theriveroflifeworshipcenter.org
SUMMARY:Prayer Line
DESCRIPTION:
URL:https://theriveroflifeworshipcenter.org/event/prayer-line-267/
END:VEVENT
BEGIN:VEVENT
DTSTART;TZID=UTC:20240318T080000
DTEND;TZID=UTC:20240318T090000
DTSTAMP:20260425T125027
CREATED:20240212T064820Z
LAST-MODIFIED:20240212T064820Z
UID:3967-1710748800-1710752400@theriveroflifeworshipcenter.org
SUMMARY:Prayer Line
DESCRIPTION:
URL:https://theriveroflifeworshipcenter.org/event/prayer-line-259/
END:VEVENT
BEGIN:VEVENT
DTSTART;TZID=UTC:20240319T120000
DTEND;TZID=UTC:20240319T130000
DTSTAMP:20260425T125027
CREATED:20240212T071659Z
LAST-MODIFIED:20240212T071659Z
UID:4009-1710849600-1710853200@theriveroflifeworshipcenter.org
SUMMARY:Do you Need Prayer? Join us every Tuesday from 12:00-1:00 PM
DESCRIPTION:
URL:https://theriveroflifeworshipcenter.org/event/do-you-need-prayer-join-us-every-tuesday-from-1200-100-pm-108/
END:VEVENT
BEGIN:VEVENT
DTSTART;TZID=UTC:20240319T190000
DTEND;TZID=UTC:20240319T200000
DTSTAMP:20260425T125027
CREATED:20240212T065948Z
LAST-MODIFIED:20240212T065948Z
UID:3989-1710874800-1710878400@theriveroflifeworshipcenter.org
SUMMARY:Tuesday Night Virtual Bible Study
DESCRIPTION:
URL:https://theriveroflifeworshipcenter.org/event/tuesday-night-virtual-bible-study-99/
END:VEVENT
BEGIN:VEVENT
DTSTART;TZID=UTC:20240320T080000
DTEND;TZID=UTC:20240320T090000
DTSTAMP:20260425T125027
CREATED:20240212T064948Z
LAST-MODIFIED:20240212T064948Z
UID:3963-1710921600-1710925200@theriveroflifeworshipcenter.org
SUMMARY:Prayer Line
DESCRIPTION:
URL:https://theriveroflifeworshipcenter.org/event/prayer-line-263/
END:VEVENT
BEGIN:VEVENT
DTSTART;TZID=UTC:20240321T120000
DTEND;TZID=UTC:20240321T130000
DTSTAMP:20260425T125027
CREATED:20240212T071016Z
LAST-MODIFIED:20240212T071016Z
UID:4001-1711022400-1711026000@theriveroflifeworshipcenter.org
SUMMARY:Do you Need Prayer? Join us every Thursday from 12:00-1:00 PM
DESCRIPTION:
URL:https://theriveroflifeworshipcenter.org/event/do-you-need-prayer-join-us-every-thursday-from-1200-100-pm-104/
END:VEVENT
BEGIN:VEVENT
DTSTART;TZID=UTC:20240322T080000
DTEND;TZID=UTC:20240322T090000
DTSTAMP:20260425T125027
CREATED:20240212T065141Z
LAST-MODIFIED:20240212T065141Z
UID:3958-1711094400-1711098000@theriveroflifeworshipcenter.org
SUMMARY:Prayer Line
DESCRIPTION:
URL:https://theriveroflifeworshipcenter.org/event/prayer-line-268/
END:VEVENT
BEGIN:VEVENT
DTSTART;TZID=UTC:20240323T110000
DTEND;TZID=UTC:20240323T130000
DTSTAMP:20260425T125027
CREATED:20240316T152752Z
LAST-MODIFIED:20240316T152835Z
UID:4156-1711191600-1711198800@theriveroflifeworshipcenter.org
SUMMARY:Women of Worship Sister Circle Fellowship
DESCRIPTION:
URL:https://theriveroflifeworshipcenter.org/event/women-of-worship-sister-circle-fellowship/
END:VEVENT
BEGIN:VEVENT
DTSTART;TZID=UTC:20240325T080000
DTEND;TZID=UTC:20240325T090000
DTSTAMP:20260425T125027
CREATED:20240212T064841Z
LAST-MODIFIED:20240212T064841Z
UID:3966-1711353600-1711357200@theriveroflifeworshipcenter.org
SUMMARY:Prayer Line
DESCRIPTION:
URL:https://theriveroflifeworshipcenter.org/event/prayer-line-260/
END:VEVENT
BEGIN:VEVENT
DTSTART;TZID=UTC:20240326T120000
DTEND;TZID=UTC:20240326T130000
DTSTAMP:20260425T125027
CREATED:20240212T071722Z
LAST-MODIFIED:20240212T071722Z
UID:4008-1711454400-1711458000@theriveroflifeworshipcenter.org
SUMMARY:Do you Need Prayer? Join us every Tuesday from 12:00-1:00 PM
DESCRIPTION:
URL:https://theriveroflifeworshipcenter.org/event/do-you-need-prayer-join-us-every-tuesday-from-1200-100-pm-109/
END:VEVENT
BEGIN:VEVENT
DTSTART;TZID=UTC:20240326T190000
DTEND;TZID=UTC:20240326T200000
DTSTAMP:20260425T125027
CREATED:20240212T070008Z
LAST-MODIFIED:20240212T070008Z
UID:3988-1711479600-1711483200@theriveroflifeworshipcenter.org
SUMMARY:Tuesday Night Virtual Bible Study
DESCRIPTION:
URL:https://theriveroflifeworshipcenter.org/event/tuesday-night-virtual-bible-study-100/
END:VEVENT
BEGIN:VEVENT
DTSTART;TZID=UTC:20240327T080000
DTEND;TZID=UTC:20240327T090000
DTSTAMP:20260425T125027
CREATED:20240212T065007Z
LAST-MODIFIED:20240212T065007Z
UID:3962-1711526400-1711530000@theriveroflifeworshipcenter.org
SUMMARY:Prayer Line
DESCRIPTION:
URL:https://theriveroflifeworshipcenter.org/event/prayer-line-264/
END:VEVENT
BEGIN:VEVENT
DTSTART;TZID=UTC:20240328T120000
DTEND;TZID=UTC:20240328T130000
DTSTAMP:20260425T125027
CREATED:20240212T071044Z
LAST-MODIFIED:20240212T071044Z
UID:4000-1711627200-1711630800@theriveroflifeworshipcenter.org
SUMMARY:Do you Need Prayer? Join us every Thursday from 12:00-1:00 PM
DESCRIPTION:
URL:https://theriveroflifeworshipcenter.org/event/do-you-need-prayer-join-us-every-thursday-from-1200-100-pm-105/
END:VEVENT
BEGIN:VEVENT
DTSTART;TZID=UTC:20240329T080000
DTEND;TZID=UTC:20240329T090000
DTSTAMP:20260425T125027
CREATED:20240212T065247Z
LAST-MODIFIED:20240212T065247Z
UID:3980-1711699200-1711702800@theriveroflifeworshipcenter.org
SUMMARY:Prayer Line
DESCRIPTION:
URL:https://theriveroflifeworshipcenter.org/event/prayer-line-269/
END:VEVENT
END:VCALENDAR