BEGIN:VCALENDAR
VERSION:2.0
PRODID:-//River of Life Worship Center - ECPv6.15.20//NONSGML v1.0//EN
CALSCALE:GREGORIAN
METHOD:PUBLISH
X-ORIGINAL-URL:https://theriveroflifeworshipcenter.org
X-WR-CALDESC:Events for River of Life Worship Center
REFRESH-INTERVAL;VALUE=DURATION:PT1H
X-Robots-Tag:noindex
X-PUBLISHED-TTL:PT1H
BEGIN:VTIMEZONE
TZID:UTC
BEGIN:STANDARD
TZOFFSETFROM:+0000
TZOFFSETTO:+0000
TZNAME:UTC
DTSTART:20220101T000000
END:STANDARD
END:VTIMEZONE
BEGIN:VEVENT
DTSTART;TZID=UTC:20230801T120000
DTEND;TZID=UTC:20230801T130000
DTSTAMP:20260426T021305
CREATED:20230528T193914Z
LAST-MODIFIED:20230528T193914Z
UID:3088-1690891200-1690894800@theriveroflifeworshipcenter.org
SUMMARY:Do you Need Prayer? Join us every Tuesday from 12:00-1:00 PM
DESCRIPTION:
URL:https://theriveroflifeworshipcenter.org/event/do-you-need-prayer-join-us-every-tuesday-from-1200-100-pm-75/
END:VEVENT
BEGIN:VEVENT
DTSTART;TZID=UTC:20230801T190000
DTEND;TZID=UTC:20230801T200000
DTSTAMP:20260426T021305
CREATED:20230528T193830Z
LAST-MODIFIED:20230528T193830Z
UID:3089-1690916400-1690920000@theriveroflifeworshipcenter.org
SUMMARY:Tuesday Night Virtual Bible Study
DESCRIPTION:
URL:https://theriveroflifeworshipcenter.org/event/tuesday-night-virtual-bible-study-66/
END:VEVENT
BEGIN:VEVENT
DTSTART;TZID=UTC:20230802T080000
DTEND;TZID=UTC:20230802T090000
DTSTAMP:20260426T021305
CREATED:20230528T193306Z
LAST-MODIFIED:20230528T193306Z
UID:3086-1690963200-1690966800@theriveroflifeworshipcenter.org
SUMMARY:Prayer Line
DESCRIPTION:
URL:https://theriveroflifeworshipcenter.org/event/prayer-line-179/
END:VEVENT
BEGIN:VEVENT
DTSTART;TZID=UTC:20230803T120000
DTEND;TZID=UTC:20230803T130000
DTSTAMP:20260426T021305
CREATED:20230528T184837Z
LAST-MODIFIED:20230528T184837Z
UID:3038-1691064000-1691067600@theriveroflifeworshipcenter.org
SUMMARY:Do you Need Prayer? Join us every Thursday from 12:00-1:00 PM
DESCRIPTION:
URL:https://theriveroflifeworshipcenter.org/event/do-you-need-prayer-join-us-every-thursday-from-1200-100-pm-70/
END:VEVENT
BEGIN:VEVENT
DTSTART;TZID=UTC:20230804T080000
DTEND;TZID=UTC:20230804T090000
DTSTAMP:20260426T021305
CREATED:20230528T193103Z
LAST-MODIFIED:20230528T193103Z
UID:3066-1691136000-1691139600@theriveroflifeworshipcenter.org
SUMMARY:Prayer Line
DESCRIPTION:
URL:https://theriveroflifeworshipcenter.org/event/prayer-line-175/
END:VEVENT
BEGIN:VEVENT
DTSTART;TZID=UTC:20230807T080000
DTEND;TZID=UTC:20230807T090000
DTSTAMP:20260426T021305
CREATED:20230528T192810Z
LAST-MODIFIED:20230528T192810Z
UID:3062-1691395200-1691398800@theriveroflifeworshipcenter.org
SUMMARY:Prayer Line
DESCRIPTION:
URL:https://theriveroflifeworshipcenter.org/event/prayer-line-167/
END:VEVENT
BEGIN:VEVENT
DTSTART;TZID=UTC:20230808T120000
DTEND;TZID=UTC:20230808T130000
DTSTAMP:20260426T021305
CREATED:20230528T200730Z
LAST-MODIFIED:20230528T200730Z
UID:3132-1691496000-1691499600@theriveroflifeworshipcenter.org
SUMMARY:Do you Need Prayer? Join us every Tuesday from 12:00-1:00 PM
DESCRIPTION:
URL:https://theriveroflifeworshipcenter.org/event/do-you-need-prayer-join-us-every-tuesday-from-1200-100-pm-80/
END:VEVENT
BEGIN:VEVENT
DTSTART;TZID=UTC:20230808T190000
DTEND;TZID=UTC:20230808T200000
DTSTAMP:20260426T021305
CREATED:20230528T200708Z
LAST-MODIFIED:20230528T200708Z
UID:3133-1691521200-1691524800@theriveroflifeworshipcenter.org
SUMMARY:Tuesday Night Virtual Bible Study
DESCRIPTION:
URL:https://theriveroflifeworshipcenter.org/event/tuesday-night-virtual-bible-study-71/
END:VEVENT
BEGIN:VEVENT
DTSTART;TZID=UTC:20230809T080000
DTEND;TZID=UTC:20230809T090000
DTSTAMP:20260426T021305
CREATED:20230528T192934Z
LAST-MODIFIED:20230528T192934Z
UID:3070-1691568000-1691571600@theriveroflifeworshipcenter.org
SUMMARY:Prayer Line
DESCRIPTION:
URL:https://theriveroflifeworshipcenter.org/event/prayer-line-171/
END:VEVENT
BEGIN:VEVENT
DTSTART;TZID=UTC:20230810T120000
DTEND;TZID=UTC:20230810T130000
DTSTAMP:20260426T021305
CREATED:20230528T200358Z
LAST-MODIFIED:20230528T200358Z
UID:3119-1691668800-1691672400@theriveroflifeworshipcenter.org
SUMMARY:Do you Need Prayer? Join us every Thursday from 12:00-1:00 PM
DESCRIPTION:
URL:https://theriveroflifeworshipcenter.org/event/do-you-need-prayer-join-us-every-thursday-from-1200-100-pm-76/
END:VEVENT
BEGIN:VEVENT
DTSTART;TZID=UTC:20230811T080000
DTEND;TZID=UTC:20230811T090000
DTSTAMP:20260426T021305
CREATED:20230528T193119Z
LAST-MODIFIED:20230528T193119Z
UID:3065-1691740800-1691744400@theriveroflifeworshipcenter.org
SUMMARY:Prayer Line
DESCRIPTION:
URL:https://theriveroflifeworshipcenter.org/event/prayer-line-176/
END:VEVENT
BEGIN:VEVENT
DTSTART;TZID=UTC:20230812T100000
DTEND;TZID=UTC:20230812T140000
DTSTAMP:20260426T021305
CREATED:20230727T014103Z
LAST-MODIFIED:20230727T014103Z
UID:3442-1691834400-1691848800@theriveroflifeworshipcenter.org
SUMMARY:Fill a Bag of Blessings Event
DESCRIPTION:
URL:https://theriveroflifeworshipcenter.org/event/fill-a-bag-of-blessings-event/
END:VEVENT
BEGIN:VEVENT
DTSTART;TZID=UTC:20230814T080000
DTEND;TZID=UTC:20230814T090000
DTSTAMP:20260426T021305
CREATED:20230528T192830Z
LAST-MODIFIED:20230528T192830Z
UID:3073-1692000000-1692003600@theriveroflifeworshipcenter.org
SUMMARY:Prayer Line
DESCRIPTION:
URL:https://theriveroflifeworshipcenter.org/event/prayer-line-168/
END:VEVENT
BEGIN:VEVENT
DTSTART;TZID=UTC:20230815T120000
DTEND;TZID=UTC:20230815T130000
DTSTAMP:20260426T021305
CREATED:20230528T200844Z
LAST-MODIFIED:20230528T200844Z
UID:3131-1692100800-1692104400@theriveroflifeworshipcenter.org
SUMMARY:Do you Need Prayer? Join us every Tuesday from 12:00-1:00 PM
DESCRIPTION:
URL:https://theriveroflifeworshipcenter.org/event/do-you-need-prayer-join-us-every-tuesday-from-1200-100-pm-81/
END:VEVENT
BEGIN:VEVENT
DTSTART;TZID=UTC:20230815T190000
DTEND;TZID=UTC:20230815T200000
DTSTAMP:20260426T021305
CREATED:20230528T200747Z
LAST-MODIFIED:20230528T200747Z
UID:3129-1692126000-1692129600@theriveroflifeworshipcenter.org
SUMMARY:Tuesday Night Virtual Bible Study
DESCRIPTION:
URL:https://theriveroflifeworshipcenter.org/event/tuesday-night-virtual-bible-study-72/
END:VEVENT
BEGIN:VEVENT
DTSTART;TZID=UTC:20230816T080000
DTEND;TZID=UTC:20230816T090000
DTSTAMP:20260426T021305
CREATED:20230528T192952Z
LAST-MODIFIED:20230528T192952Z
UID:3069-1692172800-1692176400@theriveroflifeworshipcenter.org
SUMMARY:Prayer Line
DESCRIPTION:
URL:https://theriveroflifeworshipcenter.org/event/prayer-line-172/
END:VEVENT
BEGIN:VEVENT
DTSTART;TZID=UTC:20230817T120000
DTEND;TZID=UTC:20230817T130000
DTSTAMP:20260426T021305
CREATED:20230528T200418Z
LAST-MODIFIED:20230528T200418Z
UID:3118-1692273600-1692277200@theriveroflifeworshipcenter.org
SUMMARY:Do you Need Prayer? Join us every Thursday from 12:00-1:00 PM
DESCRIPTION:
URL:https://theriveroflifeworshipcenter.org/event/do-you-need-prayer-join-us-every-thursday-from-1200-100-pm-77/
END:VEVENT
BEGIN:VEVENT
DTSTART;TZID=UTC:20230818T080000
DTEND;TZID=UTC:20230818T090000
DTSTAMP:20260426T021305
CREATED:20230528T193141Z
LAST-MODIFIED:20230528T193141Z
UID:3064-1692345600-1692349200@theriveroflifeworshipcenter.org
SUMMARY:Prayer Line
DESCRIPTION:
URL:https://theriveroflifeworshipcenter.org/event/prayer-line-177/
END:VEVENT
BEGIN:VEVENT
DTSTART;TZID=UTC:20230821T080000
DTEND;TZID=UTC:20230821T090000
DTSTAMP:20260426T021305
CREATED:20230528T192847Z
LAST-MODIFIED:20230528T192847Z
UID:3072-1692604800-1692608400@theriveroflifeworshipcenter.org
SUMMARY:Prayer Line
DESCRIPTION:
URL:https://theriveroflifeworshipcenter.org/event/prayer-line-169/
END:VEVENT
BEGIN:VEVENT
DTSTART;TZID=UTC:20230822T120000
DTEND;TZID=UTC:20230822T130000
DTSTAMP:20260426T021305
CREATED:20230528T200921Z
LAST-MODIFIED:20230528T200921Z
UID:3130-1692705600-1692709200@theriveroflifeworshipcenter.org
SUMMARY:Do you Need Prayer? Join us every Tuesday from 12:00-1:00 PM
DESCRIPTION:
URL:https://theriveroflifeworshipcenter.org/event/do-you-need-prayer-join-us-every-tuesday-from-1200-100-pm-82/
END:VEVENT
BEGIN:VEVENT
DTSTART;TZID=UTC:20230822T190000
DTEND;TZID=UTC:20230822T200000
DTSTAMP:20260426T021305
CREATED:20230528T200903Z
LAST-MODIFIED:20230528T200903Z
UID:3128-1692730800-1692734400@theriveroflifeworshipcenter.org
SUMMARY:Tuesday Night Virtual Bible Study
DESCRIPTION:
URL:https://theriveroflifeworshipcenter.org/event/tuesday-night-virtual-bible-study-73/
END:VEVENT
BEGIN:VEVENT
DTSTART;TZID=UTC:20230823T080000
DTEND;TZID=UTC:20230823T090000
DTSTAMP:20260426T021305
CREATED:20230528T193010Z
LAST-MODIFIED:20230528T193010Z
UID:3068-1692777600-1692781200@theriveroflifeworshipcenter.org
SUMMARY:Prayer Line
DESCRIPTION:
URL:https://theriveroflifeworshipcenter.org/event/prayer-line-173/
END:VEVENT
BEGIN:VEVENT
DTSTART;TZID=UTC:20230824T120000
DTEND;TZID=UTC:20230824T130000
DTSTAMP:20260426T021305
CREATED:20230528T200502Z
LAST-MODIFIED:20230528T200502Z
UID:3116-1692878400-1692882000@theriveroflifeworshipcenter.org
SUMMARY:Do you Need Prayer? Join us every Thursday from 12:00-1:00 PM
DESCRIPTION:
URL:https://theriveroflifeworshipcenter.org/event/do-you-need-prayer-join-us-every-thursday-from-1200-100-pm-79/
END:VEVENT
BEGIN:VEVENT
DTSTART;TZID=UTC:20230825T080000
DTEND;TZID=UTC:20230825T090000
DTSTAMP:20260426T021305
CREATED:20230528T193158Z
LAST-MODIFIED:20230528T193158Z
UID:3063-1692950400-1692954000@theriveroflifeworshipcenter.org
SUMMARY:Prayer Line
DESCRIPTION:
URL:https://theriveroflifeworshipcenter.org/event/prayer-line-178/
END:VEVENT
BEGIN:VEVENT
DTSTART;TZID=UTC:20230828T080000
DTEND;TZID=UTC:20230828T090000
DTSTAMP:20260426T021305
CREATED:20230528T192904Z
LAST-MODIFIED:20230528T192904Z
UID:3071-1693209600-1693213200@theriveroflifeworshipcenter.org
SUMMARY:Prayer Line
DESCRIPTION:
URL:https://theriveroflifeworshipcenter.org/event/prayer-line-170/
END:VEVENT
BEGIN:VEVENT
DTSTART;TZID=UTC:20230829T120000
DTEND;TZID=UTC:20230829T130000
DTSTAMP:20260426T021305
CREATED:20230528T201230Z
LAST-MODIFIED:20230528T201230Z
UID:3142-1693310400-1693314000@theriveroflifeworshipcenter.org
SUMMARY:Do you Need Prayer? Join us every Tuesday from 12:00-1:00 PM
DESCRIPTION:
URL:https://theriveroflifeworshipcenter.org/event/do-you-need-prayer-join-us-every-tuesday-from-1200-100-pm-83/
END:VEVENT
BEGIN:VEVENT
DTSTART;TZID=UTC:20230829T190000
DTEND;TZID=UTC:20230829T200000
DTSTAMP:20260426T021305
CREATED:20230528T201018Z
LAST-MODIFIED:20230528T201018Z
UID:3126-1693335600-1693339200@theriveroflifeworshipcenter.org
SUMMARY:Tuesday Night Virtual Bible Study
DESCRIPTION:
URL:https://theriveroflifeworshipcenter.org/event/tuesday-night-virtual-bible-study-75/
END:VEVENT
BEGIN:VEVENT
DTSTART;TZID=UTC:20230830T080000
DTEND;TZID=UTC:20230830T090000
DTSTAMP:20260426T021305
CREATED:20230528T201332Z
LAST-MODIFIED:20230528T201332Z
UID:3145-1693382400-1693386000@theriveroflifeworshipcenter.org
SUMMARY:Prayer Line
DESCRIPTION:
URL:https://theriveroflifeworshipcenter.org/event/prayer-line-180/
END:VEVENT
BEGIN:VEVENT
DTSTART;TZID=UTC:20230831T120000
DTEND;TZID=UTC:20230831T130000
DTSTAMP:20260426T021305
CREATED:20230528T200556Z
LAST-MODIFIED:20230528T200556Z
UID:3124-1693483200-1693486800@theriveroflifeworshipcenter.org
SUMMARY:Do you Need Prayer? Join us every Thursday from 12:00-1:00 PM
DESCRIPTION:
URL:https://theriveroflifeworshipcenter.org/event/do-you-need-prayer-join-us-every-thursday-from-1200-100-pm-80/
END:VEVENT
END:VCALENDAR