BEGIN:VCALENDAR
VERSION:2.0
PRODID:-//River of Life Worship Center - ECPv6.15.20//NONSGML v1.0//EN
CALSCALE:GREGORIAN
METHOD:PUBLISH
X-WR-CALNAME:River of Life Worship Center
X-ORIGINAL-URL:https://theriveroflifeworshipcenter.org
X-WR-CALDESC:Events for River of Life Worship Center
REFRESH-INTERVAL;VALUE=DURATION:PT1H
X-Robots-Tag:noindex
X-PUBLISHED-TTL:PT1H
BEGIN:VTIMEZONE
TZID:UTC
BEGIN:STANDARD
TZOFFSETFROM:+0000
TZOFFSETTO:+0000
TZNAME:UTC
DTSTART:20230101T000000
END:STANDARD
END:VTIMEZONE
BEGIN:VEVENT
DTSTART;TZID=UTC:20240213T190000
DTEND;TZID=UTC:20240213T200000
DTSTAMP:20260426T041945
CREATED:20231225T185930Z
LAST-MODIFIED:20231225T185930Z
UID:3886-1707850800-1707854400@theriveroflifeworshipcenter.org
SUMMARY:Tuesday Night Virtual Bible Study
DESCRIPTION:
URL:https://theriveroflifeworshipcenter.org/event/tuesday-night-virtual-bible-study-94/
END:VEVENT
BEGIN:VEVENT
DTSTART;TZID=UTC:20240213T120000
DTEND;TZID=UTC:20240213T130000
DTSTAMP:20260426T041945
CREATED:20231224T172122Z
LAST-MODIFIED:20231224T172122Z
UID:3873-1707825600-1707829200@theriveroflifeworshipcenter.org
SUMMARY:Do you Need Prayer? Join us every Tuesday from 12:00-1:00 PM
DESCRIPTION:
URL:https://theriveroflifeworshipcenter.org/event/do-you-need-prayer-join-us-every-tuesday-from-1200-100-pm-103/
END:VEVENT
BEGIN:VEVENT
DTSTART;TZID=UTC:20240212T080000
DTEND;TZID=UTC:20240212T090000
DTSTAMP:20260426T041945
CREATED:20231224T170851Z
LAST-MODIFIED:20231224T170851Z
UID:3843-1707724800-1707728400@theriveroflifeworshipcenter.org
SUMMARY:Prayer Line
DESCRIPTION:
URL:https://theriveroflifeworshipcenter.org/event/prayer-line-248/
END:VEVENT
BEGIN:VEVENT
DTSTART;TZID=UTC:20240209T080000
DTEND;TZID=UTC:20240209T090000
DTSTAMP:20260426T041945
CREATED:20231224T171321Z
LAST-MODIFIED:20231224T171321Z
UID:3835-1707465600-1707469200@theriveroflifeworshipcenter.org
SUMMARY:Prayer Line
DESCRIPTION:
URL:https://theriveroflifeworshipcenter.org/event/prayer-line-256/
END:VEVENT
BEGIN:VEVENT
DTSTART;TZID=UTC:20240208T120000
DTEND;TZID=UTC:20240208T130000
DTSTAMP:20260426T041945
CREATED:20231224T171608Z
LAST-MODIFIED:20231224T171608Z
UID:3863-1707393600-1707397200@theriveroflifeworshipcenter.org
SUMMARY:Do you Need Prayer? Join us every Thursday from 12:00-1:00 PM
DESCRIPTION:
URL:https://theriveroflifeworshipcenter.org/event/do-you-need-prayer-join-us-every-thursday-from-1200-100-pm-99/
END:VEVENT
BEGIN:VEVENT
DTSTART;TZID=UTC:20240207T080000
DTEND;TZID=UTC:20240207T090000
DTSTAMP:20260426T041945
CREATED:20231224T171038Z
LAST-MODIFIED:20231224T171038Z
UID:3840-1707292800-1707296400@theriveroflifeworshipcenter.org
SUMMARY:Prayer Line
DESCRIPTION:
URL:https://theriveroflifeworshipcenter.org/event/prayer-line-251/
END:VEVENT
BEGIN:VEVENT
DTSTART;TZID=UTC:20240206T190000
DTEND;TZID=UTC:20240206T200000
DTSTAMP:20260426T041945
CREATED:20231225T185858Z
LAST-MODIFIED:20231225T185858Z
UID:3887-1707246000-1707249600@theriveroflifeworshipcenter.org
SUMMARY:Tuesday Night Virtual Bible Study
DESCRIPTION:
URL:https://theriveroflifeworshipcenter.org/event/tuesday-night-virtual-bible-study-93/
END:VEVENT
BEGIN:VEVENT
DTSTART;TZID=UTC:20240206T120000
DTEND;TZID=UTC:20240206T130000
DTSTAMP:20260426T041945
CREATED:20231224T172044Z
LAST-MODIFIED:20231224T172044Z
UID:3874-1707220800-1707224400@theriveroflifeworshipcenter.org
SUMMARY:Do you Need Prayer? Join us every Tuesday from 12:00-1:00 PM
DESCRIPTION:
URL:https://theriveroflifeworshipcenter.org/event/do-you-need-prayer-join-us-every-tuesday-from-1200-100-pm-102/
END:VEVENT
BEGIN:VEVENT
DTSTART;TZID=UTC:20240205T123000
DTEND;TZID=UTC:20240205T133000
DTSTAMP:20260426T041945
CREATED:20240204T183548Z
LAST-MODIFIED:20240204T183548Z
UID:3930-1707136200-1707139800@theriveroflifeworshipcenter.org
SUMMARY:Healing Service
DESCRIPTION:
URL:https://theriveroflifeworshipcenter.org/event/healing-service-4/
END:VEVENT
BEGIN:VEVENT
DTSTART;TZID=UTC:20240205T080000
DTEND;TZID=UTC:20240205T090000
DTSTAMP:20260426T041945
CREATED:20231224T170822Z
LAST-MODIFIED:20231224T170822Z
UID:3844-1707120000-1707123600@theriveroflifeworshipcenter.org
SUMMARY:Prayer Line
DESCRIPTION:
URL:https://theriveroflifeworshipcenter.org/event/prayer-line-247/
END:VEVENT
BEGIN:VEVENT
DTSTART;TZID=UTC:20240202T080000
DTEND;TZID=UTC:20240202T090000
DTSTAMP:20260426T041945
CREATED:20231224T171302Z
LAST-MODIFIED:20231224T171302Z
UID:3836-1706860800-1706864400@theriveroflifeworshipcenter.org
SUMMARY:Prayer Line
DESCRIPTION:
URL:https://theriveroflifeworshipcenter.org/event/prayer-line-255/
END:VEVENT
BEGIN:VEVENT
DTSTART;TZID=UTC:20240201T120000
DTEND;TZID=UTC:20240201T130000
DTSTAMP:20260426T041945
CREATED:20231224T171545Z
LAST-MODIFIED:20231224T171545Z
UID:3858-1706788800-1706792400@theriveroflifeworshipcenter.org
SUMMARY:Do you Need Prayer? Join us every Thursday from 12:00-1:00 PM
DESCRIPTION:
URL:https://theriveroflifeworshipcenter.org/event/do-you-need-prayer-join-us-every-thursday-from-1200-100-pm-98/
END:VEVENT
BEGIN:VEVENT
DTSTART;TZID=UTC:20240131T080000
DTEND;TZID=UTC:20240131T090000
DTSTAMP:20260426T041946
CREATED:20231222T230749Z
LAST-MODIFIED:20231222T230749Z
UID:3795-1706688000-1706691600@theriveroflifeworshipcenter.org
SUMMARY:Prayer Line
DESCRIPTION:
URL:https://theriveroflifeworshipcenter.org/event/prayer-line-241/
END:VEVENT
BEGIN:VEVENT
DTSTART;TZID=UTC:20240130T190000
DTEND;TZID=UTC:20240130T200000
DTSTAMP:20260426T041946
CREATED:20231222T220942Z
LAST-MODIFIED:20231222T220942Z
UID:3765-1706641200-1706644800@theriveroflifeworshipcenter.org
SUMMARY:Tuesday Night Virtual Bible Study
DESCRIPTION:
URL:https://theriveroflifeworshipcenter.org/event/tuesday-night-virtual-bible-study-92/
END:VEVENT
BEGIN:VEVENT
DTSTART;TZID=UTC:20240130T120000
DTEND;TZID=UTC:20240130T130000
DTSTAMP:20260426T041946
CREATED:20231222T224154Z
LAST-MODIFIED:20231222T224154Z
UID:3780-1706616000-1706619600@theriveroflifeworshipcenter.org
SUMMARY:Do you Need Prayer? Join us every Tuesday from 12:00-1:00 PM
DESCRIPTION:
URL:https://theriveroflifeworshipcenter.org/event/do-you-need-prayer-join-us-every-tuesday-from-1200-100-pm-101/
END:VEVENT
BEGIN:VEVENT
DTSTART;TZID=UTC:20240129T080000
DTEND;TZID=UTC:20240129T090000
DTSTAMP:20260426T041946
CREATED:20231222T230306Z
LAST-MODIFIED:20231222T230306Z
UID:3804-1706515200-1706518800@theriveroflifeworshipcenter.org
SUMMARY:Prayer Line
DESCRIPTION:
URL:https://theriveroflifeworshipcenter.org/event/prayer-line-236/
END:VEVENT
BEGIN:VEVENT
DTSTART;TZID=UTC:20240128T103000
DTEND;TZID=UTC:20240128T130000
DTSTAMP:20260426T041946
CREATED:20231230T041820Z
LAST-MODIFIED:20231230T041838Z
UID:3893-1706437800-1706446800@theriveroflifeworshipcenter.org
SUMMARY:17th Pastor's  Anniversary Service
DESCRIPTION:
URL:https://theriveroflifeworshipcenter.org/event/pastors-anniversary-service/
END:VEVENT
BEGIN:VEVENT
DTSTART;TZID=UTC:20240127T093000
DTEND;TZID=UTC:20240127T093000
DTSTAMP:20260426T041946
CREATED:20231224T012115Z
LAST-MODIFIED:20231224T012115Z
UID:3831-1706347800-1706347800@theriveroflifeworshipcenter.org
SUMMARY:EMIP Men's Prayer Breakfast
DESCRIPTION:
URL:https://theriveroflifeworshipcenter.org/event/emip-mens-prayer-breakfast-2/
END:VEVENT
BEGIN:VEVENT
DTSTART;TZID=UTC:20240126T080000
DTEND;TZID=UTC:20240126T090000
DTSTAMP:20260426T041946
CREATED:20231222T231410Z
LAST-MODIFIED:20231222T231410Z
UID:3825-1706256000-1706259600@theriveroflifeworshipcenter.org
SUMMARY:Prayer Line
DESCRIPTION:
URL:https://theriveroflifeworshipcenter.org/event/prayer-line-246/
END:VEVENT
BEGIN:VEVENT
DTSTART;TZID=UTC:20240125T120000
DTEND;TZID=UTC:20240125T130000
DTSTAMP:20260426T041946
CREATED:20231222T224640Z
LAST-MODIFIED:20231222T224640Z
UID:3790-1706184000-1706187600@theriveroflifeworshipcenter.org
SUMMARY:Do you Need Prayer? Join us every Thursday from 12:00-1:00 PM
DESCRIPTION:
URL:https://theriveroflifeworshipcenter.org/event/do-you-need-prayer-join-us-every-thursday-from-1200-100-pm-96/
END:VEVENT
BEGIN:VEVENT
DTSTART;TZID=UTC:20240124T080000
DTEND;TZID=UTC:20240124T090000
DTSTAMP:20260426T041946
CREATED:20231222T230709Z
LAST-MODIFIED:20231222T230709Z
UID:3809-1706083200-1706086800@theriveroflifeworshipcenter.org
SUMMARY:Prayer Line
DESCRIPTION:
URL:https://theriveroflifeworshipcenter.org/event/prayer-line-240/
END:VEVENT
BEGIN:VEVENT
DTSTART;TZID=UTC:20240123T190000
DTEND;TZID=UTC:20240123T200000
DTSTAMP:20260426T041946
CREATED:20231222T220903Z
LAST-MODIFIED:20231222T220903Z
UID:3766-1706036400-1706040000@theriveroflifeworshipcenter.org
SUMMARY:Tuesday Night Virtual Bible Study
DESCRIPTION:
URL:https://theriveroflifeworshipcenter.org/event/tuesday-night-virtual-bible-study-91/
END:VEVENT
BEGIN:VEVENT
DTSTART;TZID=UTC:20240123T120000
DTEND;TZID=UTC:20240123T130000
DTSTAMP:20260426T041946
CREATED:20231222T224127Z
LAST-MODIFIED:20231222T224127Z
UID:3779-1706011200-1706014800@theriveroflifeworshipcenter.org
SUMMARY:Do you Need Prayer? Join us every Tuesday from 12:00-1:00 PM
DESCRIPTION:
URL:https://theriveroflifeworshipcenter.org/event/do-you-need-prayer-join-us-every-tuesday-from-1200-100-pm-100/
END:VEVENT
BEGIN:VEVENT
DTSTART;TZID=UTC:20240122T080000
DTEND;TZID=UTC:20240122T090000
DTSTAMP:20260426T041946
CREATED:20231222T225958Z
LAST-MODIFIED:20231222T225958Z
UID:3796-1705910400-1705914000@theriveroflifeworshipcenter.org
SUMMARY:Prayer Line
DESCRIPTION:
URL:https://theriveroflifeworshipcenter.org/event/prayer-line-235/
END:VEVENT
BEGIN:VEVENT
DTSTART;TZID=UTC:20240119T080000
DTEND;TZID=UTC:20240119T090000
DTSTAMP:20260426T041946
CREATED:20231222T231339Z
LAST-MODIFIED:20231222T231339Z
UID:3824-1705651200-1705654800@theriveroflifeworshipcenter.org
SUMMARY:Prayer Line
DESCRIPTION:
URL:https://theriveroflifeworshipcenter.org/event/prayer-line-245/
END:VEVENT
BEGIN:VEVENT
DTSTART;TZID=UTC:20240118T120000
DTEND;TZID=UTC:20240118T130000
DTSTAMP:20260426T041946
CREATED:20231222T224610Z
LAST-MODIFIED:20231222T224610Z
UID:3789-1705579200-1705582800@theriveroflifeworshipcenter.org
SUMMARY:Do you Need Prayer? Join us every Thursday from 12:00-1:00 PM
DESCRIPTION:
URL:https://theriveroflifeworshipcenter.org/event/do-you-need-prayer-join-us-every-thursday-from-1200-100-pm-95/
END:VEVENT
BEGIN:VEVENT
DTSTART;TZID=UTC:20240117T080000
DTEND;TZID=UTC:20240117T090000
DTSTAMP:20260426T041946
CREATED:20231222T230623Z
LAST-MODIFIED:20231222T230623Z
UID:3808-1705478400-1705482000@theriveroflifeworshipcenter.org
SUMMARY:Prayer Line
DESCRIPTION:
URL:https://theriveroflifeworshipcenter.org/event/prayer-line-239/
END:VEVENT
BEGIN:VEVENT
DTSTART;TZID=UTC:20240116T190000
DTEND;TZID=UTC:20240116T200000
DTSTAMP:20260426T041946
CREATED:20231222T220839Z
LAST-MODIFIED:20231222T220839Z
UID:3767-1705431600-1705435200@theriveroflifeworshipcenter.org
SUMMARY:Tuesday Night Virtual Bible Study
DESCRIPTION:
URL:https://theriveroflifeworshipcenter.org/event/tuesday-night-virtual-bible-study-90/
END:VEVENT
BEGIN:VEVENT
DTSTART;TZID=UTC:20240116T120000
DTEND;TZID=UTC:20240116T130000
DTSTAMP:20260426T041946
CREATED:20231222T223955Z
LAST-MODIFIED:20231222T223955Z
UID:3778-1705406400-1705410000@theriveroflifeworshipcenter.org
SUMMARY:Do you Need Prayer? Join us every Tuesday from 12:00-1:00 PM
DESCRIPTION:
URL:https://theriveroflifeworshipcenter.org/event/do-you-need-prayer-join-us-every-tuesday-from-1200-100-pm-99/
END:VEVENT
BEGIN:VEVENT
DTSTART;TZID=UTC:20240115T080000
DTEND;TZID=UTC:20240115T090000
DTSTAMP:20260426T041946
CREATED:20231222T225925Z
LAST-MODIFIED:20231222T225925Z
UID:3797-1705305600-1705309200@theriveroflifeworshipcenter.org
SUMMARY:Prayer Line
DESCRIPTION:
URL:https://theriveroflifeworshipcenter.org/event/prayer-line-234/
END:VEVENT
END:VCALENDAR