BEGIN:VCALENDAR
VERSION:2.0
PRODID:-//River of Life Worship Center - ECPv6.15.20//NONSGML v1.0//EN
CALSCALE:GREGORIAN
METHOD:PUBLISH
X-ORIGINAL-URL:https://theriveroflifeworshipcenter.org
X-WR-CALDESC:Events for River of Life Worship Center
REFRESH-INTERVAL;VALUE=DURATION:PT1H
X-Robots-Tag:noindex
X-PUBLISHED-TTL:PT1H
BEGIN:VTIMEZONE
TZID:UTC
BEGIN:STANDARD
TZOFFSETFROM:+0000
TZOFFSETTO:+0000
TZNAME:UTC
DTSTART:20240101T000000
END:STANDARD
END:VTIMEZONE
BEGIN:VEVENT
DTSTART;TZID=UTC:20250124T080000
DTEND;TZID=UTC:20250124T090000
DTSTAMP:20260425T125527
CREATED:20241222T172024Z
LAST-MODIFIED:20241222T172024Z
UID:5117-1737705600-1737709200@theriveroflifeworshipcenter.org
SUMMARY:Prayer Line
DESCRIPTION:
URL:https://theriveroflifeworshipcenter.org/event/prayer-line-399/
END:VEVENT
BEGIN:VEVENT
DTSTART;TZID=UTC:20250126T103000
DTEND;TZID=UTC:20250126T120000
DTSTAMP:20260425T125527
CREATED:20250112T005844Z
LAST-MODIFIED:20250112T200338Z
UID:5209-1737887400-1737892800@theriveroflifeworshipcenter.org
SUMMARY:18th Pastor's Anniversary
DESCRIPTION:
URL:https://theriveroflifeworshipcenter.org/event/18th-pastors-anniversary/
END:VEVENT
BEGIN:VEVENT
DTSTART;TZID=UTC:20250127T080000
DTEND;TZID=UTC:20250127T090000
DTSTAMP:20260425T125527
CREATED:20241222T172259Z
LAST-MODIFIED:20241222T172259Z
UID:5116-1737964800-1737968400@theriveroflifeworshipcenter.org
SUMMARY:Prayer Line
DESCRIPTION:
URL:https://theriveroflifeworshipcenter.org/event/prayer-line-400/
END:VEVENT
BEGIN:VEVENT
DTSTART;TZID=UTC:20250128T120000
DTEND;TZID=UTC:20250128T130000
DTSTAMP:20260425T125527
CREATED:20241222T191732Z
LAST-MODIFIED:20241222T191732Z
UID:5142-1738065600-1738069200@theriveroflifeworshipcenter.org
SUMMARY:Do you Need Prayer? Join us every Tuesday from 12:00-1:00 PM
DESCRIPTION:
URL:https://theriveroflifeworshipcenter.org/event/do-you-need-prayer-join-us-every-tuesday-from-1200-100-pm-151/
END:VEVENT
BEGIN:VEVENT
DTSTART;TZID=UTC:20250128T190000
DTEND;TZID=UTC:20250128T200000
DTSTAMP:20260425T125527
CREATED:20241222T192416Z
LAST-MODIFIED:20241222T192416Z
UID:5160-1738090800-1738094400@theriveroflifeworshipcenter.org
SUMMARY:Tuesday Night Virtual Bible Study
DESCRIPTION:
URL:https://theriveroflifeworshipcenter.org/event/tuesday-night-virtual-bible-study-143/
END:VEVENT
BEGIN:VEVENT
DTSTART;TZID=UTC:20250129T080000
DTEND;TZID=UTC:20250129T090000
DTSTAMP:20260425T125527
CREATED:20241222T172334Z
LAST-MODIFIED:20241222T172334Z
UID:5115-1738137600-1738141200@theriveroflifeworshipcenter.org
SUMMARY:Prayer Line
DESCRIPTION:
URL:https://theriveroflifeworshipcenter.org/event/prayer-line-401/
END:VEVENT
BEGIN:VEVENT
DTSTART;TZID=UTC:20250130T120000
DTEND;TZID=UTC:20250130T130000
DTSTAMP:20260425T125527
CREATED:20241222T192033Z
LAST-MODIFIED:20241222T192033Z
UID:5158-1738238400-1738242000@theriveroflifeworshipcenter.org
SUMMARY:Do you Need Prayer? Join us every Thursday from 12:00-1:00 PM
DESCRIPTION:
URL:https://theriveroflifeworshipcenter.org/event/do-you-need-prayer-join-us-every-thursday-from-1200-100-pm-149/
END:VEVENT
BEGIN:VEVENT
DTSTART;TZID=UTC:20250131T080000
DTEND;TZID=UTC:20250131T090000
DTSTAMP:20260425T125527
CREATED:20241222T172412Z
LAST-MODIFIED:20241222T172412Z
UID:5114-1738310400-1738314000@theriveroflifeworshipcenter.org
SUMMARY:Prayer Line
DESCRIPTION:
URL:https://theriveroflifeworshipcenter.org/event/prayer-line-402/
END:VEVENT
BEGIN:VEVENT
DTSTART;TZID=UTC:20250203T080000
DTEND;TZID=UTC:20250203T090000
DTSTAMP:20260425T125527
CREATED:20250126T165502Z
LAST-MODIFIED:20250126T165502Z
UID:5224-1738569600-1738573200@theriveroflifeworshipcenter.org
SUMMARY:Prayer Line
DESCRIPTION:
URL:https://theriveroflifeworshipcenter.org/event/prayer-line-403/
END:VEVENT
BEGIN:VEVENT
DTSTART;TZID=UTC:20250203T123000
DTEND;TZID=UTC:20250203T133000
DTSTAMP:20260425T125527
CREATED:20250202T042416Z
LAST-MODIFIED:20250202T042416Z
UID:5326-1738585800-1738589400@theriveroflifeworshipcenter.org
SUMMARY:Healing Service
DESCRIPTION:
URL:https://theriveroflifeworshipcenter.org/event/healing-service-13/
END:VEVENT
BEGIN:VEVENT
DTSTART;TZID=UTC:20250204T120000
DTEND;TZID=UTC:20250204T130000
DTSTAMP:20260425T125527
CREATED:20250126T170806Z
LAST-MODIFIED:20250126T170806Z
UID:5262-1738670400-1738674000@theriveroflifeworshipcenter.org
SUMMARY:Do you Need Prayer? Join us every Tuesday from 12:00-1:00 PM
DESCRIPTION:
URL:https://theriveroflifeworshipcenter.org/event/do-you-need-prayer-join-us-every-tuesday-from-1200-100-pm-152/
END:VEVENT
BEGIN:VEVENT
DTSTART;TZID=UTC:20250204T190000
DTEND;TZID=UTC:20250204T200000
DTSTAMP:20260425T125527
CREATED:20250126T170321Z
LAST-MODIFIED:20250126T170321Z
UID:5253-1738695600-1738699200@theriveroflifeworshipcenter.org
SUMMARY:Tuesday Night Virtual Bible Study
DESCRIPTION:
URL:https://theriveroflifeworshipcenter.org/event/tuesday-night-virtual-bible-study-144/
END:VEVENT
BEGIN:VEVENT
DTSTART;TZID=UTC:20250205T080000
DTEND;TZID=UTC:20250205T090000
DTSTAMP:20260425T125527
CREATED:20250126T165543Z
LAST-MODIFIED:20250126T165543Z
UID:5235-1738742400-1738746000@theriveroflifeworshipcenter.org
SUMMARY:Prayer Line
DESCRIPTION:
URL:https://theriveroflifeworshipcenter.org/event/prayer-line-404/
END:VEVENT
BEGIN:VEVENT
DTSTART;TZID=UTC:20250206T120000
DTEND;TZID=UTC:20250206T130000
DTSTAMP:20260425T125527
CREATED:20250126T171211Z
LAST-MODIFIED:20250126T171211Z
UID:5270-1738843200-1738846800@theriveroflifeworshipcenter.org
SUMMARY:Do you Need Prayer? Join us every Thursday from 12:00-1:00 PM
DESCRIPTION:
URL:https://theriveroflifeworshipcenter.org/event/do-you-need-prayer-join-us-every-thursday-from-1200-100-pm-150/
END:VEVENT
BEGIN:VEVENT
DTSTART;TZID=UTC:20250207T080000
DTEND;TZID=UTC:20250207T090000
DTSTAMP:20260425T125527
CREATED:20250126T165601Z
LAST-MODIFIED:20250126T165601Z
UID:5234-1738915200-1738918800@theriveroflifeworshipcenter.org
SUMMARY:Prayer Line
DESCRIPTION:
URL:https://theriveroflifeworshipcenter.org/event/prayer-line-405/
END:VEVENT
BEGIN:VEVENT
DTSTART;TZID=UTC:20250210T080000
DTEND;TZID=UTC:20250210T090000
DTSTAMP:20260425T125527
CREATED:20250126T165626Z
LAST-MODIFIED:20250126T165626Z
UID:5233-1739174400-1739178000@theriveroflifeworshipcenter.org
SUMMARY:Prayer Line
DESCRIPTION:
URL:https://theriveroflifeworshipcenter.org/event/prayer-line-406/
END:VEVENT
BEGIN:VEVENT
DTSTART;TZID=UTC:20250211T120000
DTEND;TZID=UTC:20250211T130000
DTSTAMP:20260425T125527
CREATED:20250126T170900Z
LAST-MODIFIED:20250126T170900Z
UID:5261-1739275200-1739278800@theriveroflifeworshipcenter.org
SUMMARY:Do you Need Prayer? Join us every Tuesday from 12:00-1:00 PM
DESCRIPTION:
URL:https://theriveroflifeworshipcenter.org/event/do-you-need-prayer-join-us-every-tuesday-from-1200-100-pm-153/
END:VEVENT
BEGIN:VEVENT
DTSTART;TZID=UTC:20250211T190000
DTEND;TZID=UTC:20250211T200000
DTSTAMP:20260425T125527
CREATED:20250126T170340Z
LAST-MODIFIED:20250126T170340Z
UID:5252-1739300400-1739304000@theriveroflifeworshipcenter.org
SUMMARY:Tuesday Night Virtual Bible Study
DESCRIPTION:
URL:https://theriveroflifeworshipcenter.org/event/tuesday-night-virtual-bible-study-145/
END:VEVENT
BEGIN:VEVENT
DTSTART;TZID=UTC:20250212T080000
DTEND;TZID=UTC:20250212T090000
DTSTAMP:20260425T125527
CREATED:20250126T165716Z
LAST-MODIFIED:20250126T165716Z
UID:5232-1739347200-1739350800@theriveroflifeworshipcenter.org
SUMMARY:Prayer Line
DESCRIPTION:
URL:https://theriveroflifeworshipcenter.org/event/prayer-line-407/
END:VEVENT
BEGIN:VEVENT
DTSTART;TZID=UTC:20250213T120000
DTEND;TZID=UTC:20250213T130000
DTSTAMP:20260425T125527
CREATED:20250126T171236Z
LAST-MODIFIED:20250126T171236Z
UID:5269-1739448000-1739451600@theriveroflifeworshipcenter.org
SUMMARY:Do you Need Prayer? Join us every Thursday from 12:00-1:00 PM
DESCRIPTION:
URL:https://theriveroflifeworshipcenter.org/event/do-you-need-prayer-join-us-every-thursday-from-1200-100-pm-151/
END:VEVENT
BEGIN:VEVENT
DTSTART;TZID=UTC:20250214T080000
DTEND;TZID=UTC:20250214T090000
DTSTAMP:20260425T125527
CREATED:20250126T165735Z
LAST-MODIFIED:20250126T165735Z
UID:5231-1739520000-1739523600@theriveroflifeworshipcenter.org
SUMMARY:Prayer Line
DESCRIPTION:
URL:https://theriveroflifeworshipcenter.org/event/prayer-line-408/
END:VEVENT
BEGIN:VEVENT
DTSTART;TZID=UTC:20250215T100000
DTEND;TZID=UTC:20250215T120000
DTSTAMP:20260425T125527
CREATED:20250202T042907Z
LAST-MODIFIED:20250202T042907Z
UID:5331-1739613600-1739620800@theriveroflifeworshipcenter.org
SUMMARY:Food Drive
DESCRIPTION:
URL:https://theriveroflifeworshipcenter.org/event/food-drive/
END:VEVENT
BEGIN:VEVENT
DTSTART;TZID=UTC:20250217T080000
DTEND;TZID=UTC:20250217T090000
DTSTAMP:20260425T125527
CREATED:20250126T165753Z
LAST-MODIFIED:20250126T165753Z
UID:5230-1739779200-1739782800@theriveroflifeworshipcenter.org
SUMMARY:Prayer Line
DESCRIPTION:
URL:https://theriveroflifeworshipcenter.org/event/prayer-line-409/
END:VEVENT
BEGIN:VEVENT
DTSTART;TZID=UTC:20250218T120000
DTEND;TZID=UTC:20250218T130000
DTSTAMP:20260425T125527
CREATED:20250126T170925Z
LAST-MODIFIED:20250126T170925Z
UID:5260-1739880000-1739883600@theriveroflifeworshipcenter.org
SUMMARY:Do you Need Prayer? Join us every Tuesday from 12:00-1:00 PM
DESCRIPTION:
URL:https://theriveroflifeworshipcenter.org/event/do-you-need-prayer-join-us-every-tuesday-from-1200-100-pm-154/
END:VEVENT
BEGIN:VEVENT
DTSTART;TZID=UTC:20250218T190000
DTEND;TZID=UTC:20250218T200000
DTSTAMP:20260425T125527
CREATED:20250126T170408Z
LAST-MODIFIED:20250126T170408Z
UID:5251-1739905200-1739908800@theriveroflifeworshipcenter.org
SUMMARY:Tuesday Night Virtual Bible Study
DESCRIPTION:
URL:https://theriveroflifeworshipcenter.org/event/tuesday-night-virtual-bible-study-146/
END:VEVENT
BEGIN:VEVENT
DTSTART;TZID=UTC:20250219T080000
DTEND;TZID=UTC:20250219T090000
DTSTAMP:20260425T125527
CREATED:20250126T165821Z
LAST-MODIFIED:20250126T165821Z
UID:5229-1739952000-1739955600@theriveroflifeworshipcenter.org
SUMMARY:Prayer Line
DESCRIPTION:
URL:https://theriveroflifeworshipcenter.org/event/prayer-line-410/
END:VEVENT
BEGIN:VEVENT
DTSTART;TZID=UTC:20250220T120000
DTEND;TZID=UTC:20250220T130000
DTSTAMP:20260425T125527
CREATED:20250126T171311Z
LAST-MODIFIED:20250126T171311Z
UID:5268-1740052800-1740056400@theriveroflifeworshipcenter.org
SUMMARY:Do you Need Prayer? Join us every Thursday from 12:00-1:00 PM
DESCRIPTION:
URL:https://theriveroflifeworshipcenter.org/event/do-you-need-prayer-join-us-every-thursday-from-1200-100-pm-152/
END:VEVENT
BEGIN:VEVENT
DTSTART;TZID=UTC:20250221T080000
DTEND;TZID=UTC:20250221T090000
DTSTAMP:20260425T125527
CREATED:20250126T165845Z
LAST-MODIFIED:20250126T165845Z
UID:5228-1740124800-1740128400@theriveroflifeworshipcenter.org
SUMMARY:Prayer Line
DESCRIPTION:
URL:https://theriveroflifeworshipcenter.org/event/prayer-line-411/
END:VEVENT
BEGIN:VEVENT
DTSTART;TZID=UTC:20250224T080000
DTEND;TZID=UTC:20250224T090000
DTSTAMP:20260425T125527
CREATED:20250126T165948Z
LAST-MODIFIED:20250126T165948Z
UID:5227-1740384000-1740387600@theriveroflifeworshipcenter.org
SUMMARY:Prayer Line
DESCRIPTION:
URL:https://theriveroflifeworshipcenter.org/event/prayer-line-412/
END:VEVENT
BEGIN:VEVENT
DTSTART;TZID=UTC:20250225T120000
DTEND;TZID=UTC:20250225T130000
DTSTAMP:20260425T125527
CREATED:20250126T170949Z
LAST-MODIFIED:20250126T170949Z
UID:5259-1740484800-1740488400@theriveroflifeworshipcenter.org
SUMMARY:Do you Need Prayer? Join us every Tuesday from 12:00-1:00 PM
DESCRIPTION:
URL:https://theriveroflifeworshipcenter.org/event/do-you-need-prayer-join-us-every-tuesday-from-1200-100-pm-155/
END:VEVENT
END:VCALENDAR