BEGIN:VCALENDAR
VERSION:2.0
PRODID:-//River of Life Worship Center - ECPv6.15.20//NONSGML v1.0//EN
CALSCALE:GREGORIAN
METHOD:PUBLISH
X-WR-CALNAME:River of Life Worship Center
X-ORIGINAL-URL:https://theriveroflifeworshipcenter.org
X-WR-CALDESC:Events for River of Life Worship Center
REFRESH-INTERVAL;VALUE=DURATION:PT1H
X-Robots-Tag:noindex
X-PUBLISHED-TTL:PT1H
BEGIN:VTIMEZONE
TZID:UTC
BEGIN:STANDARD
TZOFFSETFROM:+0000
TZOFFSETTO:+0000
TZNAME:UTC
DTSTART:20230101T000000
END:STANDARD
END:VTIMEZONE
BEGIN:VEVENT
DTSTART;TZID=UTC:20240913T080000
DTEND;TZID=UTC:20240913T090000
DTSTAMP:20260425T125408
CREATED:20240826T001217Z
LAST-MODIFIED:20240826T001217Z
UID:4761-1726214400-1726218000@theriveroflifeworshipcenter.org
SUMMARY:Prayer Line
DESCRIPTION:
URL:https://theriveroflifeworshipcenter.org/event/prayer-line-342/
END:VEVENT
BEGIN:VEVENT
DTSTART;TZID=UTC:20240912T120000
DTEND;TZID=UTC:20240912T130000
DTSTAMP:20260425T125408
CREATED:20240827T003257Z
LAST-MODIFIED:20240827T003257Z
UID:4808-1726142400-1726146000@theriveroflifeworshipcenter.org
SUMMARY:Do you Need Prayer? Join us every Thursday from 12:00-1:00 PM
DESCRIPTION:
URL:https://theriveroflifeworshipcenter.org/event/do-you-need-prayer-join-us-every-thursday-from-1200-100-pm-129/
END:VEVENT
BEGIN:VEVENT
DTSTART;TZID=UTC:20240911T080000
DTEND;TZID=UTC:20240911T090000
DTSTAMP:20260425T125408
CREATED:20240826T001109Z
LAST-MODIFIED:20240826T001109Z
UID:4762-1726041600-1726045200@theriveroflifeworshipcenter.org
SUMMARY:Prayer Line
DESCRIPTION:
URL:https://theriveroflifeworshipcenter.org/event/prayer-line-341/
END:VEVENT
BEGIN:VEVENT
DTSTART;TZID=UTC:20240910T190000
DTEND;TZID=UTC:20240910T200000
DTSTAMP:20260425T125408
CREATED:20240827T001635Z
LAST-MODIFIED:20240827T001635Z
UID:4801-1725994800-1725998400@theriveroflifeworshipcenter.org
SUMMARY:Tuesday Night Virtual Bible Study
DESCRIPTION:
URL:https://theriveroflifeworshipcenter.org/event/tuesday-night-virtual-bible-study-124/
END:VEVENT
BEGIN:VEVENT
DTSTART;TZID=UTC:20240910T120000
DTEND;TZID=UTC:20240910T130000
DTSTAMP:20260425T125408
CREATED:20240826T003409Z
LAST-MODIFIED:20240826T003454Z
UID:4785-1725969600-1725973200@theriveroflifeworshipcenter.org
SUMMARY:Do you Need Prayer? Join us every Tuesday from 12:00-1:00 PM
DESCRIPTION:
URL:https://theriveroflifeworshipcenter.org/event/do-you-need-prayer-join-us-every-tuesday-from-1200-100-pm-132/
END:VEVENT
BEGIN:VEVENT
DTSTART;TZID=UTC:20240909T080000
DTEND;TZID=UTC:20240909T090000
DTSTAMP:20260425T125408
CREATED:20240826T001009Z
LAST-MODIFIED:20240826T001009Z
UID:4763-1725868800-1725872400@theriveroflifeworshipcenter.org
SUMMARY:Prayer Line
DESCRIPTION:
URL:https://theriveroflifeworshipcenter.org/event/prayer-line-340/
END:VEVENT
BEGIN:VEVENT
DTSTART;TZID=UTC:20240906T080000
DTEND;TZID=UTC:20240906T090000
DTSTAMP:20260425T125408
CREATED:20240826T000204Z
LAST-MODIFIED:20240826T000204Z
UID:4764-1725609600-1725613200@theriveroflifeworshipcenter.org
SUMMARY:Prayer Line
DESCRIPTION:
URL:https://theriveroflifeworshipcenter.org/event/prayer-line-339/
END:VEVENT
BEGIN:VEVENT
DTSTART;TZID=UTC:20240905T120000
DTEND;TZID=UTC:20240905T130000
DTSTAMP:20260425T125408
CREATED:20240827T003158Z
LAST-MODIFIED:20240827T003158Z
UID:4809-1725537600-1725541200@theriveroflifeworshipcenter.org
SUMMARY:Do you Need Prayer? Join us every Thursday from 12:00-1:00 PM
DESCRIPTION:
URL:https://theriveroflifeworshipcenter.org/event/do-you-need-prayer-join-us-every-thursday-from-1200-100-pm-128/
END:VEVENT
BEGIN:VEVENT
DTSTART;TZID=UTC:20240904T080000
DTEND;TZID=UTC:20240904T090000
DTSTAMP:20260425T125408
CREATED:20240826T000133Z
LAST-MODIFIED:20240826T000133Z
UID:4765-1725436800-1725440400@theriveroflifeworshipcenter.org
SUMMARY:Prayer Line
DESCRIPTION:
URL:https://theriveroflifeworshipcenter.org/event/prayer-line-338/
END:VEVENT
BEGIN:VEVENT
DTSTART;TZID=UTC:20240903T190000
DTEND;TZID=UTC:20240903T200000
DTSTAMP:20260425T125408
CREATED:20240827T001401Z
LAST-MODIFIED:20240827T001401Z
UID:4800-1725390000-1725393600@theriveroflifeworshipcenter.org
SUMMARY:Tuesday Night Virtual Bible Study
DESCRIPTION:
URL:https://theriveroflifeworshipcenter.org/event/tuesday-night-virtual-bible-study-123/
END:VEVENT
BEGIN:VEVENT
DTSTART;TZID=UTC:20240903T120000
DTEND;TZID=UTC:20240903T130000
DTSTAMP:20260425T125408
CREATED:20240623T154341Z
LAST-MODIFIED:20240826T003045Z
UID:4615-1725364800-1725368400@theriveroflifeworshipcenter.org
SUMMARY:Do you Need Prayer? Join us every Tuesday from 12:00-1:00 PM
DESCRIPTION:
URL:https://theriveroflifeworshipcenter.org/event/do-you-need-prayer-join-us-every-tuesday-from-1200-100-pm-131/
END:VEVENT
BEGIN:VEVENT
DTSTART;TZID=UTC:20240902T080000
DTEND;TZID=UTC:20240902T090000
DTSTAMP:20260425T125408
CREATED:20240826T000105Z
LAST-MODIFIED:20240826T000105Z
UID:4766-1725264000-1725267600@theriveroflifeworshipcenter.org
SUMMARY:Prayer Line
DESCRIPTION:
URL:https://theriveroflifeworshipcenter.org/event/prayer-line-337/
END:VEVENT
BEGIN:VEVENT
DTSTART;TZID=UTC:20240830T080000
DTEND;TZID=UTC:20240830T090000
DTSTAMP:20260425T125408
CREATED:20240623T153751Z
LAST-MODIFIED:20240623T153751Z
UID:4581-1725004800-1725008400@theriveroflifeworshipcenter.org
SUMMARY:Prayer Line
DESCRIPTION:
URL:https://theriveroflifeworshipcenter.org/event/prayer-line-336/
END:VEVENT
BEGIN:VEVENT
DTSTART;TZID=UTC:20240829T120000
DTEND;TZID=UTC:20240829T130000
DTSTAMP:20260425T125408
CREATED:20240623T201842Z
LAST-MODIFIED:20240623T201842Z
UID:4634-1724932800-1724936400@theriveroflifeworshipcenter.org
SUMMARY:Do you Need Prayer? Join us every Thursday from 12:00-1:00 PM
DESCRIPTION:
URL:https://theriveroflifeworshipcenter.org/event/do-you-need-prayer-join-us-every-thursday-from-1200-100-pm-127/
END:VEVENT
BEGIN:VEVENT
DTSTART;VALUE=DATE:20240829
DTEND;VALUE=DATE:20240830
DTSTAMP:20260425T125408
CREATED:20240623T155023Z
LAST-MODIFIED:20240623T155023Z
UID:4623-1724889600-1724975999@theriveroflifeworshipcenter.org
SUMMARY:Home Front Ministry Open for appointments
DESCRIPTION:
URL:https://theriveroflifeworshipcenter.org/event/home-front-ministry-open-for-appointments-13/
END:VEVENT
BEGIN:VEVENT
DTSTART;TZID=UTC:20240828T080000
DTEND;TZID=UTC:20240828T090000
DTSTAMP:20260425T125408
CREATED:20240623T153725Z
LAST-MODIFIED:20240623T153725Z
UID:4582-1724832000-1724835600@theriveroflifeworshipcenter.org
SUMMARY:Prayer Line
DESCRIPTION:
URL:https://theriveroflifeworshipcenter.org/event/prayer-line-335/
END:VEVENT
BEGIN:VEVENT
DTSTART;TZID=UTC:20240827T190000
DTEND;TZID=UTC:20240827T200000
DTSTAMP:20260425T125408
CREATED:20240623T154107Z
LAST-MODIFIED:20240623T154107Z
UID:4607-1724785200-1724788800@theriveroflifeworshipcenter.org
SUMMARY:Tuesday Night Virtual Bible Study
DESCRIPTION:
URL:https://theriveroflifeworshipcenter.org/event/tuesday-night-virtual-bible-study-122/
END:VEVENT
BEGIN:VEVENT
DTSTART;TZID=UTC:20240826T080000
DTEND;TZID=UTC:20240826T090000
DTSTAMP:20260425T125408
CREATED:20240623T153706Z
LAST-MODIFIED:20240623T153706Z
UID:4583-1724659200-1724662800@theriveroflifeworshipcenter.org
SUMMARY:Prayer Line
DESCRIPTION:
URL:https://theriveroflifeworshipcenter.org/event/prayer-line-334/
END:VEVENT
BEGIN:VEVENT
DTSTART;TZID=UTC:20240823T080000
DTEND;TZID=UTC:20240823T090000
DTSTAMP:20260425T125408
CREATED:20240623T153646Z
LAST-MODIFIED:20240623T153646Z
UID:4584-1724400000-1724403600@theriveroflifeworshipcenter.org
SUMMARY:Prayer Line
DESCRIPTION:
URL:https://theriveroflifeworshipcenter.org/event/prayer-line-333/
END:VEVENT
BEGIN:VEVENT
DTSTART;TZID=UTC:20240822T120000
DTEND;TZID=UTC:20240822T130000
DTSTAMP:20260425T125408
CREATED:20240623T201814Z
LAST-MODIFIED:20240623T201814Z
UID:4633-1724328000-1724331600@theriveroflifeworshipcenter.org
SUMMARY:Do you Need Prayer? Join us every Thursday from 12:00-1:00 PM
DESCRIPTION:
URL:https://theriveroflifeworshipcenter.org/event/do-you-need-prayer-join-us-every-thursday-from-1200-100-pm-126/
END:VEVENT
BEGIN:VEVENT
DTSTART;VALUE=DATE:20240822
DTEND;VALUE=DATE:20240823
DTSTAMP:20260425T125408
CREATED:20240623T154954Z
LAST-MODIFIED:20240623T154954Z
UID:4624-1724284800-1724371199@theriveroflifeworshipcenter.org
SUMMARY:Home Front Ministry Open for appointments
DESCRIPTION:
URL:https://theriveroflifeworshipcenter.org/event/home-front-ministry-open-for-appointments-12/
END:VEVENT
BEGIN:VEVENT
DTSTART;TZID=UTC:20240821T080000
DTEND;TZID=UTC:20240821T090000
DTSTAMP:20260425T125408
CREATED:20240623T153626Z
LAST-MODIFIED:20240623T153626Z
UID:4585-1724227200-1724230800@theriveroflifeworshipcenter.org
SUMMARY:Prayer Line
DESCRIPTION:
URL:https://theriveroflifeworshipcenter.org/event/prayer-line-332/
END:VEVENT
BEGIN:VEVENT
DTSTART;TZID=UTC:20240820T190000
DTEND;TZID=UTC:20240820T200000
DTSTAMP:20260425T125408
CREATED:20240623T154044Z
LAST-MODIFIED:20240818T190134Z
UID:4608-1724180400-1724184000@theriveroflifeworshipcenter.org
SUMMARY:Tuesday Night Virtual Bible Study
DESCRIPTION:
URL:https://theriveroflifeworshipcenter.org/event/tuesday-night-virtual-bible-study-121/
END:VEVENT
BEGIN:VEVENT
DTSTART;TZID=UTC:20240820T120000
DTEND;TZID=UTC:20240820T130000
DTSTAMP:20260425T125408
CREATED:20240623T154318Z
LAST-MODIFIED:20240623T154318Z
UID:4616-1724155200-1724158800@theriveroflifeworshipcenter.org
SUMMARY:Do you Need Prayer? Join us every Tuesday from 12:00-1:00 PM
DESCRIPTION:
URL:https://theriveroflifeworshipcenter.org/event/do-you-need-prayer-join-us-every-tuesday-from-1200-100-pm-130/
END:VEVENT
BEGIN:VEVENT
DTSTART;TZID=UTC:20240819T080000
DTEND;TZID=UTC:20240819T090000
DTSTAMP:20260425T125408
CREATED:20240623T153608Z
LAST-MODIFIED:20240623T153608Z
UID:4586-1724054400-1724058000@theriveroflifeworshipcenter.org
SUMMARY:Prayer Line
DESCRIPTION:
URL:https://theriveroflifeworshipcenter.org/event/prayer-line-331/
END:VEVENT
BEGIN:VEVENT
DTSTART;TZID=UTC:20240816T080000
DTEND;TZID=UTC:20240816T090000
DTSTAMP:20260425T125408
CREATED:20240623T153536Z
LAST-MODIFIED:20240623T153536Z
UID:4587-1723795200-1723798800@theriveroflifeworshipcenter.org
SUMMARY:Prayer Line
DESCRIPTION:
URL:https://theriveroflifeworshipcenter.org/event/prayer-line-330/
END:VEVENT
BEGIN:VEVENT
DTSTART;TZID=UTC:20240815T120000
DTEND;TZID=UTC:20240815T130000
DTSTAMP:20260425T125408
CREATED:20240623T155345Z
LAST-MODIFIED:20240623T155345Z
UID:4635-1723723200-1723726800@theriveroflifeworshipcenter.org
SUMMARY:Do you Need Prayer? Join us every Thursday from 12:00-1:00 PM
DESCRIPTION:
URL:https://theriveroflifeworshipcenter.org/event/do-you-need-prayer-join-us-every-thursday-from-1200-100-pm-125/
END:VEVENT
BEGIN:VEVENT
DTSTART;VALUE=DATE:20240815
DTEND;VALUE=DATE:20240816
DTSTAMP:20260425T125408
CREATED:20240623T154926Z
LAST-MODIFIED:20240623T154926Z
UID:4625-1723680000-1723766399@theriveroflifeworshipcenter.org
SUMMARY:Home Front Ministry Open for appointments
DESCRIPTION:
URL:https://theriveroflifeworshipcenter.org/event/home-front-ministry-open-for-appointments-11/
END:VEVENT
BEGIN:VEVENT
DTSTART;TZID=UTC:20240814T080000
DTEND;TZID=UTC:20240814T090000
DTSTAMP:20260425T125408
CREATED:20240623T153516Z
LAST-MODIFIED:20240623T153516Z
UID:4588-1723622400-1723626000@theriveroflifeworshipcenter.org
SUMMARY:Prayer Line
DESCRIPTION:
URL:https://theriveroflifeworshipcenter.org/event/prayer-line-329/
END:VEVENT
BEGIN:VEVENT
DTSTART;TZID=UTC:20240813T190000
DTEND;TZID=UTC:20240813T200000
DTSTAMP:20260425T125408
CREATED:20240623T154019Z
LAST-MODIFIED:20240623T154019Z
UID:4609-1723575600-1723579200@theriveroflifeworshipcenter.org
SUMMARY:Tuesday Night Virtual Bible Study
DESCRIPTION:
URL:https://theriveroflifeworshipcenter.org/event/tuesday-night-virtual-bible-study-120/
END:VEVENT
END:VCALENDAR