BEGIN:VCALENDAR
VERSION:2.0
PRODID:-//River of Life Worship Center - ECPv6.15.20//NONSGML v1.0//EN
CALSCALE:GREGORIAN
METHOD:PUBLISH
X-ORIGINAL-URL:https://theriveroflifeworshipcenter.org
X-WR-CALDESC:Events for River of Life Worship Center
REFRESH-INTERVAL;VALUE=DURATION:PT1H
X-Robots-Tag:noindex
X-PUBLISHED-TTL:PT1H
BEGIN:VTIMEZONE
TZID:UTC
BEGIN:STANDARD
TZOFFSETFROM:+0000
TZOFFSETTO:+0000
TZNAME:UTC
DTSTART:20250101T000000
END:STANDARD
END:VTIMEZONE
BEGIN:VEVENT
DTSTART;TZID=UTC:20260408T080000
DTEND;TZID=UTC:20260408T090000
DTSTAMP:20260424T000340
CREATED:20260330T052414Z
LAST-MODIFIED:20260330T052414Z
UID:7242-1775635200-1775638800@theriveroflifeworshipcenter.org
SUMMARY:Prayer Line
DESCRIPTION:
URL:https://theriveroflifeworshipcenter.org/event/prayer-line-588/
END:VEVENT
BEGIN:VEVENT
DTSTART;TZID=UTC:20260408T190000
DTEND;TZID=UTC:20260408T200000
DTSTAMP:20260424T000340
CREATED:20260323T203602Z
LAST-MODIFIED:20260323T203602Z
UID:7200-1775674800-1775678400@theriveroflifeworshipcenter.org
SUMMARY:Spanish Classes
DESCRIPTION:
URL:https://theriveroflifeworshipcenter.org/event/spanish-classes-5/
END:VEVENT
BEGIN:VEVENT
DTSTART;TZID=UTC:20260409T120000
DTEND;TZID=UTC:20260409T130000
DTSTAMP:20260424T000340
CREATED:20260330T053748Z
LAST-MODIFIED:20260330T053748Z
UID:7273-1775736000-1775739600@theriveroflifeworshipcenter.org
SUMMARY:Do you Need Prayer? Join us every Thursday from 12:00-1:00 PM
DESCRIPTION:
URL:https://theriveroflifeworshipcenter.org/event/do-you-need-prayer-join-us-every-thursday-from-1200-100-pm-211/
END:VEVENT
BEGIN:VEVENT
DTSTART;TZID=UTC:20260410T080000
DTEND;TZID=UTC:20260410T090000
DTSTAMP:20260424T000340
CREATED:20260330T052749Z
LAST-MODIFIED:20260330T052749Z
UID:7237-1775808000-1775811600@theriveroflifeworshipcenter.org
SUMMARY:Prayer Line
DESCRIPTION:
URL:https://theriveroflifeworshipcenter.org/event/prayer-line-593/
END:VEVENT
BEGIN:VEVENT
DTSTART;TZID=UTC:20260413T080000
DTEND;TZID=UTC:20260413T090000
DTSTAMP:20260424T000340
CREATED:20260330T052129Z
LAST-MODIFIED:20260330T052129Z
UID:7246-1776067200-1776070800@theriveroflifeworshipcenter.org
SUMMARY:Prayer Line
DESCRIPTION:
URL:https://theriveroflifeworshipcenter.org/event/prayer-line-584/
END:VEVENT
BEGIN:VEVENT
DTSTART;TZID=UTC:20260414T120000
DTEND;TZID=UTC:20260414T130000
DTSTAMP:20260424T000340
CREATED:20260330T053245Z
LAST-MODIFIED:20260330T053245Z
UID:7265-1776168000-1776171600@theriveroflifeworshipcenter.org
SUMMARY:Do you Need Prayer? Join us every Tuesday from 12:00-1:00 PM
DESCRIPTION:
URL:https://theriveroflifeworshipcenter.org/event/do-you-need-prayer-join-us-every-tuesday-from-1200-100-pm-214/
END:VEVENT
BEGIN:VEVENT
DTSTART;TZID=UTC:20260414T190000
DTEND;TZID=UTC:20260414T200000
DTSTAMP:20260424T000340
CREATED:20260330T051601Z
LAST-MODIFIED:20260330T051601Z
UID:7231-1776193200-1776196800@theriveroflifeworshipcenter.org
SUMMARY:Tuesday Night Virtual Bible Study
DESCRIPTION:
URL:https://theriveroflifeworshipcenter.org/event/tuesday-night-virtual-bible-study-206/
END:VEVENT
BEGIN:VEVENT
DTSTART;TZID=UTC:20260415T080000
DTEND;TZID=UTC:20260415T090000
DTSTAMP:20260424T000340
CREATED:20260330T052444Z
LAST-MODIFIED:20260330T052444Z
UID:7241-1776240000-1776243600@theriveroflifeworshipcenter.org
SUMMARY:Prayer Line
DESCRIPTION:
URL:https://theriveroflifeworshipcenter.org/event/prayer-line-589/
END:VEVENT
BEGIN:VEVENT
DTSTART;TZID=UTC:20260415T190000
DTEND;TZID=UTC:20260415T200000
DTSTAMP:20260424T000340
CREATED:20260323T203657Z
LAST-MODIFIED:20260323T203657Z
UID:7202-1776279600-1776283200@theriveroflifeworshipcenter.org
SUMMARY:Spanish Classes
DESCRIPTION:
URL:https://theriveroflifeworshipcenter.org/event/spanish-classes-6/
END:VEVENT
BEGIN:VEVENT
DTSTART;TZID=UTC:20260416T120000
DTEND;TZID=UTC:20260416T130000
DTSTAMP:20260424T000340
CREATED:20260330T053825Z
LAST-MODIFIED:20260330T053825Z
UID:7272-1776340800-1776344400@theriveroflifeworshipcenter.org
SUMMARY:Do you Need Prayer? Join us every Thursday from 12:00-1:00 PM
DESCRIPTION:
URL:https://theriveroflifeworshipcenter.org/event/do-you-need-prayer-join-us-every-thursday-from-1200-100-pm-212/
END:VEVENT
BEGIN:VEVENT
DTSTART;TZID=UTC:20260417T080000
DTEND;TZID=UTC:20260417T090000
DTSTAMP:20260424T000340
CREATED:20260330T052843Z
LAST-MODIFIED:20260330T052843Z
UID:7259-1776412800-1776416400@theriveroflifeworshipcenter.org
SUMMARY:Prayer Line
DESCRIPTION:
URL:https://theriveroflifeworshipcenter.org/event/prayer-line-594/
END:VEVENT
BEGIN:VEVENT
DTSTART;TZID=UTC:20260417T120000
DTEND;TZID=UTC:20260417T130000
DTSTAMP:20260424T000340
CREATED:20260330T053926Z
LAST-MODIFIED:20260330T053926Z
UID:7278-1776427200-1776430800@theriveroflifeworshipcenter.org
SUMMARY:Do you Need Prayer? Join us every Thursday from 12:00-1:00 PM
DESCRIPTION:
URL:https://theriveroflifeworshipcenter.org/event/do-you-need-prayer-join-us-every-thursday-from-1200-100-pm-213/
END:VEVENT
BEGIN:VEVENT
DTSTART;TZID=UTC:20260418T100000
DTEND;TZID=UTC:20260418T120000
DTSTAMP:20260424T000340
CREATED:20260323T205227Z
LAST-MODIFIED:20260323T205227Z
UID:7216-1776506400-1776513600@theriveroflifeworshipcenter.org
SUMMARY:Outreach Event
DESCRIPTION:
URL:https://theriveroflifeworshipcenter.org/event/outreach-event-5/
END:VEVENT
BEGIN:VEVENT
DTSTART;TZID=UTC:20260420T080000
DTEND;TZID=UTC:20260420T090000
DTSTAMP:20260424T000340
CREATED:20260330T052209Z
LAST-MODIFIED:20260330T052209Z
UID:7245-1776672000-1776675600@theriveroflifeworshipcenter.org
SUMMARY:Prayer Line
DESCRIPTION:
URL:https://theriveroflifeworshipcenter.org/event/prayer-line-585/
END:VEVENT
BEGIN:VEVENT
DTSTART;TZID=UTC:20260421T120000
DTEND;TZID=UTC:20260421T130000
DTSTAMP:20260424T000340
CREATED:20260330T053321Z
LAST-MODIFIED:20260330T053321Z
UID:7264-1776772800-1776776400@theriveroflifeworshipcenter.org
SUMMARY:Do you Need Prayer? Join us every Tuesday from 12:00-1:00 PM
DESCRIPTION:
URL:https://theriveroflifeworshipcenter.org/event/do-you-need-prayer-join-us-every-tuesday-from-1200-100-pm-215/
END:VEVENT
BEGIN:VEVENT
DTSTART;TZID=UTC:20260421T190000
DTEND;TZID=UTC:20260421T200000
DTSTAMP:20260424T000340
CREATED:20260330T051622Z
LAST-MODIFIED:20260330T051622Z
UID:7230-1776798000-1776801600@theriveroflifeworshipcenter.org
SUMMARY:Tuesday Night Virtual Bible Study
DESCRIPTION:
URL:https://theriveroflifeworshipcenter.org/event/tuesday-night-virtual-bible-study-207/
END:VEVENT
BEGIN:VEVENT
DTSTART;TZID=UTC:20260422T080000
DTEND;TZID=UTC:20260422T090000
DTSTAMP:20260424T000340
CREATED:20260330T052509Z
LAST-MODIFIED:20260330T052509Z
UID:7240-1776844800-1776848400@theriveroflifeworshipcenter.org
SUMMARY:Prayer Line
DESCRIPTION:
URL:https://theriveroflifeworshipcenter.org/event/prayer-line-590/
END:VEVENT
BEGIN:VEVENT
DTSTART;TZID=UTC:20260422T190000
DTEND;TZID=UTC:20260422T200000
DTSTAMP:20260424T000340
CREATED:20260323T203744Z
LAST-MODIFIED:20260323T203744Z
UID:7204-1776884400-1776888000@theriveroflifeworshipcenter.org
SUMMARY:Spanish Classes
DESCRIPTION:
URL:https://theriveroflifeworshipcenter.org/event/spanish-classes-7/
END:VEVENT
BEGIN:VEVENT
DTSTART;TZID=UTC:20260423T120000
DTEND;TZID=UTC:20260423T130000
DTSTAMP:20260424T000340
CREATED:20260330T054140Z
LAST-MODIFIED:20260330T054140Z
UID:7281-1776945600-1776949200@theriveroflifeworshipcenter.org
SUMMARY:Do you Need Prayer? Join us every Thursday from 12:00-1:00 PM
DESCRIPTION:
URL:https://theriveroflifeworshipcenter.org/event/do-you-need-prayer-join-us-every-thursday-from-1200-100-pm-215/
END:VEVENT
BEGIN:VEVENT
DTSTART;TZID=UTC:20260424T080000
DTEND;TZID=UTC:20260424T090000
DTSTAMP:20260424T000340
CREATED:20260330T052928Z
LAST-MODIFIED:20260330T052928Z
UID:7261-1777017600-1777021200@theriveroflifeworshipcenter.org
SUMMARY:Prayer Line
DESCRIPTION:
URL:https://theriveroflifeworshipcenter.org/event/prayer-line-595/
END:VEVENT
BEGIN:VEVENT
DTSTART;VALUE=DATE:20260425
DTEND;VALUE=DATE:20260427
DTSTAMP:20260424T000340
CREATED:20260323T203944Z
LAST-MODIFIED:20260408T015302Z
UID:7206-1777075200-1777247999@theriveroflifeworshipcenter.org
SUMMARY:Project Life Conference
DESCRIPTION:
URL:https://theriveroflifeworshipcenter.org/event/project-life-conference-6/
END:VEVENT
BEGIN:VEVENT
DTSTART;TZID=UTC:20260425T100000
DTEND;TZID=UTC:20260425T123000
DTSTAMP:20260424T000340
CREATED:20260323T204636Z
LAST-MODIFIED:20260323T204852Z
UID:7212-1777111200-1777120200@theriveroflifeworshipcenter.org
SUMMARY:Harvest for Harvest Tree Maintenance
DESCRIPTION:
URL:https://theriveroflifeworshipcenter.org/event/harvest-for-harvest-event/
LOCATION:River of Life Worship Center\, 8232 Redmiles Ln\, Odenton\, United States
END:VEVENT
BEGIN:VEVENT
DTSTART;TZID=UTC:20260426T103000
DTEND;TZID=UTC:20260426T120000
DTSTAMP:20260424T000340
CREATED:20260326T000341Z
LAST-MODIFIED:20260408T014526Z
UID:7225-1777199400-1777204800@theriveroflifeworshipcenter.org
SUMMARY:Project Life Conference
DESCRIPTION:
URL:https://theriveroflifeworshipcenter.org/event/project-life-conference-7/
END:VEVENT
BEGIN:VEVENT
DTSTART;TZID=UTC:20260427T080000
DTEND;TZID=UTC:20260427T090000
DTSTAMP:20260424T000340
CREATED:20260330T052237Z
LAST-MODIFIED:20260330T052237Z
UID:7244-1777276800-1777280400@theriveroflifeworshipcenter.org
SUMMARY:Prayer Line
DESCRIPTION:
URL:https://theriveroflifeworshipcenter.org/event/prayer-line-586/
END:VEVENT
BEGIN:VEVENT
DTSTART;TZID=UTC:20260428T120000
DTEND;TZID=UTC:20260428T130000
DTSTAMP:20260424T000340
CREATED:20260330T053348Z
LAST-MODIFIED:20260330T053348Z
UID:7263-1777377600-1777381200@theriveroflifeworshipcenter.org
SUMMARY:Do you Need Prayer? Join us every Tuesday from 12:00-1:00 PM
DESCRIPTION:
URL:https://theriveroflifeworshipcenter.org/event/do-you-need-prayer-join-us-every-tuesday-from-1200-100-pm-216/
END:VEVENT
BEGIN:VEVENT
DTSTART;TZID=UTC:20260428T190000
DTEND;TZID=UTC:20260428T200000
DTSTAMP:20260424T000340
CREATED:20260330T051654Z
LAST-MODIFIED:20260330T051654Z
UID:7229-1777402800-1777406400@theriveroflifeworshipcenter.org
SUMMARY:Tuesday Night Virtual Bible Study
DESCRIPTION:
URL:https://theriveroflifeworshipcenter.org/event/tuesday-night-virtual-bible-study-208/
END:VEVENT
BEGIN:VEVENT
DTSTART;TZID=UTC:20260429T080000
DTEND;TZID=UTC:20260429T090000
DTSTAMP:20260424T000340
CREATED:20260330T052545Z
LAST-MODIFIED:20260330T052545Z
UID:7239-1777449600-1777453200@theriveroflifeworshipcenter.org
SUMMARY:Prayer Line
DESCRIPTION:
URL:https://theriveroflifeworshipcenter.org/event/prayer-line-591/
END:VEVENT
BEGIN:VEVENT
DTSTART;VALUE=DATE:20260430
DTEND;VALUE=DATE:20260503
DTSTAMP:20260424T000340
CREATED:20260210T071956Z
LAST-MODIFIED:20260210T071956Z
UID:6941-1777507200-1777766399@theriveroflifeworshipcenter.org
SUMMARY:Women's Retreat
DESCRIPTION:
URL:https://theriveroflifeworshipcenter.org/event/womens-retreat/
END:VEVENT
BEGIN:VEVENT
DTSTART;TZID=UTC:20260430T120000
DTEND;TZID=UTC:20260430T130000
DTSTAMP:20260424T000340
CREATED:20260330T054007Z
LAST-MODIFIED:20260330T054007Z
UID:7271-1777550400-1777554000@theriveroflifeworshipcenter.org
SUMMARY:Do you Need Prayer? Join us every Thursday from 12:00-1:00 PM
DESCRIPTION:
URL:https://theriveroflifeworshipcenter.org/event/do-you-need-prayer-join-us-every-thursday-from-1200-100-pm-214/
END:VEVENT
BEGIN:VEVENT
DTSTART;TZID=UTC:20260501T080000
DTEND;TZID=UTC:20260501T090000
DTSTAMP:20260424T000340
CREATED:20260330T054602Z
LAST-MODIFIED:20260330T054602Z
UID:7295-1777622400-1777626000@theriveroflifeworshipcenter.org
SUMMARY:Prayer Line
DESCRIPTION:
URL:https://theriveroflifeworshipcenter.org/event/prayer-line-596/
END:VEVENT
END:VCALENDAR