BEGIN:VCALENDAR
VERSION:2.0
PRODID:-//River of Life Worship Center - ECPv6.15.20//NONSGML v1.0//EN
CALSCALE:GREGORIAN
METHOD:PUBLISH
X-WR-CALNAME:River of Life Worship Center
X-ORIGINAL-URL:https://theriveroflifeworshipcenter.org
X-WR-CALDESC:Events for River of Life Worship Center
REFRESH-INTERVAL;VALUE=DURATION:PT1H
X-Robots-Tag:noindex
X-PUBLISHED-TTL:PT1H
BEGIN:VTIMEZONE
TZID:UTC
BEGIN:STANDARD
TZOFFSETFROM:+0000
TZOFFSETTO:+0000
TZNAME:UTC
DTSTART:20240101T000000
END:STANDARD
END:VTIMEZONE
BEGIN:VEVENT
DTSTART;TZID=UTC:20251209T190000
DTEND;TZID=UTC:20251209T200000
DTSTAMP:20260424T083825
CREATED:20251019T154850Z
LAST-MODIFIED:20251019T154850Z
UID:6457-1765306800-1765310400@theriveroflifeworshipcenter.org
SUMMARY:Tuesday Night Virtual Bible Study
DESCRIPTION:
URL:https://theriveroflifeworshipcenter.org/event/tuesday-night-virtual-bible-study-188/
END:VEVENT
BEGIN:VEVENT
DTSTART;TZID=UTC:20251210T080000
DTEND;TZID=UTC:20251210T090000
DTSTAMP:20260424T083825
CREATED:20251019T154407Z
LAST-MODIFIED:20251019T154407Z
UID:6436-1765353600-1765357200@theriveroflifeworshipcenter.org
SUMMARY:Prayer Line
DESCRIPTION:
URL:https://theriveroflifeworshipcenter.org/event/prayer-line-535/
END:VEVENT
BEGIN:VEVENT
DTSTART;TZID=UTC:20251211T120000
DTEND;TZID=UTC:20251211T130000
DTSTAMP:20260424T083825
CREATED:20251019T155711Z
LAST-MODIFIED:20251019T155711Z
UID:6478-1765454400-1765458000@theriveroflifeworshipcenter.org
SUMMARY:Do you Need Prayer? Join us every Thursday from 12:00-1:00 PM
DESCRIPTION:
URL:https://theriveroflifeworshipcenter.org/event/do-you-need-prayer-join-us-every-thursday-from-1200-100-pm-194/
END:VEVENT
BEGIN:VEVENT
DTSTART;TZID=UTC:20251212T080000
DTEND;TZID=UTC:20251212T090000
DTSTAMP:20260424T083825
CREATED:20251019T154425Z
LAST-MODIFIED:20251019T154425Z
UID:6435-1765526400-1765530000@theriveroflifeworshipcenter.org
SUMMARY:Prayer Line
DESCRIPTION:
URL:https://theriveroflifeworshipcenter.org/event/prayer-line-536/
END:VEVENT
BEGIN:VEVENT
DTSTART;TZID=UTC:20251214T103000
DTEND;TZID=UTC:20251214T130000
DTSTAMP:20260424T083825
CREATED:20251123T041844Z
LAST-MODIFIED:20251123T041844Z
UID:6546-1765708200-1765717200@theriveroflifeworshipcenter.org
SUMMARY:Memorial Scholarship
DESCRIPTION:
URL:https://theriveroflifeworshipcenter.org/event/memorial-scholarship/
END:VEVENT
BEGIN:VEVENT
DTSTART;TZID=UTC:20251215T080000
DTEND;TZID=UTC:20251215T090000
DTSTAMP:20260424T083825
CREATED:20251019T154445Z
LAST-MODIFIED:20251019T154445Z
UID:6434-1765785600-1765789200@theriveroflifeworshipcenter.org
SUMMARY:Prayer Line
DESCRIPTION:
URL:https://theriveroflifeworshipcenter.org/event/prayer-line-537/
END:VEVENT
BEGIN:VEVENT
DTSTART;TZID=UTC:20251216T120000
DTEND;TZID=UTC:20251216T130000
DTSTAMP:20260424T083825
CREATED:20251019T155352Z
LAST-MODIFIED:20251019T155352Z
UID:6468-1765886400-1765890000@theriveroflifeworshipcenter.org
SUMMARY:Do you Need Prayer? Join us every Tuesday from 12:00-1:00 PM
DESCRIPTION:
URL:https://theriveroflifeworshipcenter.org/event/do-you-need-prayer-join-us-every-tuesday-from-1200-100-pm-197/
END:VEVENT
BEGIN:VEVENT
DTSTART;TZID=UTC:20251216T190000
DTEND;TZID=UTC:20251216T200000
DTSTAMP:20260424T083825
CREATED:20251019T155100Z
LAST-MODIFIED:20251019T155100Z
UID:6463-1765911600-1765915200@theriveroflifeworshipcenter.org
SUMMARY:Tuesday Night Virtual Bible Study
DESCRIPTION:
URL:https://theriveroflifeworshipcenter.org/event/tuesday-night-virtual-bible-study-190/
END:VEVENT
BEGIN:VEVENT
DTSTART;TZID=UTC:20251217T080000
DTEND;TZID=UTC:20251217T090000
DTSTAMP:20260424T083825
CREATED:20251019T154504Z
LAST-MODIFIED:20251019T154504Z
UID:6433-1765958400-1765962000@theriveroflifeworshipcenter.org
SUMMARY:Prayer Line
DESCRIPTION:
URL:https://theriveroflifeworshipcenter.org/event/prayer-line-538/
END:VEVENT
BEGIN:VEVENT
DTSTART;TZID=UTC:20251217T193000
DTEND;TZID=UTC:20251217T203000
DTSTAMP:20260424T083825
CREATED:20251215T223314Z
LAST-MODIFIED:20251215T223314Z
UID:6663-1765999800-1766003400@theriveroflifeworshipcenter.org
SUMMARY:Memorial Dedication
DESCRIPTION:
URL:https://theriveroflifeworshipcenter.org/event/memorial-dedication/
END:VEVENT
BEGIN:VEVENT
DTSTART;TZID=UTC:20251218T120000
DTEND;TZID=UTC:20251218T130000
DTSTAMP:20260424T083825
CREATED:20251019T155748Z
LAST-MODIFIED:20251019T155748Z
UID:6477-1766059200-1766062800@theriveroflifeworshipcenter.org
SUMMARY:Do you Need Prayer? Join us every Thursday from 12:00-1:00 PM
DESCRIPTION:
URL:https://theriveroflifeworshipcenter.org/event/do-you-need-prayer-join-us-every-thursday-from-1200-100-pm-195/
END:VEVENT
BEGIN:VEVENT
DTSTART;TZID=UTC:20251219T080000
DTEND;TZID=UTC:20251219T090000
DTSTAMP:20260424T083825
CREATED:20251019T154526Z
LAST-MODIFIED:20251019T154526Z
UID:6432-1766131200-1766134800@theriveroflifeworshipcenter.org
SUMMARY:Prayer Line
DESCRIPTION:
URL:https://theriveroflifeworshipcenter.org/event/prayer-line-539/
END:VEVENT
BEGIN:VEVENT
DTSTART;TZID=UTC:20251222T080000
DTEND;TZID=UTC:20251222T090000
DTSTAMP:20260424T083825
CREATED:20251019T154547Z
LAST-MODIFIED:20251019T154547Z
UID:6431-1766390400-1766394000@theriveroflifeworshipcenter.org
SUMMARY:Prayer Line
DESCRIPTION:
URL:https://theriveroflifeworshipcenter.org/event/prayer-line-540/
END:VEVENT
BEGIN:VEVENT
DTSTART;TZID=UTC:20251223T120000
DTEND;TZID=UTC:20251223T130000
DTSTAMP:20260424T083825
CREATED:20251019T155420Z
LAST-MODIFIED:20251019T155420Z
UID:6467-1766491200-1766494800@theriveroflifeworshipcenter.org
SUMMARY:Do you Need Prayer? Join us every Tuesday from 12:00-1:00 PM
DESCRIPTION:
URL:https://theriveroflifeworshipcenter.org/event/do-you-need-prayer-join-us-every-tuesday-from-1200-100-pm-198/
END:VEVENT
BEGIN:VEVENT
DTSTART;TZID=UTC:20251223T190000
DTEND;TZID=UTC:20251223T200000
DTSTAMP:20260424T083825
CREATED:20251019T154911Z
LAST-MODIFIED:20251019T154930Z
UID:6456-1766516400-1766520000@theriveroflifeworshipcenter.org
SUMMARY:Tuesday Night Virtual Bible Study
DESCRIPTION:
URL:https://theriveroflifeworshipcenter.org/event/tuesday-night-virtual-bible-study-189/
END:VEVENT
BEGIN:VEVENT
DTSTART;TZID=UTC:20251224T080000
DTEND;TZID=UTC:20251224T090000
DTSTAMP:20260424T083825
CREATED:20251019T154606Z
LAST-MODIFIED:20251019T154606Z
UID:6430-1766563200-1766566800@theriveroflifeworshipcenter.org
SUMMARY:Prayer Line
DESCRIPTION:
URL:https://theriveroflifeworshipcenter.org/event/prayer-line-541/
END:VEVENT
BEGIN:VEVENT
DTSTART;TZID=UTC:20251225T120000
DTEND;TZID=UTC:20251225T130000
DTSTAMP:20260424T083825
CREATED:20251019T155815Z
LAST-MODIFIED:20251019T155815Z
UID:6476-1766664000-1766667600@theriveroflifeworshipcenter.org
SUMMARY:Do you Need Prayer? Join us every Thursday from 12:00-1:00 PM
DESCRIPTION:
URL:https://theriveroflifeworshipcenter.org/event/do-you-need-prayer-join-us-every-thursday-from-1200-100-pm-196/
END:VEVENT
BEGIN:VEVENT
DTSTART;TZID=UTC:20251226T080000
DTEND;TZID=UTC:20251226T090000
DTSTAMP:20260424T083825
CREATED:20251019T154627Z
LAST-MODIFIED:20251019T154627Z
UID:6429-1766736000-1766739600@theriveroflifeworshipcenter.org
SUMMARY:Prayer Line
DESCRIPTION:
URL:https://theriveroflifeworshipcenter.org/event/prayer-line-542/
END:VEVENT
BEGIN:VEVENT
DTSTART;TZID=UTC:20251229T080000
DTEND;TZID=UTC:20251229T090000
DTSTAMP:20260424T083825
CREATED:20251019T154646Z
LAST-MODIFIED:20251019T154646Z
UID:6428-1766995200-1766998800@theriveroflifeworshipcenter.org
SUMMARY:Prayer Line
DESCRIPTION:
URL:https://theriveroflifeworshipcenter.org/event/prayer-line-543/
END:VEVENT
BEGIN:VEVENT
DTSTART;TZID=UTC:20251230T120000
DTEND;TZID=UTC:20251230T130000
DTSTAMP:20260424T083825
CREATED:20251019T155441Z
LAST-MODIFIED:20251019T155441Z
UID:6466-1767096000-1767099600@theriveroflifeworshipcenter.org
SUMMARY:Do you Need Prayer? Join us every Tuesday from 12:00-1:00 PM
DESCRIPTION:
URL:https://theriveroflifeworshipcenter.org/event/do-you-need-prayer-join-us-every-tuesday-from-1200-100-pm-199/
END:VEVENT
BEGIN:VEVENT
DTSTART;TZID=UTC:20251230T190000
DTEND;TZID=UTC:20251230T200000
DTSTAMP:20260424T083825
CREATED:20251019T155119Z
LAST-MODIFIED:20251019T155119Z
UID:6462-1767121200-1767124800@theriveroflifeworshipcenter.org
SUMMARY:Tuesday Night Virtual Bible Study
DESCRIPTION:
URL:https://theriveroflifeworshipcenter.org/event/tuesday-night-virtual-bible-study-191/
END:VEVENT
BEGIN:VEVENT
DTSTART;TZID=UTC:20251231T080000
DTEND;TZID=UTC:20251231T090000
DTSTAMP:20260424T083825
CREATED:20251019T154704Z
LAST-MODIFIED:20251019T154704Z
UID:6427-1767168000-1767171600@theriveroflifeworshipcenter.org
SUMMARY:Prayer Line
DESCRIPTION:
URL:https://theriveroflifeworshipcenter.org/event/prayer-line-544/
END:VEVENT
BEGIN:VEVENT
DTSTART;TZID=UTC:20251231T220000
DTEND;TZID=UTC:20251231T220000
DTSTAMP:20260424T083825
CREATED:20251112T010445Z
LAST-MODIFIED:20251112T010445Z
UID:2289-1767218400-1767218400@theriveroflifeworshipcenter.org
SUMMARY:New Year's Eve Service
DESCRIPTION:
URL:https://theriveroflifeworshipcenter.org/event/new-years-eve-service/
END:VEVENT
BEGIN:VEVENT
DTSTART;TZID=UTC:20260101T120000
DTEND;TZID=UTC:20260101T130000
DTSTAMP:20260424T083825
CREATED:20251208T151518Z
LAST-MODIFIED:20251208T151518Z
UID:6635-1767268800-1767272400@theriveroflifeworshipcenter.org
SUMMARY:Do you Need Prayer? Join us every Thursday from 12:00-1:00 PM
DESCRIPTION:
URL:https://theriveroflifeworshipcenter.org/event/do-you-need-prayer-join-us-every-thursday-from-1200-100-pm-201/
END:VEVENT
BEGIN:VEVENT
DTSTART;TZID=UTC:20260102T080000
DTEND;TZID=UTC:20260102T090000
DTSTAMP:20260424T083825
CREATED:20251208T145939Z
LAST-MODIFIED:20251208T145939Z
UID:6596-1767340800-1767344400@theriveroflifeworshipcenter.org
SUMMARY:Prayer Line
DESCRIPTION:
URL:https://theriveroflifeworshipcenter.org/event/prayer-line-545/
END:VEVENT
BEGIN:VEVENT
DTSTART;VALUE=DATE:20260103
DTEND;VALUE=DATE:20260125
DTSTAMP:20260424T083825
CREATED:20260104T004431Z
LAST-MODIFIED:20260104T004431Z
UID:6733-1767398400-1769299199@theriveroflifeworshipcenter.org
SUMMARY:21 Day Fast
DESCRIPTION:
URL:https://theriveroflifeworshipcenter.org/event/21-day-fast/
END:VEVENT
BEGIN:VEVENT
DTSTART;TZID=UTC:20260105T080000
DTEND;TZID=UTC:20260105T090000
DTSTAMP:20260424T083825
CREATED:20251208T150003Z
LAST-MODIFIED:20251208T150003Z
UID:6595-1767600000-1767603600@theriveroflifeworshipcenter.org
SUMMARY:Prayer Line
DESCRIPTION:
URL:https://theriveroflifeworshipcenter.org/event/prayer-line-546/
END:VEVENT
BEGIN:VEVENT
DTSTART;TZID=UTC:20260105T123000
DTEND;TZID=UTC:20260105T133000
DTSTAMP:20260424T083825
CREATED:20260105T134602Z
LAST-MODIFIED:20260105T134618Z
UID:6745-1767616200-1767619800@theriveroflifeworshipcenter.org
SUMMARY:Healing Service
DESCRIPTION:
URL:https://theriveroflifeworshipcenter.org/event/6745/
END:VEVENT
BEGIN:VEVENT
DTSTART;TZID=UTC:20260106T120000
DTEND;TZID=UTC:20260106T130000
DTSTAMP:20260424T083825
CREATED:20251208T150648Z
LAST-MODIFIED:20251208T150648Z
UID:6614-1767700800-1767704400@theriveroflifeworshipcenter.org
SUMMARY:Do you Need Prayer? Join us every Tuesday from 12:00-1:00 PM
DESCRIPTION:
URL:https://theriveroflifeworshipcenter.org/event/do-you-need-prayer-join-us-every-tuesday-from-1200-100-pm-200/
END:VEVENT
BEGIN:VEVENT
DTSTART;TZID=UTC:20260106T190000
DTEND;TZID=UTC:20260106T200000
DTSTAMP:20260424T083825
CREATED:20251208T150907Z
LAST-MODIFIED:20251208T150907Z
UID:6622-1767726000-1767729600@theriveroflifeworshipcenter.org
SUMMARY:Tuesday Night Virtual Bible Study
DESCRIPTION:
URL:https://theriveroflifeworshipcenter.org/event/tuesday-night-virtual-bible-study-192/
END:VEVENT
END:VCALENDAR