BEGIN:VCALENDAR
VERSION:2.0
PRODID:-//River of Life Worship Center - ECPv6.15.20//NONSGML v1.0//EN
CALSCALE:GREGORIAN
METHOD:PUBLISH
X-WR-CALNAME:River of Life Worship Center
X-ORIGINAL-URL:https://theriveroflifeworshipcenter.org
X-WR-CALDESC:Events for River of Life Worship Center
REFRESH-INTERVAL;VALUE=DURATION:PT1H
X-Robots-Tag:noindex
X-PUBLISHED-TTL:PT1H
BEGIN:VTIMEZONE
TZID:UTC
BEGIN:STANDARD
TZOFFSETFROM:+0000
TZOFFSETTO:+0000
TZNAME:UTC
DTSTART:20230101T000000
END:STANDARD
END:VTIMEZONE
BEGIN:VEVENT
DTSTART;TZID=UTC:20240521T190000
DTEND;TZID=UTC:20240521T200000
DTSTAMP:20260425T164048
CREATED:20240422T004150Z
LAST-MODIFIED:20240422T004150Z
UID:4326-1716318000-1716321600@theriveroflifeworshipcenter.org
SUMMARY:Tuesday Night Virtual Bible Study
DESCRIPTION:
URL:https://theriveroflifeworshipcenter.org/event/tuesday-night-virtual-bible-study-108/
END:VEVENT
BEGIN:VEVENT
DTSTART;TZID=UTC:20240521T120000
DTEND;TZID=UTC:20240521T130000
DTSTAMP:20260425T164048
CREATED:20240422T004602Z
LAST-MODIFIED:20240422T004602Z
UID:4334-1716292800-1716296400@theriveroflifeworshipcenter.org
SUMMARY:Do you Need Prayer? Join us every Tuesday from 12:00-1:00 PM
DESCRIPTION:
URL:https://theriveroflifeworshipcenter.org/event/do-you-need-prayer-join-us-every-tuesday-from-1200-100-pm-117/
END:VEVENT
BEGIN:VEVENT
DTSTART;TZID=UTC:20240520T080000
DTEND;TZID=UTC:20240520T090000
DTSTAMP:20260425T164048
CREATED:20240422T005224Z
LAST-MODIFIED:20240422T005224Z
UID:4362-1716192000-1716195600@theriveroflifeworshipcenter.org
SUMMARY:Prayer Line
DESCRIPTION:
URL:https://theriveroflifeworshipcenter.org/event/prayer-line-285/
END:VEVENT
BEGIN:VEVENT
DTSTART;TZID=UTC:20240518T190000
DTEND;TZID=UTC:20240518T210000
DTSTAMP:20260425T164048
CREATED:20240429T232918Z
LAST-MODIFIED:20240429T232918Z
UID:4397-1716058800-1716066000@theriveroflifeworshipcenter.org
SUMMARY:Project Life
DESCRIPTION:
URL:https://theriveroflifeworshipcenter.org/event/project-life/
END:VEVENT
BEGIN:VEVENT
DTSTART;TZID=UTC:20240518T100000
DTEND;TZID=UTC:20240518T120000
DTSTAMP:20260425T164048
CREATED:20240430T001650Z
LAST-MODIFIED:20240430T001650Z
UID:4407-1716026400-1716033600@theriveroflifeworshipcenter.org
SUMMARY:Outreach Event
DESCRIPTION:
URL:https://theriveroflifeworshipcenter.org/event/outreach-event/
END:VEVENT
BEGIN:VEVENT
DTSTART;TZID=UTC:20240517T080000
DTEND;TZID=UTC:20240517T090000
DTSTAMP:20260425T164048
CREATED:20240422T005709Z
LAST-MODIFIED:20240422T005709Z
UID:4352-1715932800-1715936400@theriveroflifeworshipcenter.org
SUMMARY:Prayer Line
DESCRIPTION:
URL:https://theriveroflifeworshipcenter.org/event/prayer-line-295/
END:VEVENT
BEGIN:VEVENT
DTSTART;TZID=UTC:20240516T120000
DTEND;TZID=UTC:20240516T130000
DTSTAMP:20260425T164048
CREATED:20240422T004734Z
LAST-MODIFIED:20240422T004734Z
UID:4338-1715860800-1715864400@theriveroflifeworshipcenter.org
SUMMARY:Do you Need Prayer? Join us every Thursday from 12:00-1:00 PM
DESCRIPTION:
URL:https://theriveroflifeworshipcenter.org/event/do-you-need-prayer-join-us-every-thursday-from-1200-100-pm-112/
END:VEVENT
BEGIN:VEVENT
DTSTART;TZID=UTC:20240515T080000
DTEND;TZID=UTC:20240515T090000
DTSTAMP:20260425T164048
CREATED:20240422T005408Z
LAST-MODIFIED:20240422T005408Z
UID:4358-1715760000-1715763600@theriveroflifeworshipcenter.org
SUMMARY:Prayer Line
DESCRIPTION:
URL:https://theriveroflifeworshipcenter.org/event/prayer-line-289/
END:VEVENT
BEGIN:VEVENT
DTSTART;TZID=UTC:20240514T190000
DTEND;TZID=UTC:20240514T200000
DTSTAMP:20260425T164048
CREATED:20240422T004127Z
LAST-MODIFIED:20240422T004127Z
UID:4327-1715713200-1715716800@theriveroflifeworshipcenter.org
SUMMARY:Tuesday Night Virtual Bible Study
DESCRIPTION:
URL:https://theriveroflifeworshipcenter.org/event/tuesday-night-virtual-bible-study-107/
END:VEVENT
BEGIN:VEVENT
DTSTART;TZID=UTC:20240514T120000
DTEND;TZID=UTC:20240514T130000
DTSTAMP:20260425T164048
CREATED:20240422T004541Z
LAST-MODIFIED:20240422T004541Z
UID:4335-1715688000-1715691600@theriveroflifeworshipcenter.org
SUMMARY:Do you Need Prayer? Join us every Tuesday from 12:00-1:00 PM
DESCRIPTION:
URL:https://theriveroflifeworshipcenter.org/event/do-you-need-prayer-join-us-every-tuesday-from-1200-100-pm-116/
END:VEVENT
BEGIN:VEVENT
DTSTART;TZID=UTC:20240513T080000
DTEND;TZID=UTC:20240513T090000
DTSTAMP:20260425T164048
CREATED:20240422T005156Z
LAST-MODIFIED:20240422T005156Z
UID:4363-1715587200-1715590800@theriveroflifeworshipcenter.org
SUMMARY:Prayer Line
DESCRIPTION:
URL:https://theriveroflifeworshipcenter.org/event/prayer-line-284/
END:VEVENT
BEGIN:VEVENT
DTSTART;TZID=UTC:20240511T110000
DTEND;TZID=UTC:20240511T130000
DTSTAMP:20260425T164048
CREATED:20240430T001244Z
LAST-MODIFIED:20240430T001244Z
UID:4401-1715425200-1715432400@theriveroflifeworshipcenter.org
SUMMARY:Preparing The Way of the Way of the Lord
DESCRIPTION:
URL:https://theriveroflifeworshipcenter.org/event/preparing-the-way-of-the-way-of-the-lord/
LOCATION:PWLM\, 3517 Harford Road\, Baltimore\, 21218\, United States
ORGANIZER;CN="Preparing The Way of the Lord International Ministries":MAILTO:info@pwlminstires.org
END:VEVENT
BEGIN:VEVENT
DTSTART;TZID=UTC:20240510T080000
DTEND;TZID=UTC:20240510T090000
DTSTAMP:20260425T164048
CREATED:20240422T005646Z
LAST-MODIFIED:20240422T005646Z
UID:4353-1715328000-1715331600@theriveroflifeworshipcenter.org
SUMMARY:Prayer Line
DESCRIPTION:
URL:https://theriveroflifeworshipcenter.org/event/prayer-line-294/
END:VEVENT
BEGIN:VEVENT
DTSTART;TZID=UTC:20240509T120000
DTEND;TZID=UTC:20240509T130000
DTSTAMP:20260425T164048
CREATED:20240422T004715Z
LAST-MODIFIED:20240422T004715Z
UID:4339-1715256000-1715259600@theriveroflifeworshipcenter.org
SUMMARY:Do you Need Prayer? Join us every Thursday from 12:00-1:00 PM
DESCRIPTION:
URL:https://theriveroflifeworshipcenter.org/event/do-you-need-prayer-join-us-every-thursday-from-1200-100-pm-111/
END:VEVENT
BEGIN:VEVENT
DTSTART;TZID=UTC:20240508T080000
DTEND;TZID=UTC:20240508T090000
DTSTAMP:20260425T164048
CREATED:20240422T005345Z
LAST-MODIFIED:20240422T005345Z
UID:4359-1715155200-1715158800@theriveroflifeworshipcenter.org
SUMMARY:Prayer Line
DESCRIPTION:
URL:https://theriveroflifeworshipcenter.org/event/prayer-line-288/
END:VEVENT
BEGIN:VEVENT
DTSTART;TZID=UTC:20240507T190000
DTEND;TZID=UTC:20240507T200000
DTSTAMP:20260425T164048
CREATED:20240422T004103Z
LAST-MODIFIED:20240422T004103Z
UID:4328-1715108400-1715112000@theriveroflifeworshipcenter.org
SUMMARY:Tuesday Night Virtual Bible Study
DESCRIPTION:
URL:https://theriveroflifeworshipcenter.org/event/tuesday-night-virtual-bible-study-106/
END:VEVENT
BEGIN:VEVENT
DTSTART;TZID=UTC:20240507T120000
DTEND;TZID=UTC:20240507T130000
DTSTAMP:20260425T164048
CREATED:20240422T004522Z
LAST-MODIFIED:20240422T004522Z
UID:4336-1715083200-1715086800@theriveroflifeworshipcenter.org
SUMMARY:Do you Need Prayer? Join us every Tuesday from 12:00-1:00 PM
DESCRIPTION:
URL:https://theriveroflifeworshipcenter.org/event/do-you-need-prayer-join-us-every-tuesday-from-1200-100-pm-115/
END:VEVENT
BEGIN:VEVENT
DTSTART;TZID=UTC:20240506T123000
DTEND;TZID=UTC:20240506T133000
DTSTAMP:20260425T164048
CREATED:20240429T230959Z
LAST-MODIFIED:20240429T230959Z
UID:4385-1714998600-1715002200@theriveroflifeworshipcenter.org
SUMMARY:Healing Service
DESCRIPTION:
URL:https://theriveroflifeworshipcenter.org/event/healing-service-8/
END:VEVENT
BEGIN:VEVENT
DTSTART;TZID=UTC:20240506T080000
DTEND;TZID=UTC:20240506T090000
DTSTAMP:20260425T164048
CREATED:20240422T005605Z
LAST-MODIFIED:20240422T005605Z
UID:4355-1714982400-1714986000@theriveroflifeworshipcenter.org
SUMMARY:Prayer Line
DESCRIPTION:
URL:https://theriveroflifeworshipcenter.org/event/prayer-line-292/
END:VEVENT
BEGIN:VEVENT
DTSTART;TZID=UTC:20240503T080000
DTEND;TZID=UTC:20240503T090000
DTSTAMP:20260425T164048
CREATED:20240422T005629Z
LAST-MODIFIED:20240422T005629Z
UID:4354-1714723200-1714726800@theriveroflifeworshipcenter.org
SUMMARY:Prayer Line
DESCRIPTION:
URL:https://theriveroflifeworshipcenter.org/event/prayer-line-293/
END:VEVENT
BEGIN:VEVENT
DTSTART;TZID=UTC:20240502T120000
DTEND;TZID=UTC:20240502T130000
DTSTAMP:20260425T164048
CREATED:20240422T004657Z
LAST-MODIFIED:20240422T004657Z
UID:4340-1714651200-1714654800@theriveroflifeworshipcenter.org
SUMMARY:Do you Need Prayer? Join us every Thursday from 12:00-1:00 PM
DESCRIPTION:
URL:https://theriveroflifeworshipcenter.org/event/do-you-need-prayer-join-us-every-thursday-from-1200-100-pm-110/
END:VEVENT
BEGIN:VEVENT
DTSTART;TZID=UTC:20240501T080000
DTEND;TZID=UTC:20240501T090000
DTSTAMP:20260425T164048
CREATED:20240422T005322Z
LAST-MODIFIED:20240422T005322Z
UID:4360-1714550400-1714554000@theriveroflifeworshipcenter.org
SUMMARY:Prayer Line
DESCRIPTION:
URL:https://theriveroflifeworshipcenter.org/event/prayer-line-287/
END:VEVENT
BEGIN:VEVENT
DTSTART;TZID=UTC:20240430T190000
DTEND;TZID=UTC:20240430T200000
DTSTAMP:20260425T164048
CREATED:20240321T025350Z
LAST-MODIFIED:20240321T025350Z
UID:4160-1714503600-1714507200@theriveroflifeworshipcenter.org
SUMMARY:Tuesday Night Virtual Bible Study
DESCRIPTION:
URL:https://theriveroflifeworshipcenter.org/event/tuesday-night-virtual-bible-study-105/
END:VEVENT
BEGIN:VEVENT
DTSTART;TZID=UTC:20240430T120000
DTEND;TZID=UTC:20240430T130000
DTSTAMP:20260425T164048
CREATED:20240321T030208Z
LAST-MODIFIED:20240321T030208Z
UID:4178-1714478400-1714482000@theriveroflifeworshipcenter.org
SUMMARY:Do you Need Prayer? Join us every Tuesday from 12:00-1:00 PM
DESCRIPTION:
URL:https://theriveroflifeworshipcenter.org/event/do-you-need-prayer-join-us-every-tuesday-from-1200-100-pm-114/
END:VEVENT
BEGIN:VEVENT
DTSTART;TZID=UTC:20240429T080000
DTEND;TZID=UTC:20240429T090000
DTSTAMP:20260425T164048
CREATED:20240321T031803Z
LAST-MODIFIED:20240321T031803Z
UID:4216-1714377600-1714381200@theriveroflifeworshipcenter.org
SUMMARY:Prayer Line
DESCRIPTION:
URL:https://theriveroflifeworshipcenter.org/event/prayer-line-283/
END:VEVENT
BEGIN:VEVENT
DTSTART;TZID=UTC:20240428T103000
DTEND;TZID=UTC:20240428T120000
DTSTAMP:20260425T164048
CREATED:20240329T222712Z
LAST-MODIFIED:20240329T222712Z
UID:4241-1714300200-1714305600@theriveroflifeworshipcenter.org
SUMMARY:Family & Friends Day Service
DESCRIPTION:
URL:https://theriveroflifeworshipcenter.org/event/family-friends-day-service/
END:VEVENT
BEGIN:VEVENT
DTSTART;TZID=UTC:20240427T093000
DTEND;TZID=UTC:20240427T110000
DTSTAMP:20260425T164048
CREATED:20240408T202921Z
LAST-MODIFIED:20240408T202953Z
UID:4271-1714210200-1714215600@theriveroflifeworshipcenter.org
SUMMARY:Men's Prayer Breakfast
DESCRIPTION:
URL:https://theriveroflifeworshipcenter.org/event/mens-prayer-breakfast/
END:VEVENT
BEGIN:VEVENT
DTSTART;TZID=UTC:20240426T080000
DTEND;TZID=UTC:20240426T090000
DTSTAMP:20260425T164048
CREATED:20240321T031645Z
LAST-MODIFIED:20240321T031645Z
UID:4190-1714118400-1714122000@theriveroflifeworshipcenter.org
SUMMARY:Prayer Line
DESCRIPTION:
URL:https://theriveroflifeworshipcenter.org/event/prayer-line-282/
END:VEVENT
BEGIN:VEVENT
DTSTART;TZID=UTC:20240425T120000
DTEND;TZID=UTC:20240425T130000
DTSTAMP:20260425T164048
CREATED:20240321T025628Z
LAST-MODIFIED:20240321T025628Z
UID:4170-1714046400-1714050000@theriveroflifeworshipcenter.org
SUMMARY:Do you Need Prayer? Join us every Thursday from 12:00-1:00 PM
DESCRIPTION:
URL:https://theriveroflifeworshipcenter.org/event/do-you-need-prayer-join-us-every-thursday-from-1200-100-pm-109/
END:VEVENT
BEGIN:VEVENT
DTSTART;TZID=UTC:20240424T080000
DTEND;TZID=UTC:20240424T090000
DTSTAMP:20260425T164048
CREATED:20240321T031618Z
LAST-MODIFIED:20240321T031618Z
UID:4191-1713945600-1713949200@theriveroflifeworshipcenter.org
SUMMARY:Prayer Line
DESCRIPTION:
URL:https://theriveroflifeworshipcenter.org/event/prayer-line-281/
END:VEVENT
END:VCALENDAR