BEGIN:VCALENDAR
VERSION:2.0
PRODID:-//River of Life Worship Center - ECPv6.15.20//NONSGML v1.0//EN
CALSCALE:GREGORIAN
METHOD:PUBLISH
X-ORIGINAL-URL:https://theriveroflifeworshipcenter.org
X-WR-CALDESC:Events for River of Life Worship Center
REFRESH-INTERVAL;VALUE=DURATION:PT1H
X-Robots-Tag:noindex
X-PUBLISHED-TTL:PT1H
BEGIN:VTIMEZONE
TZID:UTC
BEGIN:STANDARD
TZOFFSETFROM:+0000
TZOFFSETTO:+0000
TZNAME:UTC
DTSTART:20230101T000000
END:STANDARD
END:VTIMEZONE
BEGIN:VEVENT
DTSTART;TZID=UTC:20240902T080000
DTEND;TZID=UTC:20240902T090000
DTSTAMP:20260425T111402
CREATED:20240826T000105Z
LAST-MODIFIED:20240826T000105Z
UID:4766-1725264000-1725267600@theriveroflifeworshipcenter.org
SUMMARY:Prayer Line
DESCRIPTION:
URL:https://theriveroflifeworshipcenter.org/event/prayer-line-337/
END:VEVENT
BEGIN:VEVENT
DTSTART;TZID=UTC:20240903T120000
DTEND;TZID=UTC:20240903T130000
DTSTAMP:20260425T111402
CREATED:20240623T154341Z
LAST-MODIFIED:20240826T003045Z
UID:4615-1725364800-1725368400@theriveroflifeworshipcenter.org
SUMMARY:Do you Need Prayer? Join us every Tuesday from 12:00-1:00 PM
DESCRIPTION:
URL:https://theriveroflifeworshipcenter.org/event/do-you-need-prayer-join-us-every-tuesday-from-1200-100-pm-131/
END:VEVENT
BEGIN:VEVENT
DTSTART;TZID=UTC:20240903T190000
DTEND;TZID=UTC:20240903T200000
DTSTAMP:20260425T111402
CREATED:20240827T001401Z
LAST-MODIFIED:20240827T001401Z
UID:4800-1725390000-1725393600@theriveroflifeworshipcenter.org
SUMMARY:Tuesday Night Virtual Bible Study
DESCRIPTION:
URL:https://theriveroflifeworshipcenter.org/event/tuesday-night-virtual-bible-study-123/
END:VEVENT
BEGIN:VEVENT
DTSTART;TZID=UTC:20240904T080000
DTEND;TZID=UTC:20240904T090000
DTSTAMP:20260425T111402
CREATED:20240826T000133Z
LAST-MODIFIED:20240826T000133Z
UID:4765-1725436800-1725440400@theriveroflifeworshipcenter.org
SUMMARY:Prayer Line
DESCRIPTION:
URL:https://theriveroflifeworshipcenter.org/event/prayer-line-338/
END:VEVENT
BEGIN:VEVENT
DTSTART;TZID=UTC:20240905T120000
DTEND;TZID=UTC:20240905T130000
DTSTAMP:20260425T111402
CREATED:20240827T003158Z
LAST-MODIFIED:20240827T003158Z
UID:4809-1725537600-1725541200@theriveroflifeworshipcenter.org
SUMMARY:Do you Need Prayer? Join us every Thursday from 12:00-1:00 PM
DESCRIPTION:
URL:https://theriveroflifeworshipcenter.org/event/do-you-need-prayer-join-us-every-thursday-from-1200-100-pm-128/
END:VEVENT
BEGIN:VEVENT
DTSTART;TZID=UTC:20240906T080000
DTEND;TZID=UTC:20240906T090000
DTSTAMP:20260425T111402
CREATED:20240826T000204Z
LAST-MODIFIED:20240826T000204Z
UID:4764-1725609600-1725613200@theriveroflifeworshipcenter.org
SUMMARY:Prayer Line
DESCRIPTION:
URL:https://theriveroflifeworshipcenter.org/event/prayer-line-339/
END:VEVENT
BEGIN:VEVENT
DTSTART;TZID=UTC:20240909T080000
DTEND;TZID=UTC:20240909T090000
DTSTAMP:20260425T111402
CREATED:20240826T001009Z
LAST-MODIFIED:20240826T001009Z
UID:4763-1725868800-1725872400@theriveroflifeworshipcenter.org
SUMMARY:Prayer Line
DESCRIPTION:
URL:https://theriveroflifeworshipcenter.org/event/prayer-line-340/
END:VEVENT
BEGIN:VEVENT
DTSTART;TZID=UTC:20240910T120000
DTEND;TZID=UTC:20240910T130000
DTSTAMP:20260425T111402
CREATED:20240826T003409Z
LAST-MODIFIED:20240826T003454Z
UID:4785-1725969600-1725973200@theriveroflifeworshipcenter.org
SUMMARY:Do you Need Prayer? Join us every Tuesday from 12:00-1:00 PM
DESCRIPTION:
URL:https://theriveroflifeworshipcenter.org/event/do-you-need-prayer-join-us-every-tuesday-from-1200-100-pm-132/
END:VEVENT
BEGIN:VEVENT
DTSTART;TZID=UTC:20240910T190000
DTEND;TZID=UTC:20240910T200000
DTSTAMP:20260425T111402
CREATED:20240827T001635Z
LAST-MODIFIED:20240827T001635Z
UID:4801-1725994800-1725998400@theriveroflifeworshipcenter.org
SUMMARY:Tuesday Night Virtual Bible Study
DESCRIPTION:
URL:https://theriveroflifeworshipcenter.org/event/tuesday-night-virtual-bible-study-124/
END:VEVENT
BEGIN:VEVENT
DTSTART;TZID=UTC:20240911T080000
DTEND;TZID=UTC:20240911T090000
DTSTAMP:20260425T111402
CREATED:20240826T001109Z
LAST-MODIFIED:20240826T001109Z
UID:4762-1726041600-1726045200@theriveroflifeworshipcenter.org
SUMMARY:Prayer Line
DESCRIPTION:
URL:https://theriveroflifeworshipcenter.org/event/prayer-line-341/
END:VEVENT
BEGIN:VEVENT
DTSTART;TZID=UTC:20240912T120000
DTEND;TZID=UTC:20240912T130000
DTSTAMP:20260425T111402
CREATED:20240827T003257Z
LAST-MODIFIED:20240827T003257Z
UID:4808-1726142400-1726146000@theriveroflifeworshipcenter.org
SUMMARY:Do you Need Prayer? Join us every Thursday from 12:00-1:00 PM
DESCRIPTION:
URL:https://theriveroflifeworshipcenter.org/event/do-you-need-prayer-join-us-every-thursday-from-1200-100-pm-129/
END:VEVENT
BEGIN:VEVENT
DTSTART;TZID=UTC:20240913T080000
DTEND;TZID=UTC:20240913T090000
DTSTAMP:20260425T111402
CREATED:20240826T001217Z
LAST-MODIFIED:20240826T001217Z
UID:4761-1726214400-1726218000@theriveroflifeworshipcenter.org
SUMMARY:Prayer Line
DESCRIPTION:
URL:https://theriveroflifeworshipcenter.org/event/prayer-line-342/
END:VEVENT
BEGIN:VEVENT
DTSTART;TZID=UTC:20240916T080000
DTEND;TZID=UTC:20240916T090000
DTSTAMP:20260425T111402
CREATED:20240826T001257Z
LAST-MODIFIED:20240826T001257Z
UID:4760-1726473600-1726477200@theriveroflifeworshipcenter.org
SUMMARY:Prayer Line
DESCRIPTION:
URL:https://theriveroflifeworshipcenter.org/event/prayer-line-343/
END:VEVENT
BEGIN:VEVENT
DTSTART;TZID=UTC:20240917T120000
DTEND;TZID=UTC:20240917T130000
DTSTAMP:20260425T111402
CREATED:20240827T000851Z
LAST-MODIFIED:20240827T000851Z
UID:4787-1726574400-1726578000@theriveroflifeworshipcenter.org
SUMMARY:Do you Need Prayer? Join us every Tuesday from 12:00-1:00 PM
DESCRIPTION:
URL:https://theriveroflifeworshipcenter.org/event/do-you-need-prayer-join-us-every-tuesday-from-1200-100-pm-133/
END:VEVENT
BEGIN:VEVENT
DTSTART;TZID=UTC:20240917T190000
DTEND;TZID=UTC:20240917T200000
DTSTAMP:20260425T111402
CREATED:20240827T001703Z
LAST-MODIFIED:20240827T001703Z
UID:4799-1726599600-1726603200@theriveroflifeworshipcenter.org
SUMMARY:Tuesday Night Virtual Bible Study
DESCRIPTION:
URL:https://theriveroflifeworshipcenter.org/event/tuesday-night-virtual-bible-study-125/
END:VEVENT
BEGIN:VEVENT
DTSTART;TZID=UTC:20240918T080000
DTEND;TZID=UTC:20240918T090000
DTSTAMP:20260425T111402
CREATED:20240826T001340Z
LAST-MODIFIED:20240826T001340Z
UID:4759-1726646400-1726650000@theriveroflifeworshipcenter.org
SUMMARY:Prayer Line
DESCRIPTION:
URL:https://theriveroflifeworshipcenter.org/event/prayer-line-344/
END:VEVENT
BEGIN:VEVENT
DTSTART;TZID=UTC:20240919T120000
DTEND;TZID=UTC:20240919T130000
DTSTAMP:20260425T111402
CREATED:20240827T003340Z
LAST-MODIFIED:20240827T003340Z
UID:4807-1726747200-1726750800@theriveroflifeworshipcenter.org
SUMMARY:Do you Need Prayer? Join us every Thursday from 12:00-1:00 PM
DESCRIPTION:
URL:https://theriveroflifeworshipcenter.org/event/do-you-need-prayer-join-us-every-thursday-from-1200-100-pm-130/
END:VEVENT
BEGIN:VEVENT
DTSTART;TZID=UTC:20240920T080000
DTEND;TZID=UTC:20240920T090000
DTSTAMP:20260425T111402
CREATED:20240826T001403Z
LAST-MODIFIED:20240826T001403Z
UID:4758-1726819200-1726822800@theriveroflifeworshipcenter.org
SUMMARY:Prayer Line
DESCRIPTION:
URL:https://theriveroflifeworshipcenter.org/event/prayer-line-345/
END:VEVENT
BEGIN:VEVENT
DTSTART;TZID=UTC:20240923T080000
DTEND;TZID=UTC:20240923T090000
DTSTAMP:20260425T111402
CREATED:20240826T001457Z
LAST-MODIFIED:20240826T001457Z
UID:4757-1727078400-1727082000@theriveroflifeworshipcenter.org
SUMMARY:Prayer Line
DESCRIPTION:
URL:https://theriveroflifeworshipcenter.org/event/prayer-line-346/
END:VEVENT
BEGIN:VEVENT
DTSTART;TZID=UTC:20240924T120000
DTEND;TZID=UTC:20240924T130000
DTSTAMP:20260425T111402
CREATED:20240827T000923Z
LAST-MODIFIED:20240827T000923Z
UID:4786-1727179200-1727182800@theriveroflifeworshipcenter.org
SUMMARY:Do you Need Prayer? Join us every Tuesday from 12:00-1:00 PM
DESCRIPTION:
URL:https://theriveroflifeworshipcenter.org/event/do-you-need-prayer-join-us-every-tuesday-from-1200-100-pm-134/
END:VEVENT
BEGIN:VEVENT
DTSTART;TZID=UTC:20240924T190000
DTEND;TZID=UTC:20240924T200000
DTSTAMP:20260425T111402
CREATED:20240827T001745Z
LAST-MODIFIED:20240827T001745Z
UID:4798-1727204400-1727208000@theriveroflifeworshipcenter.org
SUMMARY:Tuesday Night Virtual Bible Study
DESCRIPTION:
URL:https://theriveroflifeworshipcenter.org/event/tuesday-night-virtual-bible-study-126/
END:VEVENT
BEGIN:VEVENT
DTSTART;TZID=UTC:20240925T080000
DTEND;TZID=UTC:20240925T090000
DTSTAMP:20260425T111402
CREATED:20240826T001522Z
LAST-MODIFIED:20240826T001522Z
UID:4756-1727251200-1727254800@theriveroflifeworshipcenter.org
SUMMARY:Prayer Line
DESCRIPTION:
URL:https://theriveroflifeworshipcenter.org/event/prayer-line-347/
END:VEVENT
BEGIN:VEVENT
DTSTART;TZID=UTC:20240926T120000
DTEND;TZID=UTC:20240926T130000
DTSTAMP:20260425T111402
CREATED:20240827T003412Z
LAST-MODIFIED:20240827T003412Z
UID:4806-1727352000-1727355600@theriveroflifeworshipcenter.org
SUMMARY:Do you Need Prayer? Join us every Thursday from 12:00-1:00 PM
DESCRIPTION:
URL:https://theriveroflifeworshipcenter.org/event/do-you-need-prayer-join-us-every-thursday-from-1200-100-pm-131/
END:VEVENT
BEGIN:VEVENT
DTSTART;TZID=UTC:20240927T080000
DTEND;TZID=UTC:20240927T090000
DTSTAMP:20260425T111402
CREATED:20240826T001552Z
LAST-MODIFIED:20240826T001552Z
UID:4755-1727424000-1727427600@theriveroflifeworshipcenter.org
SUMMARY:Prayer Line
DESCRIPTION:
URL:https://theriveroflifeworshipcenter.org/event/prayer-line-348/
END:VEVENT
BEGIN:VEVENT
DTSTART;TZID=UTC:20240930T080000
DTEND;TZID=UTC:20240930T090000
DTSTAMP:20260425T111402
CREATED:20240826T001640Z
LAST-MODIFIED:20240826T001832Z
UID:4754-1727683200-1727686800@theriveroflifeworshipcenter.org
SUMMARY:Prayer Line
DESCRIPTION:
URL:https://theriveroflifeworshipcenter.org/event/prayer-line-349/
END:VEVENT
BEGIN:VEVENT
DTSTART;TZID=UTC:20241001T120000
DTEND;TZID=UTC:20241001T130000
DTSTAMP:20260425T111402
CREATED:20240922T221212Z
LAST-MODIFIED:20240922T221212Z
UID:4896-1727784000-1727787600@theriveroflifeworshipcenter.org
SUMMARY:Do you Need Prayer? Join us every Tuesday from 12:00-1:00 PM
DESCRIPTION:
URL:https://theriveroflifeworshipcenter.org/event/do-you-need-prayer-join-us-every-tuesday-from-1200-100-pm-135/
END:VEVENT
BEGIN:VEVENT
DTSTART;TZID=UTC:20241001T190000
DTEND;TZID=UTC:20241001T200000
DTSTAMP:20260425T111402
CREATED:20240922T220844Z
LAST-MODIFIED:20240922T220844Z
UID:4886-1727809200-1727812800@theriveroflifeworshipcenter.org
SUMMARY:Tuesday Night Virtual Bible Study
DESCRIPTION:
URL:https://theriveroflifeworshipcenter.org/event/tuesday-night-virtual-bible-study-127/
END:VEVENT
BEGIN:VEVENT
DTSTART;TZID=UTC:20241002T080000
DTEND;TZID=UTC:20241002T090000
DTSTAMP:20260425T111402
CREATED:20240922T161113Z
LAST-MODIFIED:20240922T161113Z
UID:4867-1727856000-1727859600@theriveroflifeworshipcenter.org
SUMMARY:Prayer Line
DESCRIPTION:
URL:https://theriveroflifeworshipcenter.org/event/prayer-line-350/
END:VEVENT
BEGIN:VEVENT
DTSTART;TZID=UTC:20241003T120000
DTEND;TZID=UTC:20241003T130000
DTSTAMP:20260425T111402
CREATED:20240925T012710Z
LAST-MODIFIED:20240925T012710Z
UID:4943-1727956800-1727960400@theriveroflifeworshipcenter.org
SUMMARY:Do you Need Prayer? Join us every Thursday from 12:00-1:00 PM
DESCRIPTION:
URL:https://theriveroflifeworshipcenter.org/event/do-you-need-prayer-join-us-every-thursday-from-1200-100-pm-132/
END:VEVENT
BEGIN:VEVENT
DTSTART;TZID=UTC:20241004T080000
DTEND;TZID=UTC:20241004T090000
DTSTAMP:20260425T111402
CREATED:20240922T161135Z
LAST-MODIFIED:20240922T161135Z
UID:4866-1728028800-1728032400@theriveroflifeworshipcenter.org
SUMMARY:Prayer Line
DESCRIPTION:
URL:https://theriveroflifeworshipcenter.org/event/prayer-line-351/
END:VEVENT
END:VCALENDAR