BEGIN:VCALENDAR
VERSION:2.0
PRODID:-//River of Life Worship Center - ECPv6.15.20//NONSGML v1.0//EN
CALSCALE:GREGORIAN
METHOD:PUBLISH
X-ORIGINAL-URL:https://theriveroflifeworshipcenter.org
X-WR-CALDESC:Events for River of Life Worship Center
REFRESH-INTERVAL;VALUE=DURATION:PT1H
X-Robots-Tag:noindex
X-PUBLISHED-TTL:PT1H
BEGIN:VTIMEZONE
TZID:UTC
BEGIN:STANDARD
TZOFFSETFROM:+0000
TZOFFSETTO:+0000
TZNAME:UTC
DTSTART:20230101T000000
END:STANDARD
END:VTIMEZONE
BEGIN:VEVENT
DTSTART;TZID=UTC:20240701T060000
DTEND;TZID=UTC:20240701T180000
DTSTAMP:20260425T144104
CREATED:20240630T023304Z
LAST-MODIFIED:20240630T023725Z
UID:4647-1719813600-1719856800@theriveroflifeworshipcenter.org
SUMMARY:Corporate Fast
DESCRIPTION:
URL:https://theriveroflifeworshipcenter.org/event/churchwide-corporate-fast/
END:VEVENT
BEGIN:VEVENT
DTSTART;TZID=UTC:20240701T080000
DTEND;TZID=UTC:20240701T090000
DTSTAMP:20260425T144104
CREATED:20240525T180555Z
LAST-MODIFIED:20240525T180555Z
UID:4512-1719820800-1719824400@theriveroflifeworshipcenter.org
SUMMARY:Prayer Line
DESCRIPTION:
URL:https://theriveroflifeworshipcenter.org/event/prayer-line-311/
END:VEVENT
BEGIN:VEVENT
DTSTART;TZID=UTC:20240701T123000
DTEND;TZID=UTC:20240701T133000
DTSTAMP:20260425T144104
CREATED:20240630T022651Z
LAST-MODIFIED:20240630T022651Z
UID:4644-1719837000-1719840600@theriveroflifeworshipcenter.org
SUMMARY:Healing Service
DESCRIPTION:
URL:https://theriveroflifeworshipcenter.org/event/healing-service-10/
END:VEVENT
BEGIN:VEVENT
DTSTART;TZID=UTC:20240702T120000
DTEND;TZID=UTC:20240702T130000
DTSTAMP:20260425T144104
CREATED:20240525T155456Z
LAST-MODIFIED:20240525T155456Z
UID:4484-1719921600-1719925200@theriveroflifeworshipcenter.org
SUMMARY:Do you Need Prayer? Join us every Tuesday from 12:00-1:00 PM
DESCRIPTION:
URL:https://theriveroflifeworshipcenter.org/event/do-you-need-prayer-join-us-every-tuesday-from-1200-100-pm-123/
END:VEVENT
BEGIN:VEVENT
DTSTART;TZID=UTC:20240702T190000
DTEND;TZID=UTC:20240702T200000
DTSTAMP:20260425T144104
CREATED:20240525T155415Z
LAST-MODIFIED:20240525T155415Z
UID:4480-1719946800-1719950400@theriveroflifeworshipcenter.org
SUMMARY:Tuesday Night Virtual Bible Study
DESCRIPTION:
URL:https://theriveroflifeworshipcenter.org/event/tuesday-night-virtual-bible-study-114/
END:VEVENT
BEGIN:VEVENT
DTSTART;TZID=UTC:20240703T080000
DTEND;TZID=UTC:20240703T090000
DTSTAMP:20260425T144104
CREATED:20240525T180745Z
LAST-MODIFIED:20240525T180745Z
UID:4507-1719993600-1719997200@theriveroflifeworshipcenter.org
SUMMARY:Prayer Line
DESCRIPTION:
URL:https://theriveroflifeworshipcenter.org/event/prayer-line-316/
END:VEVENT
BEGIN:VEVENT
DTSTART;VALUE=DATE:20240704
DTEND;VALUE=DATE:20240705
DTSTAMP:20260425T144104
CREATED:20240526T123802Z
LAST-MODIFIED:20240526T123802Z
UID:4553-1720051200-1720137599@theriveroflifeworshipcenter.org
SUMMARY:Home Front Ministry Open for appointments
DESCRIPTION:
URL:https://theriveroflifeworshipcenter.org/event/home-front-ministry-open-for-appointments-5/
END:VEVENT
BEGIN:VEVENT
DTSTART;TZID=UTC:20240704T120000
DTEND;TZID=UTC:20240704T130000
DTSTAMP:20260425T144104
CREATED:20240525T181516Z
LAST-MODIFIED:20240525T181516Z
UID:4531-1720094400-1720098000@theriveroflifeworshipcenter.org
SUMMARY:Do you Need Prayer? Join us every Thursday from 12:00-1:00 PM
DESCRIPTION:
URL:https://theriveroflifeworshipcenter.org/event/do-you-need-prayer-join-us-every-thursday-from-1200-100-pm-119/
END:VEVENT
BEGIN:VEVENT
DTSTART;TZID=UTC:20240705T080000
DTEND;TZID=UTC:20240705T090000
DTSTAMP:20260425T144104
CREATED:20240525T181028Z
LAST-MODIFIED:20240525T181028Z
UID:4502-1720166400-1720170000@theriveroflifeworshipcenter.org
SUMMARY:Prayer Line
DESCRIPTION:
URL:https://theriveroflifeworshipcenter.org/event/prayer-line-321/
END:VEVENT
BEGIN:VEVENT
DTSTART;TZID=UTC:20240708T080000
DTEND;TZID=UTC:20240708T090000
DTSTAMP:20260425T144104
CREATED:20240525T180616Z
LAST-MODIFIED:20240525T180616Z
UID:4511-1720425600-1720429200@theriveroflifeworshipcenter.org
SUMMARY:Prayer Line
DESCRIPTION:
URL:https://theriveroflifeworshipcenter.org/event/prayer-line-312/
END:VEVENT
BEGIN:VEVENT
DTSTART;TZID=UTC:20240709T120000
DTEND;TZID=UTC:20240709T130000
DTSTAMP:20260425T144104
CREATED:20240525T155629Z
LAST-MODIFIED:20240525T155629Z
UID:4490-1720526400-1720530000@theriveroflifeworshipcenter.org
SUMMARY:Do you Need Prayer? Join us every Tuesday from 12:00-1:00 PM
DESCRIPTION:
URL:https://theriveroflifeworshipcenter.org/event/do-you-need-prayer-join-us-every-tuesday-from-1200-100-pm-124/
END:VEVENT
BEGIN:VEVENT
DTSTART;TZID=UTC:20240709T190000
DTEND;TZID=UTC:20240709T200000
DTSTAMP:20260425T144104
CREATED:20240525T155607Z
LAST-MODIFIED:20240525T155607Z
UID:4488-1720551600-1720555200@theriveroflifeworshipcenter.org
SUMMARY:Tuesday Night Virtual Bible Study
DESCRIPTION:
URL:https://theriveroflifeworshipcenter.org/event/tuesday-night-virtual-bible-study-115/
END:VEVENT
BEGIN:VEVENT
DTSTART;TZID=UTC:20240710T080000
DTEND;TZID=UTC:20240710T090000
DTSTAMP:20260425T144104
CREATED:20240525T180810Z
LAST-MODIFIED:20240525T180810Z
UID:4506-1720598400-1720602000@theriveroflifeworshipcenter.org
SUMMARY:Prayer Line
DESCRIPTION:
URL:https://theriveroflifeworshipcenter.org/event/prayer-line-317/
END:VEVENT
BEGIN:VEVENT
DTSTART;VALUE=DATE:20240711
DTEND;VALUE=DATE:20240712
DTSTAMP:20260425T144104
CREATED:20240526T123826Z
LAST-MODIFIED:20240526T123826Z
UID:4552-1720656000-1720742399@theriveroflifeworshipcenter.org
SUMMARY:Home Front Ministry Open for appointments
DESCRIPTION:
URL:https://theriveroflifeworshipcenter.org/event/home-front-ministry-open-for-appointments-6/
END:VEVENT
BEGIN:VEVENT
DTSTART;TZID=UTC:20240711T120000
DTEND;TZID=UTC:20240711T130000
DTSTAMP:20260425T144104
CREATED:20240525T181543Z
LAST-MODIFIED:20240525T181543Z
UID:4530-1720699200-1720702800@theriveroflifeworshipcenter.org
SUMMARY:Do you Need Prayer? Join us every Thursday from 12:00-1:00 PM
DESCRIPTION:
URL:https://theriveroflifeworshipcenter.org/event/do-you-need-prayer-join-us-every-thursday-from-1200-100-pm-120/
END:VEVENT
BEGIN:VEVENT
DTSTART;TZID=UTC:20240712T080000
DTEND;TZID=UTC:20240712T090000
DTSTAMP:20260425T144104
CREATED:20240525T181100Z
LAST-MODIFIED:20240525T181100Z
UID:4524-1720771200-1720774800@theriveroflifeworshipcenter.org
SUMMARY:Prayer Line
DESCRIPTION:
URL:https://theriveroflifeworshipcenter.org/event/prayer-line-322/
END:VEVENT
BEGIN:VEVENT
DTSTART;TZID=UTC:20240714T103000
DTEND;TZID=UTC:20240714T123000
DTSTAMP:20260425T144104
CREATED:20240504T122734Z
LAST-MODIFIED:20240504T122734Z
UID:4415-1720953000-1720960200@theriveroflifeworshipcenter.org
SUMMARY:6th Annual Bikers Sunday
DESCRIPTION:
URL:https://theriveroflifeworshipcenter.org/event/6th-annual-bikers-sunday/
END:VEVENT
BEGIN:VEVENT
DTSTART;TZID=UTC:20240715T080000
DTEND;TZID=UTC:20240715T090000
DTSTAMP:20260425T144104
CREATED:20240525T180636Z
LAST-MODIFIED:20240525T180636Z
UID:4510-1721030400-1721034000@theriveroflifeworshipcenter.org
SUMMARY:Prayer Line
DESCRIPTION:
URL:https://theriveroflifeworshipcenter.org/event/prayer-line-313/
END:VEVENT
BEGIN:VEVENT
DTSTART;TZID=UTC:20240716T120000
DTEND;TZID=UTC:20240716T130000
DTSTAMP:20260425T144104
CREATED:20240525T155729Z
LAST-MODIFIED:20240525T155729Z
UID:4483-1721131200-1721134800@theriveroflifeworshipcenter.org
SUMMARY:Do you Need Prayer? Join us every Tuesday from 12:00-1:00 PM
DESCRIPTION:
URL:https://theriveroflifeworshipcenter.org/event/do-you-need-prayer-join-us-every-tuesday-from-1200-100-pm-125/
END:VEVENT
BEGIN:VEVENT
DTSTART;TZID=UTC:20240716T190000
DTEND;TZID=UTC:20240716T200000
DTSTAMP:20260425T144104
CREATED:20240525T155659Z
LAST-MODIFIED:20240525T155659Z
UID:4479-1721156400-1721160000@theriveroflifeworshipcenter.org
SUMMARY:Tuesday Night Virtual Bible Study
DESCRIPTION:
URL:https://theriveroflifeworshipcenter.org/event/tuesday-night-virtual-bible-study-116/
END:VEVENT
BEGIN:VEVENT
DTSTART;TZID=UTC:20240717T080000
DTEND;TZID=UTC:20240717T090000
DTSTAMP:20260425T144104
CREATED:20240525T180838Z
LAST-MODIFIED:20240525T180838Z
UID:4505-1721203200-1721206800@theriveroflifeworshipcenter.org
SUMMARY:Prayer Line
DESCRIPTION:
URL:https://theriveroflifeworshipcenter.org/event/prayer-line-318/
END:VEVENT
BEGIN:VEVENT
DTSTART;VALUE=DATE:20240718
DTEND;VALUE=DATE:20240719
DTSTAMP:20260425T144104
CREATED:20240526T123850Z
LAST-MODIFIED:20240526T123850Z
UID:4551-1721260800-1721347199@theriveroflifeworshipcenter.org
SUMMARY:Home Front Ministry Open for appointments
DESCRIPTION:
URL:https://theriveroflifeworshipcenter.org/event/home-front-ministry-open-for-appointments-7/
END:VEVENT
BEGIN:VEVENT
DTSTART;TZID=UTC:20240718T120000
DTEND;TZID=UTC:20240718T130000
DTSTAMP:20260425T144104
CREATED:20240525T181605Z
LAST-MODIFIED:20240525T181605Z
UID:4529-1721304000-1721307600@theriveroflifeworshipcenter.org
SUMMARY:Do you Need Prayer? Join us every Thursday from 12:00-1:00 PM
DESCRIPTION:
URL:https://theriveroflifeworshipcenter.org/event/do-you-need-prayer-join-us-every-thursday-from-1200-100-pm-121/
END:VEVENT
BEGIN:VEVENT
DTSTART;TZID=UTC:20240719T080000
DTEND;TZID=UTC:20240719T090000
DTSTAMP:20260425T144104
CREATED:20240525T181120Z
LAST-MODIFIED:20240525T181120Z
UID:4501-1721376000-1721379600@theriveroflifeworshipcenter.org
SUMMARY:Prayer Line
DESCRIPTION:
URL:https://theriveroflifeworshipcenter.org/event/prayer-line-323/
END:VEVENT
BEGIN:VEVENT
DTSTART;TZID=UTC:20240722T080000
DTEND;TZID=UTC:20240722T090000
DTSTAMP:20260425T144104
CREATED:20240525T180658Z
LAST-MODIFIED:20240525T180658Z
UID:4509-1721635200-1721638800@theriveroflifeworshipcenter.org
SUMMARY:Prayer Line
DESCRIPTION:
URL:https://theriveroflifeworshipcenter.org/event/prayer-line-314/
END:VEVENT
BEGIN:VEVENT
DTSTART;TZID=UTC:20240723T120000
DTEND;TZID=UTC:20240723T130000
DTSTAMP:20260425T144104
CREATED:20240525T175755Z
LAST-MODIFIED:20240525T175755Z
UID:4482-1721736000-1721739600@theriveroflifeworshipcenter.org
SUMMARY:Do you Need Prayer? Join us every Tuesday from 12:00-1:00 PM
DESCRIPTION:
URL:https://theriveroflifeworshipcenter.org/event/do-you-need-prayer-join-us-every-tuesday-from-1200-100-pm-126/
END:VEVENT
BEGIN:VEVENT
DTSTART;TZID=UTC:20240723T190000
DTEND;TZID=UTC:20240723T200000
DTSTAMP:20260425T144104
CREATED:20240525T175702Z
LAST-MODIFIED:20240525T175702Z
UID:4478-1721761200-1721764800@theriveroflifeworshipcenter.org
SUMMARY:Tuesday Night Virtual Bible Study
DESCRIPTION:
URL:https://theriveroflifeworshipcenter.org/event/tuesday-night-virtual-bible-study-117/
END:VEVENT
BEGIN:VEVENT
DTSTART;TZID=UTC:20240724T080000
DTEND;TZID=UTC:20240724T090000
DTSTAMP:20260425T144104
CREATED:20240525T180923Z
LAST-MODIFIED:20240525T180923Z
UID:4504-1721808000-1721811600@theriveroflifeworshipcenter.org
SUMMARY:Prayer Line
DESCRIPTION:
URL:https://theriveroflifeworshipcenter.org/event/prayer-line-319/
END:VEVENT
BEGIN:VEVENT
DTSTART;VALUE=DATE:20240725
DTEND;VALUE=DATE:20240726
DTSTAMP:20260425T144104
CREATED:20240526T123918Z
LAST-MODIFIED:20240526T123918Z
UID:4550-1721865600-1721951999@theriveroflifeworshipcenter.org
SUMMARY:Home Front Ministry Open for appointments
DESCRIPTION:
URL:https://theriveroflifeworshipcenter.org/event/home-front-ministry-open-for-appointments-8/
END:VEVENT
BEGIN:VEVENT
DTSTART;TZID=UTC:20240725T120000
DTEND;TZID=UTC:20240725T130000
DTSTAMP:20260425T144104
CREATED:20240525T181627Z
LAST-MODIFIED:20240525T181627Z
UID:4528-1721908800-1721912400@theriveroflifeworshipcenter.org
SUMMARY:Do you Need Prayer? Join us every Thursday from 12:00-1:00 PM
DESCRIPTION:
URL:https://theriveroflifeworshipcenter.org/event/do-you-need-prayer-join-us-every-thursday-from-1200-100-pm-122/
END:VEVENT
END:VCALENDAR