BEGIN:VCALENDAR
VERSION:2.0
PRODID:-//River of Life Worship Center - ECPv6.15.20//NONSGML v1.0//EN
CALSCALE:GREGORIAN
METHOD:PUBLISH
X-WR-CALNAME:River of Life Worship Center
X-ORIGINAL-URL:https://theriveroflifeworshipcenter.org
X-WR-CALDESC:Events for River of Life Worship Center
REFRESH-INTERVAL;VALUE=DURATION:PT1H
X-Robots-Tag:noindex
X-PUBLISHED-TTL:PT1H
BEGIN:VTIMEZONE
TZID:UTC
BEGIN:STANDARD
TZOFFSETFROM:+0000
TZOFFSETTO:+0000
TZNAME:UTC
DTSTART:20230101T000000
END:STANDARD
END:VTIMEZONE
BEGIN:VEVENT
DTSTART;TZID=UTC:20240726T080000
DTEND;TZID=UTC:20240726T090000
DTSTAMP:20260425T125355
CREATED:20240525T181342Z
LAST-MODIFIED:20240525T181342Z
UID:4500-1721980800-1721984400@theriveroflifeworshipcenter.org
SUMMARY:Prayer Line
DESCRIPTION:
URL:https://theriveroflifeworshipcenter.org/event/prayer-line-324/
END:VEVENT
BEGIN:VEVENT
DTSTART;TZID=UTC:20240729T080000
DTEND;TZID=UTC:20240729T090000
DTSTAMP:20260425T125355
CREATED:20240525T180724Z
LAST-MODIFIED:20240525T180724Z
UID:4508-1722240000-1722243600@theriveroflifeworshipcenter.org
SUMMARY:Prayer Line
DESCRIPTION:
URL:https://theriveroflifeworshipcenter.org/event/prayer-line-315/
END:VEVENT
BEGIN:VEVENT
DTSTART;TZID=UTC:20240730T120000
DTEND;TZID=UTC:20240730T130000
DTSTAMP:20260425T125355
CREATED:20240525T175928Z
LAST-MODIFIED:20240525T175928Z
UID:4481-1722340800-1722344400@theriveroflifeworshipcenter.org
SUMMARY:Do you Need Prayer? Join us every Tuesday from 12:00-1:00 PM
DESCRIPTION:
URL:https://theriveroflifeworshipcenter.org/event/do-you-need-prayer-join-us-every-tuesday-from-1200-100-pm-127/
END:VEVENT
BEGIN:VEVENT
DTSTART;TZID=UTC:20240730T190000
DTEND;TZID=UTC:20240730T200000
DTSTAMP:20260425T125355
CREATED:20240525T175835Z
LAST-MODIFIED:20240525T175835Z
UID:4477-1722366000-1722369600@theriveroflifeworshipcenter.org
SUMMARY:Tuesday Night Virtual Bible Study
DESCRIPTION:
URL:https://theriveroflifeworshipcenter.org/event/tuesday-night-virtual-bible-study-118/
END:VEVENT
BEGIN:VEVENT
DTSTART;TZID=UTC:20240731T080000
DTEND;TZID=UTC:20240731T090000
DTSTAMP:20260425T125355
CREATED:20240525T180952Z
LAST-MODIFIED:20240525T180952Z
UID:4503-1722412800-1722416400@theriveroflifeworshipcenter.org
SUMMARY:Prayer Line
DESCRIPTION:
URL:https://theriveroflifeworshipcenter.org/event/prayer-line-320/
END:VEVENT
BEGIN:VEVENT
DTSTART;VALUE=DATE:20240801
DTEND;VALUE=DATE:20240802
DTSTAMP:20260425T125355
CREATED:20240623T154823Z
LAST-MODIFIED:20240623T154823Z
UID:4626-1722470400-1722556799@theriveroflifeworshipcenter.org
SUMMARY:Home Front Ministry Open for appointments
DESCRIPTION:
URL:https://theriveroflifeworshipcenter.org/event/home-front-ministry-open-for-appointments-9/
END:VEVENT
BEGIN:VEVENT
DTSTART;TZID=UTC:20240801T120000
DTEND;TZID=UTC:20240801T130000
DTSTAMP:20260425T125355
CREATED:20240623T155256Z
LAST-MODIFIED:20240623T155256Z
UID:4637-1722513600-1722517200@theriveroflifeworshipcenter.org
SUMMARY:Do you Need Prayer? Join us every Thursday from 12:00-1:00 PM
DESCRIPTION:
URL:https://theriveroflifeworshipcenter.org/event/do-you-need-prayer-join-us-every-thursday-from-1200-100-pm-123/
END:VEVENT
BEGIN:VEVENT
DTSTART;TZID=UTC:20240802T080000
DTEND;TZID=UTC:20240802T090000
DTSTAMP:20260425T125355
CREATED:20240623T153134Z
LAST-MODIFIED:20240623T153134Z
UID:4593-1722585600-1722589200@theriveroflifeworshipcenter.org
SUMMARY:Prayer Line
DESCRIPTION:
URL:https://theriveroflifeworshipcenter.org/event/prayer-line-305/
END:VEVENT
BEGIN:VEVENT
DTSTART;TZID=UTC:20240805T080000
DTEND;TZID=UTC:20240805T090000
DTSTAMP:20260425T125355
CREATED:20240623T153155Z
LAST-MODIFIED:20240623T153155Z
UID:4592-1722844800-1722848400@theriveroflifeworshipcenter.org
SUMMARY:Prayer Line
DESCRIPTION:
URL:https://theriveroflifeworshipcenter.org/event/prayer-line-325/
END:VEVENT
BEGIN:VEVENT
DTSTART;TZID=UTC:20240806T120000
DTEND;TZID=UTC:20240806T130000
DTSTAMP:20260425T125355
CREATED:20240623T154227Z
LAST-MODIFIED:20240623T154227Z
UID:4618-1722945600-1722949200@theriveroflifeworshipcenter.org
SUMMARY:Do you Need Prayer? Join us every Tuesday from 12:00-1:00 PM
DESCRIPTION:
URL:https://theriveroflifeworshipcenter.org/event/do-you-need-prayer-join-us-every-tuesday-from-1200-100-pm-128/
END:VEVENT
BEGIN:VEVENT
DTSTART;TZID=UTC:20240806T190000
DTEND;TZID=UTC:20240806T200000
DTSTAMP:20260425T125355
CREATED:20240623T153957Z
LAST-MODIFIED:20240623T153957Z
UID:4610-1722970800-1722974400@theriveroflifeworshipcenter.org
SUMMARY:Tuesday Night Virtual Bible Study
DESCRIPTION:
URL:https://theriveroflifeworshipcenter.org/event/tuesday-night-virtual-bible-study-119/
END:VEVENT
BEGIN:VEVENT
DTSTART;TZID=UTC:20240807T080000
DTEND;TZID=UTC:20240807T090000
DTSTAMP:20260425T125355
CREATED:20240623T153217Z
LAST-MODIFIED:20240623T153217Z
UID:4591-1723017600-1723021200@theriveroflifeworshipcenter.org
SUMMARY:Prayer Line
DESCRIPTION:
URL:https://theriveroflifeworshipcenter.org/event/prayer-line-326/
END:VEVENT
BEGIN:VEVENT
DTSTART;VALUE=DATE:20240808
DTEND;VALUE=DATE:20240809
DTSTAMP:20260425T125355
CREATED:20240623T154904Z
LAST-MODIFIED:20240623T154904Z
UID:4628-1723075200-1723161599@theriveroflifeworshipcenter.org
SUMMARY:Home Front Ministry Open for appointments
DESCRIPTION:
URL:https://theriveroflifeworshipcenter.org/event/home-front-ministry-open-for-appointments-10/
END:VEVENT
BEGIN:VEVENT
DTSTART;TZID=UTC:20240808T120000
DTEND;TZID=UTC:20240808T130000
DTSTAMP:20260425T125355
CREATED:20240623T155323Z
LAST-MODIFIED:20240623T155323Z
UID:4636-1723118400-1723122000@theriveroflifeworshipcenter.org
SUMMARY:Do you Need Prayer? Join us every Thursday from 12:00-1:00 PM
DESCRIPTION:
URL:https://theriveroflifeworshipcenter.org/event/do-you-need-prayer-join-us-every-thursday-from-1200-100-pm-124/
END:VEVENT
BEGIN:VEVENT
DTSTART;TZID=UTC:20240809T080000
DTEND;TZID=UTC:20240809T090000
DTSTAMP:20260425T125355
CREATED:20240623T153319Z
LAST-MODIFIED:20240623T153319Z
UID:4589-1723190400-1723194000@theriveroflifeworshipcenter.org
SUMMARY:Prayer Line
DESCRIPTION:
URL:https://theriveroflifeworshipcenter.org/event/prayer-line-328/
END:VEVENT
BEGIN:VEVENT
DTSTART;TZID=UTC:20240812T080000
DTEND;TZID=UTC:20240812T090000
DTSTAMP:20260425T125355
CREATED:20240623T153251Z
LAST-MODIFIED:20240623T153425Z
UID:4590-1723449600-1723453200@theriveroflifeworshipcenter.org
SUMMARY:Prayer Line
DESCRIPTION:
URL:https://theriveroflifeworshipcenter.org/event/prayer-line-327/
END:VEVENT
BEGIN:VEVENT
DTSTART;TZID=UTC:20240813T120000
DTEND;TZID=UTC:20240813T130000
DTSTAMP:20260425T125355
CREATED:20240623T154255Z
LAST-MODIFIED:20240623T154255Z
UID:4617-1723550400-1723554000@theriveroflifeworshipcenter.org
SUMMARY:Do you Need Prayer? Join us every Tuesday from 12:00-1:00 PM
DESCRIPTION:
URL:https://theriveroflifeworshipcenter.org/event/do-you-need-prayer-join-us-every-tuesday-from-1200-100-pm-129/
END:VEVENT
BEGIN:VEVENT
DTSTART;TZID=UTC:20240813T190000
DTEND;TZID=UTC:20240813T200000
DTSTAMP:20260425T125355
CREATED:20240623T154019Z
LAST-MODIFIED:20240623T154019Z
UID:4609-1723575600-1723579200@theriveroflifeworshipcenter.org
SUMMARY:Tuesday Night Virtual Bible Study
DESCRIPTION:
URL:https://theriveroflifeworshipcenter.org/event/tuesday-night-virtual-bible-study-120/
END:VEVENT
BEGIN:VEVENT
DTSTART;TZID=UTC:20240814T080000
DTEND;TZID=UTC:20240814T090000
DTSTAMP:20260425T125355
CREATED:20240623T153516Z
LAST-MODIFIED:20240623T153516Z
UID:4588-1723622400-1723626000@theriveroflifeworshipcenter.org
SUMMARY:Prayer Line
DESCRIPTION:
URL:https://theriveroflifeworshipcenter.org/event/prayer-line-329/
END:VEVENT
BEGIN:VEVENT
DTSTART;VALUE=DATE:20240815
DTEND;VALUE=DATE:20240816
DTSTAMP:20260425T125355
CREATED:20240623T154926Z
LAST-MODIFIED:20240623T154926Z
UID:4625-1723680000-1723766399@theriveroflifeworshipcenter.org
SUMMARY:Home Front Ministry Open for appointments
DESCRIPTION:
URL:https://theriveroflifeworshipcenter.org/event/home-front-ministry-open-for-appointments-11/
END:VEVENT
BEGIN:VEVENT
DTSTART;TZID=UTC:20240815T120000
DTEND;TZID=UTC:20240815T130000
DTSTAMP:20260425T125355
CREATED:20240623T155345Z
LAST-MODIFIED:20240623T155345Z
UID:4635-1723723200-1723726800@theriveroflifeworshipcenter.org
SUMMARY:Do you Need Prayer? Join us every Thursday from 12:00-1:00 PM
DESCRIPTION:
URL:https://theriveroflifeworshipcenter.org/event/do-you-need-prayer-join-us-every-thursday-from-1200-100-pm-125/
END:VEVENT
BEGIN:VEVENT
DTSTART;TZID=UTC:20240816T080000
DTEND;TZID=UTC:20240816T090000
DTSTAMP:20260425T125355
CREATED:20240623T153536Z
LAST-MODIFIED:20240623T153536Z
UID:4587-1723795200-1723798800@theriveroflifeworshipcenter.org
SUMMARY:Prayer Line
DESCRIPTION:
URL:https://theriveroflifeworshipcenter.org/event/prayer-line-330/
END:VEVENT
BEGIN:VEVENT
DTSTART;TZID=UTC:20240819T080000
DTEND;TZID=UTC:20240819T090000
DTSTAMP:20260425T125355
CREATED:20240623T153608Z
LAST-MODIFIED:20240623T153608Z
UID:4586-1724054400-1724058000@theriveroflifeworshipcenter.org
SUMMARY:Prayer Line
DESCRIPTION:
URL:https://theriveroflifeworshipcenter.org/event/prayer-line-331/
END:VEVENT
BEGIN:VEVENT
DTSTART;TZID=UTC:20240820T120000
DTEND;TZID=UTC:20240820T130000
DTSTAMP:20260425T125355
CREATED:20240623T154318Z
LAST-MODIFIED:20240623T154318Z
UID:4616-1724155200-1724158800@theriveroflifeworshipcenter.org
SUMMARY:Do you Need Prayer? Join us every Tuesday from 12:00-1:00 PM
DESCRIPTION:
URL:https://theriveroflifeworshipcenter.org/event/do-you-need-prayer-join-us-every-tuesday-from-1200-100-pm-130/
END:VEVENT
BEGIN:VEVENT
DTSTART;TZID=UTC:20240820T190000
DTEND;TZID=UTC:20240820T200000
DTSTAMP:20260425T125355
CREATED:20240623T154044Z
LAST-MODIFIED:20240818T190134Z
UID:4608-1724180400-1724184000@theriveroflifeworshipcenter.org
SUMMARY:Tuesday Night Virtual Bible Study
DESCRIPTION:
URL:https://theriveroflifeworshipcenter.org/event/tuesday-night-virtual-bible-study-121/
END:VEVENT
BEGIN:VEVENT
DTSTART;TZID=UTC:20240821T080000
DTEND;TZID=UTC:20240821T090000
DTSTAMP:20260425T125355
CREATED:20240623T153626Z
LAST-MODIFIED:20240623T153626Z
UID:4585-1724227200-1724230800@theriveroflifeworshipcenter.org
SUMMARY:Prayer Line
DESCRIPTION:
URL:https://theriveroflifeworshipcenter.org/event/prayer-line-332/
END:VEVENT
BEGIN:VEVENT
DTSTART;VALUE=DATE:20240822
DTEND;VALUE=DATE:20240823
DTSTAMP:20260425T125355
CREATED:20240623T154954Z
LAST-MODIFIED:20240623T154954Z
UID:4624-1724284800-1724371199@theriveroflifeworshipcenter.org
SUMMARY:Home Front Ministry Open for appointments
DESCRIPTION:
URL:https://theriveroflifeworshipcenter.org/event/home-front-ministry-open-for-appointments-12/
END:VEVENT
BEGIN:VEVENT
DTSTART;TZID=UTC:20240822T120000
DTEND;TZID=UTC:20240822T130000
DTSTAMP:20260425T125355
CREATED:20240623T201814Z
LAST-MODIFIED:20240623T201814Z
UID:4633-1724328000-1724331600@theriveroflifeworshipcenter.org
SUMMARY:Do you Need Prayer? Join us every Thursday from 12:00-1:00 PM
DESCRIPTION:
URL:https://theriveroflifeworshipcenter.org/event/do-you-need-prayer-join-us-every-thursday-from-1200-100-pm-126/
END:VEVENT
BEGIN:VEVENT
DTSTART;TZID=UTC:20240823T080000
DTEND;TZID=UTC:20240823T090000
DTSTAMP:20260425T125355
CREATED:20240623T153646Z
LAST-MODIFIED:20240623T153646Z
UID:4584-1724400000-1724403600@theriveroflifeworshipcenter.org
SUMMARY:Prayer Line
DESCRIPTION:
URL:https://theriveroflifeworshipcenter.org/event/prayer-line-333/
END:VEVENT
BEGIN:VEVENT
DTSTART;TZID=UTC:20240826T080000
DTEND;TZID=UTC:20240826T090000
DTSTAMP:20260425T125355
CREATED:20240623T153706Z
LAST-MODIFIED:20240623T153706Z
UID:4583-1724659200-1724662800@theriveroflifeworshipcenter.org
SUMMARY:Prayer Line
DESCRIPTION:
URL:https://theriveroflifeworshipcenter.org/event/prayer-line-334/
END:VEVENT
END:VCALENDAR