BEGIN:VCALENDAR
VERSION:2.0
PRODID:-//River of Life Worship Center - ECPv6.15.20//NONSGML v1.0//EN
CALSCALE:GREGORIAN
METHOD:PUBLISH
X-ORIGINAL-URL:https://theriveroflifeworshipcenter.org
X-WR-CALDESC:Events for River of Life Worship Center
REFRESH-INTERVAL;VALUE=DURATION:PT1H
X-Robots-Tag:noindex
X-PUBLISHED-TTL:PT1H
BEGIN:VTIMEZONE
TZID:UTC
BEGIN:STANDARD
TZOFFSETFROM:+0000
TZOFFSETTO:+0000
TZNAME:UTC
DTSTART:20250101T000000
END:STANDARD
END:VTIMEZONE
BEGIN:VEVENT
DTSTART;TZID=UTC:20260321T100000
DTEND;TZID=UTC:20260321T120000
DTSTAMP:20260423T203605
CREATED:20260309T141258Z
LAST-MODIFIED:20260309T141258Z
UID:7165-1774087200-1774094400@theriveroflifeworshipcenter.org
SUMMARY:Community Outreach
DESCRIPTION:
URL:https://theriveroflifeworshipcenter.org/event/community-outreach-2/
END:VEVENT
BEGIN:VEVENT
DTSTART;TZID=UTC:20260321T180000
DTEND;TZID=UTC:20260321T200000
DTSTAMP:20260423T203605
CREATED:20260309T141631Z
LAST-MODIFIED:20260309T141723Z
UID:7168-1774116000-1774123200@theriveroflifeworshipcenter.org
SUMMARY:Project Life
DESCRIPTION:
URL:https://theriveroflifeworshipcenter.org/event/project-life-8/
END:VEVENT
BEGIN:VEVENT
DTSTART;TZID=UTC:20260323T080000
DTEND;TZID=UTC:20260323T090000
DTSTAMP:20260423T203605
CREATED:20260222T070543Z
LAST-MODIFIED:20260222T070543Z
UID:7041-1774252800-1774256400@theriveroflifeworshipcenter.org
SUMMARY:Prayer Line
DESCRIPTION:
URL:https://theriveroflifeworshipcenter.org/event/prayer-line-579/
END:VEVENT
BEGIN:VEVENT
DTSTART;TZID=UTC:20260324T120000
DTEND;TZID=UTC:20260324T130000
DTSTAMP:20260423T203605
CREATED:20260222T071236Z
LAST-MODIFIED:20260222T071236Z
UID:7068-1774353600-1774357200@theriveroflifeworshipcenter.org
SUMMARY:Do you Need Prayer? Join us every Tuesday from 12:00-1:00 PM
DESCRIPTION:
URL:https://theriveroflifeworshipcenter.org/event/do-you-need-prayer-join-us-every-tuesday-from-1200-100-pm-211/
END:VEVENT
BEGIN:VEVENT
DTSTART;TZID=UTC:20260324T190000
DTEND;TZID=UTC:20260324T200000
DTSTAMP:20260423T203605
CREATED:20260222T071518Z
LAST-MODIFIED:20260222T071518Z
UID:7074-1774378800-1774382400@theriveroflifeworshipcenter.org
SUMMARY:Tuesday Night Virtual Bible Study
DESCRIPTION:
URL:https://theriveroflifeworshipcenter.org/event/tuesday-night-virtual-bible-study-203/
END:VEVENT
BEGIN:VEVENT
DTSTART;TZID=UTC:20260325T080000
DTEND;TZID=UTC:20260325T090000
DTSTAMP:20260423T203605
CREATED:20260222T070606Z
LAST-MODIFIED:20260222T070606Z
UID:7040-1774425600-1774429200@theriveroflifeworshipcenter.org
SUMMARY:Prayer Line
DESCRIPTION:
URL:https://theriveroflifeworshipcenter.org/event/prayer-line-580/
END:VEVENT
BEGIN:VEVENT
DTSTART;TZID=UTC:20260326T120000
DTEND;TZID=UTC:20260326T130000
DTSTAMP:20260423T203605
CREATED:20260222T072046Z
LAST-MODIFIED:20260222T072046Z
UID:7090-1774526400-1774530000@theriveroflifeworshipcenter.org
SUMMARY:Do you Need Prayer? Join us every Thursday from 12:00-1:00 PM
DESCRIPTION:
URL:https://theriveroflifeworshipcenter.org/event/do-you-need-prayer-join-us-every-thursday-from-1200-100-pm-209/
END:VEVENT
BEGIN:VEVENT
DTSTART;TZID=UTC:20260327T080000
DTEND;TZID=UTC:20260327T090000
DTSTAMP:20260423T203605
CREATED:20260222T070636Z
LAST-MODIFIED:20260222T070636Z
UID:7039-1774598400-1774602000@theriveroflifeworshipcenter.org
SUMMARY:Prayer Line
DESCRIPTION:
URL:https://theriveroflifeworshipcenter.org/event/prayer-line-581/
END:VEVENT
BEGIN:VEVENT
DTSTART;TZID=UTC:20260330T080000
DTEND;TZID=UTC:20260330T090000
DTSTAMP:20260423T203605
CREATED:20260222T070700Z
LAST-MODIFIED:20260222T070700Z
UID:7038-1774857600-1774861200@theriveroflifeworshipcenter.org
SUMMARY:Prayer Line
DESCRIPTION:
URL:https://theriveroflifeworshipcenter.org/event/prayer-line-582/
END:VEVENT
BEGIN:VEVENT
DTSTART;TZID=UTC:20260331T120000
DTEND;TZID=UTC:20260331T130000
DTSTAMP:20260423T203605
CREATED:20260222T071703Z
LAST-MODIFIED:20260222T071805Z
UID:7088-1774958400-1774962000@theriveroflifeworshipcenter.org
SUMMARY:Do you Need Prayer? Join us every Tuesday from 12:00-1:00 PM
DESCRIPTION:
URL:https://theriveroflifeworshipcenter.org/event/do-you-need-prayer-join-us-every-tuesday-from-1200-100-pm-212/
END:VEVENT
BEGIN:VEVENT
DTSTART;TZID=UTC:20260331T190000
DTEND;TZID=UTC:20260331T200000
DTSTAMP:20260423T203605
CREATED:20260222T071544Z
LAST-MODIFIED:20260222T071544Z
UID:7073-1774983600-1774987200@theriveroflifeworshipcenter.org
SUMMARY:Tuesday Night Virtual Bible Study
DESCRIPTION:
URL:https://theriveroflifeworshipcenter.org/event/tuesday-night-virtual-bible-study-204/
END:VEVENT
BEGIN:VEVENT
DTSTART;TZID=UTC:20260401T080000
DTEND;TZID=UTC:20260401T090000
DTSTAMP:20260423T203605
CREATED:20260330T052340Z
LAST-MODIFIED:20260330T052340Z
UID:7243-1775030400-1775034000@theriveroflifeworshipcenter.org
SUMMARY:Prayer Line
DESCRIPTION:
URL:https://theriveroflifeworshipcenter.org/event/prayer-line-587/
END:VEVENT
BEGIN:VEVENT
DTSTART;TZID=UTC:20260401T190000
DTEND;TZID=UTC:20260401T200000
DTSTAMP:20260423T203605
CREATED:20260323T203359Z
LAST-MODIFIED:20260323T203359Z
UID:7197-1775070000-1775073600@theriveroflifeworshipcenter.org
SUMMARY:Spanish Classes
DESCRIPTION:
URL:https://theriveroflifeworshipcenter.org/event/spanish-classes-4/
END:VEVENT
BEGIN:VEVENT
DTSTART;TZID=UTC:20260402T120000
DTEND;TZID=UTC:20260402T130000
DTSTAMP:20260423T203605
CREATED:20260330T053709Z
LAST-MODIFIED:20260330T053709Z
UID:7274-1775131200-1775134800@theriveroflifeworshipcenter.org
SUMMARY:Do you Need Prayer? Join us every Thursday from 12:00-1:00 PM
DESCRIPTION:
URL:https://theriveroflifeworshipcenter.org/event/do-you-need-prayer-join-us-every-thursday-from-1200-100-pm-210/
END:VEVENT
BEGIN:VEVENT
DTSTART;TZID=UTC:20260403T080000
DTEND;TZID=UTC:20260403T090000
DTSTAMP:20260423T203605
CREATED:20260330T052723Z
LAST-MODIFIED:20260330T052723Z
UID:7238-1775203200-1775206800@theriveroflifeworshipcenter.org
SUMMARY:Prayer Line
DESCRIPTION:
URL:https://theriveroflifeworshipcenter.org/event/prayer-line-592/
END:VEVENT
BEGIN:VEVENT
DTSTART;TZID=UTC:20260403T193000
DTEND;TZID=UTC:20260403T210000
DTSTAMP:20260423T203605
CREATED:20260323T204325Z
LAST-MODIFIED:20260323T204325Z
UID:7209-1775244600-1775250000@theriveroflifeworshipcenter.org
SUMMARY:Good Friday Service
DESCRIPTION:
URL:https://theriveroflifeworshipcenter.org/event/good-friday-service-2/
END:VEVENT
BEGIN:VEVENT
DTSTART;TZID=UTC:20260406T080000
DTEND;TZID=UTC:20260406T090000
DTSTAMP:20260423T203605
CREATED:20260330T052101Z
LAST-MODIFIED:20260330T052101Z
UID:7247-1775462400-1775466000@theriveroflifeworshipcenter.org
SUMMARY:Prayer Line
DESCRIPTION:
URL:https://theriveroflifeworshipcenter.org/event/prayer-line-583/
END:VEVENT
BEGIN:VEVENT
DTSTART;TZID=UTC:20260406T123000
DTEND;TZID=UTC:20260406T133000
DTSTAMP:20260423T203605
CREATED:20260309T142233Z
LAST-MODIFIED:20260315T221637Z
UID:7172-1775478600-1775482200@theriveroflifeworshipcenter.org
SUMMARY:Healing Service
DESCRIPTION:
URL:https://theriveroflifeworshipcenter.org/event/healing-service-20/
END:VEVENT
BEGIN:VEVENT
DTSTART;TZID=UTC:20260407T120000
DTEND;TZID=UTC:20260407T130000
DTSTAMP:20260423T203605
CREATED:20260330T053217Z
LAST-MODIFIED:20260330T053217Z
UID:7266-1775563200-1775566800@theriveroflifeworshipcenter.org
SUMMARY:Do you Need Prayer? Join us every Tuesday from 12:00-1:00 PM
DESCRIPTION:
URL:https://theriveroflifeworshipcenter.org/event/do-you-need-prayer-join-us-every-tuesday-from-1200-100-pm-213/
END:VEVENT
BEGIN:VEVENT
DTSTART;TZID=UTC:20260407T190000
DTEND;TZID=UTC:20260407T200000
DTSTAMP:20260423T203605
CREATED:20260330T051542Z
LAST-MODIFIED:20260330T051542Z
UID:7232-1775588400-1775592000@theriveroflifeworshipcenter.org
SUMMARY:Tuesday Night Virtual Bible Study
DESCRIPTION:
URL:https://theriveroflifeworshipcenter.org/event/tuesday-night-virtual-bible-study-205/
END:VEVENT
BEGIN:VEVENT
DTSTART;TZID=UTC:20260408T080000
DTEND;TZID=UTC:20260408T090000
DTSTAMP:20260423T203605
CREATED:20260330T052414Z
LAST-MODIFIED:20260330T052414Z
UID:7242-1775635200-1775638800@theriveroflifeworshipcenter.org
SUMMARY:Prayer Line
DESCRIPTION:
URL:https://theriveroflifeworshipcenter.org/event/prayer-line-588/
END:VEVENT
BEGIN:VEVENT
DTSTART;TZID=UTC:20260408T190000
DTEND;TZID=UTC:20260408T200000
DTSTAMP:20260423T203605
CREATED:20260323T203602Z
LAST-MODIFIED:20260323T203602Z
UID:7200-1775674800-1775678400@theriveroflifeworshipcenter.org
SUMMARY:Spanish Classes
DESCRIPTION:
URL:https://theriveroflifeworshipcenter.org/event/spanish-classes-5/
END:VEVENT
BEGIN:VEVENT
DTSTART;TZID=UTC:20260409T120000
DTEND;TZID=UTC:20260409T130000
DTSTAMP:20260423T203605
CREATED:20260330T053748Z
LAST-MODIFIED:20260330T053748Z
UID:7273-1775736000-1775739600@theriveroflifeworshipcenter.org
SUMMARY:Do you Need Prayer? Join us every Thursday from 12:00-1:00 PM
DESCRIPTION:
URL:https://theriveroflifeworshipcenter.org/event/do-you-need-prayer-join-us-every-thursday-from-1200-100-pm-211/
END:VEVENT
BEGIN:VEVENT
DTSTART;TZID=UTC:20260410T080000
DTEND;TZID=UTC:20260410T090000
DTSTAMP:20260423T203605
CREATED:20260330T052749Z
LAST-MODIFIED:20260330T052749Z
UID:7237-1775808000-1775811600@theriveroflifeworshipcenter.org
SUMMARY:Prayer Line
DESCRIPTION:
URL:https://theriveroflifeworshipcenter.org/event/prayer-line-593/
END:VEVENT
BEGIN:VEVENT
DTSTART;TZID=UTC:20260413T080000
DTEND;TZID=UTC:20260413T090000
DTSTAMP:20260423T203605
CREATED:20260330T052129Z
LAST-MODIFIED:20260330T052129Z
UID:7246-1776067200-1776070800@theriveroflifeworshipcenter.org
SUMMARY:Prayer Line
DESCRIPTION:
URL:https://theriveroflifeworshipcenter.org/event/prayer-line-584/
END:VEVENT
BEGIN:VEVENT
DTSTART;TZID=UTC:20260414T120000
DTEND;TZID=UTC:20260414T130000
DTSTAMP:20260423T203605
CREATED:20260330T053245Z
LAST-MODIFIED:20260330T053245Z
UID:7265-1776168000-1776171600@theriveroflifeworshipcenter.org
SUMMARY:Do you Need Prayer? Join us every Tuesday from 12:00-1:00 PM
DESCRIPTION:
URL:https://theriveroflifeworshipcenter.org/event/do-you-need-prayer-join-us-every-tuesday-from-1200-100-pm-214/
END:VEVENT
BEGIN:VEVENT
DTSTART;TZID=UTC:20260414T190000
DTEND;TZID=UTC:20260414T200000
DTSTAMP:20260423T203605
CREATED:20260330T051601Z
LAST-MODIFIED:20260330T051601Z
UID:7231-1776193200-1776196800@theriveroflifeworshipcenter.org
SUMMARY:Tuesday Night Virtual Bible Study
DESCRIPTION:
URL:https://theriveroflifeworshipcenter.org/event/tuesday-night-virtual-bible-study-206/
END:VEVENT
BEGIN:VEVENT
DTSTART;TZID=UTC:20260415T080000
DTEND;TZID=UTC:20260415T090000
DTSTAMP:20260423T203605
CREATED:20260330T052444Z
LAST-MODIFIED:20260330T052444Z
UID:7241-1776240000-1776243600@theriveroflifeworshipcenter.org
SUMMARY:Prayer Line
DESCRIPTION:
URL:https://theriveroflifeworshipcenter.org/event/prayer-line-589/
END:VEVENT
BEGIN:VEVENT
DTSTART;TZID=UTC:20260415T190000
DTEND;TZID=UTC:20260415T200000
DTSTAMP:20260423T203605
CREATED:20260323T203657Z
LAST-MODIFIED:20260323T203657Z
UID:7202-1776279600-1776283200@theriveroflifeworshipcenter.org
SUMMARY:Spanish Classes
DESCRIPTION:
URL:https://theriveroflifeworshipcenter.org/event/spanish-classes-6/
END:VEVENT
BEGIN:VEVENT
DTSTART;TZID=UTC:20260416T120000
DTEND;TZID=UTC:20260416T130000
DTSTAMP:20260423T203605
CREATED:20260330T053825Z
LAST-MODIFIED:20260330T053825Z
UID:7272-1776340800-1776344400@theriveroflifeworshipcenter.org
SUMMARY:Do you Need Prayer? Join us every Thursday from 12:00-1:00 PM
DESCRIPTION:
URL:https://theriveroflifeworshipcenter.org/event/do-you-need-prayer-join-us-every-thursday-from-1200-100-pm-212/
END:VEVENT
END:VCALENDAR