BEGIN:VCALENDAR
VERSION:2.0
PRODID:-//River of Life Worship Center - ECPv6.15.20//NONSGML v1.0//EN
CALSCALE:GREGORIAN
METHOD:PUBLISH
X-WR-CALNAME:River of Life Worship Center
X-ORIGINAL-URL:https://theriveroflifeworshipcenter.org
X-WR-CALDESC:Events for River of Life Worship Center
REFRESH-INTERVAL;VALUE=DURATION:PT1H
X-Robots-Tag:noindex
X-PUBLISHED-TTL:PT1H
BEGIN:VTIMEZONE
TZID:UTC
BEGIN:STANDARD
TZOFFSETFROM:+0000
TZOFFSETTO:+0000
TZNAME:UTC
DTSTART:20220101T000000
END:STANDARD
END:VTIMEZONE
BEGIN:VEVENT
DTSTART;TZID=UTC:20231121T190000
DTEND;TZID=UTC:20231121T200000
DTSTAMP:20260426T022114
CREATED:20230529T000521Z
LAST-MODIFIED:20230529T000521Z
UID:3266-1700593200-1700596800@theriveroflifeworshipcenter.org
SUMMARY:Tuesday Night Virtual Bible Study
DESCRIPTION:
URL:https://theriveroflifeworshipcenter.org/event/tuesday-night-virtual-bible-study-82/
END:VEVENT
BEGIN:VEVENT
DTSTART;TZID=UTC:20231122T080000
DTEND;TZID=UTC:20231122T090000
DTSTAMP:20260426T022114
CREATED:20230528T235940Z
LAST-MODIFIED:20230528T235940Z
UID:3236-1700640000-1700643600@theriveroflifeworshipcenter.org
SUMMARY:Prayer Line
DESCRIPTION:
URL:https://theriveroflifeworshipcenter.org/event/prayer-line-214/
END:VEVENT
BEGIN:VEVENT
DTSTART;TZID=UTC:20231123T120000
DTEND;TZID=UTC:20231123T130000
DTSTAMP:20260426T022114
CREATED:20230529T000317Z
LAST-MODIFIED:20230529T000317Z
UID:3256-1700740800-1700744400@theriveroflifeworshipcenter.org
SUMMARY:Do you Need Prayer? Join us every Thursday from 12:00-1:00 PM
DESCRIPTION:
URL:https://theriveroflifeworshipcenter.org/event/do-you-need-prayer-join-us-every-thursday-from-1200-100-pm-89/
END:VEVENT
BEGIN:VEVENT
DTSTART;TZID=UTC:20231124T080000
DTEND;TZID=UTC:20231124T090000
DTSTAMP:20260426T022114
CREATED:20230529T000127Z
LAST-MODIFIED:20230529T000127Z
UID:3231-1700812800-1700816400@theriveroflifeworshipcenter.org
SUMMARY:Prayer Line
DESCRIPTION:
URL:https://theriveroflifeworshipcenter.org/event/prayer-line-219/
END:VEVENT
BEGIN:VEVENT
DTSTART;TZID=UTC:20231127T080000
DTEND;TZID=UTC:20231127T090000
DTSTAMP:20260426T022114
CREATED:20230528T235814Z
LAST-MODIFIED:20230528T235814Z
UID:3239-1701072000-1701075600@theriveroflifeworshipcenter.org
SUMMARY:Prayer Line
DESCRIPTION:
URL:https://theriveroflifeworshipcenter.org/event/prayer-line-211/
END:VEVENT
BEGIN:VEVENT
DTSTART;TZID=UTC:20231128T120000
DTEND;TZID=UTC:20231128T130000
DTSTAMP:20260426T022114
CREATED:20230529T000740Z
LAST-MODIFIED:20230529T000740Z
UID:3273-1701172800-1701176400@theriveroflifeworshipcenter.org
SUMMARY:Do you Need Prayer? Join us every Tuesday from 12:00-1:00 PM
DESCRIPTION:
URL:https://theriveroflifeworshipcenter.org/event/do-you-need-prayer-join-us-every-tuesday-from-1200-100-pm-92/
END:VEVENT
BEGIN:VEVENT
DTSTART;TZID=UTC:20231128T190000
DTEND;TZID=UTC:20231128T200000
DTSTAMP:20260426T022114
CREATED:20230529T000540Z
LAST-MODIFIED:20230529T000540Z
UID:3265-1701198000-1701201600@theriveroflifeworshipcenter.org
SUMMARY:Tuesday Night Virtual Bible Study
DESCRIPTION:
URL:https://theriveroflifeworshipcenter.org/event/tuesday-night-virtual-bible-study-83/
END:VEVENT
BEGIN:VEVENT
DTSTART;TZID=UTC:20231129T080000
DTEND;TZID=UTC:20231129T090000
DTSTAMP:20260426T022114
CREATED:20230528T235957Z
LAST-MODIFIED:20230528T235957Z
UID:3235-1701244800-1701248400@theriveroflifeworshipcenter.org
SUMMARY:Prayer Line
DESCRIPTION:
URL:https://theriveroflifeworshipcenter.org/event/prayer-line-215/
END:VEVENT
BEGIN:VEVENT
DTSTART;TZID=UTC:20231130T120000
DTEND;TZID=UTC:20231130T130000
DTSTAMP:20260426T022114
CREATED:20230529T000332Z
LAST-MODIFIED:20230529T000332Z
UID:3255-1701345600-1701349200@theriveroflifeworshipcenter.org
SUMMARY:Do you Need Prayer? Join us every Thursday from 12:00-1:00 PM
DESCRIPTION:
URL:https://theriveroflifeworshipcenter.org/event/do-you-need-prayer-join-us-every-thursday-from-1200-100-pm-90/
END:VEVENT
BEGIN:VEVENT
DTSTART;TZID=UTC:20231201T080000
DTEND;TZID=UTC:20231201T090000
DTSTAMP:20260426T022114
CREATED:20230528T235355Z
LAST-MODIFIED:20230529T000955Z
UID:3226-1701417600-1701421200@theriveroflifeworshipcenter.org
SUMMARY:Prayer Line
DESCRIPTION:
URL:https://theriveroflifeworshipcenter.org/event/prayer-line-206/
END:VEVENT
BEGIN:VEVENT
DTSTART;TZID=UTC:20231204T080000
DTEND;TZID=UTC:20231204T090000
DTSTAMP:20260426T022114
CREATED:20230529T001649Z
LAST-MODIFIED:20230529T001649Z
UID:3296-1701676800-1701680400@theriveroflifeworshipcenter.org
SUMMARY:Prayer Line
DESCRIPTION:
URL:https://theriveroflifeworshipcenter.org/event/prayer-line-220/
END:VEVENT
BEGIN:VEVENT
DTSTART;TZID=UTC:20231204T123000
DTEND;TZID=UTC:20231204T133000
DTSTAMP:20260426T022114
CREATED:20230826T210703Z
LAST-MODIFIED:20230826T210703Z
UID:3463-1701693000-1701696600@theriveroflifeworshipcenter.org
SUMMARY:Healing Service
DESCRIPTION:
URL:https://theriveroflifeworshipcenter.org/event/healing-service-3/
END:VEVENT
BEGIN:VEVENT
DTSTART;TZID=UTC:20231205T120000
DTEND;TZID=UTC:20231205T130000
DTSTAMP:20260426T022114
CREATED:20230529T001539Z
LAST-MODIFIED:20230529T001539Z
UID:3292-1701777600-1701781200@theriveroflifeworshipcenter.org
SUMMARY:Do you Need Prayer? Join us every Tuesday from 12:00-1:00 PM
DESCRIPTION:
URL:https://theriveroflifeworshipcenter.org/event/do-you-need-prayer-join-us-every-tuesday-from-1200-100-pm-93/
END:VEVENT
BEGIN:VEVENT
DTSTART;TZID=UTC:20231205T190000
DTEND;TZID=UTC:20231205T200000
DTSTAMP:20260426T022114
CREATED:20230529T001423Z
LAST-MODIFIED:20230529T001423Z
UID:3288-1701802800-1701806400@theriveroflifeworshipcenter.org
SUMMARY:Tuesday Night Virtual Bible Study
DESCRIPTION:
URL:https://theriveroflifeworshipcenter.org/event/tuesday-night-virtual-bible-study-84/
END:VEVENT
BEGIN:VEVENT
DTSTART;TZID=UTC:20231206T080000
DTEND;TZID=UTC:20231206T090000
DTSTAMP:20260426T022114
CREATED:20230529T001832Z
LAST-MODIFIED:20230529T001832Z
UID:3316-1701849600-1701853200@theriveroflifeworshipcenter.org
SUMMARY:Prayer Line
DESCRIPTION:
URL:https://theriveroflifeworshipcenter.org/event/prayer-line-224/
END:VEVENT
BEGIN:VEVENT
DTSTART;TZID=UTC:20231207T120000
DTEND;TZID=UTC:20231207T130000
DTSTAMP:20260426T022114
CREATED:20230529T001258Z
LAST-MODIFIED:20230529T001258Z
UID:3284-1701950400-1701954000@theriveroflifeworshipcenter.org
SUMMARY:Do you Need Prayer? Join us every Thursday from 12:00-1:00 PM
DESCRIPTION:
URL:https://theriveroflifeworshipcenter.org/event/do-you-need-prayer-join-us-every-thursday-from-1200-100-pm-85/
END:VEVENT
BEGIN:VEVENT
DTSTART;TZID=UTC:20231208T080000
DTEND;TZID=UTC:20231208T090000
DTSTAMP:20260426T022114
CREATED:20230529T001945Z
LAST-MODIFIED:20230529T001945Z
UID:3324-1702022400-1702026000@theriveroflifeworshipcenter.org
SUMMARY:Prayer Line
DESCRIPTION:
URL:https://theriveroflifeworshipcenter.org/event/prayer-line-228/
END:VEVENT
BEGIN:VEVENT
DTSTART;TZID=UTC:20231211T080000
DTEND;TZID=UTC:20231211T090000
DTSTAMP:20260426T022114
CREATED:20230529T001707Z
LAST-MODIFIED:20230529T001707Z
UID:3295-1702281600-1702285200@theriveroflifeworshipcenter.org
SUMMARY:Prayer Line
DESCRIPTION:
URL:https://theriveroflifeworshipcenter.org/event/prayer-line-221/
END:VEVENT
BEGIN:VEVENT
DTSTART;TZID=UTC:20231212T120000
DTEND;TZID=UTC:20231212T130000
DTSTAMP:20260426T022114
CREATED:20230529T001554Z
LAST-MODIFIED:20230529T001554Z
UID:3291-1702382400-1702386000@theriveroflifeworshipcenter.org
SUMMARY:Do you Need Prayer? Join us every Tuesday from 12:00-1:00 PM
DESCRIPTION:
URL:https://theriveroflifeworshipcenter.org/event/do-you-need-prayer-join-us-every-tuesday-from-1200-100-pm-94/
END:VEVENT
BEGIN:VEVENT
DTSTART;TZID=UTC:20231212T190000
DTEND;TZID=UTC:20231212T200000
DTSTAMP:20260426T022114
CREATED:20230529T001442Z
LAST-MODIFIED:20230529T001442Z
UID:3287-1702407600-1702411200@theriveroflifeworshipcenter.org
SUMMARY:Tuesday Night Virtual Bible Study
DESCRIPTION:
URL:https://theriveroflifeworshipcenter.org/event/tuesday-night-virtual-bible-study-85/
END:VEVENT
BEGIN:VEVENT
DTSTART;TZID=UTC:20231213T080000
DTEND;TZID=UTC:20231213T090000
DTSTAMP:20260426T022114
CREATED:20230529T001845Z
LAST-MODIFIED:20230529T001845Z
UID:3315-1702454400-1702458000@theriveroflifeworshipcenter.org
SUMMARY:Prayer Line
DESCRIPTION:
URL:https://theriveroflifeworshipcenter.org/event/prayer-line-225/
END:VEVENT
BEGIN:VEVENT
DTSTART;TZID=UTC:20231214T120000
DTEND;TZID=UTC:20231214T130000
DTSTAMP:20260426T022114
CREATED:20230529T001317Z
LAST-MODIFIED:20230529T001317Z
UID:3283-1702555200-1702558800@theriveroflifeworshipcenter.org
SUMMARY:Do you Need Prayer? Join us every Thursday from 12:00-1:00 PM
DESCRIPTION:
URL:https://theriveroflifeworshipcenter.org/event/do-you-need-prayer-join-us-every-thursday-from-1200-100-pm-91/
END:VEVENT
BEGIN:VEVENT
DTSTART;TZID=UTC:20231215T080000
DTEND;TZID=UTC:20231215T090000
DTSTAMP:20260426T022114
CREATED:20230529T002002Z
LAST-MODIFIED:20230529T002002Z
UID:3323-1702627200-1702630800@theriveroflifeworshipcenter.org
SUMMARY:Prayer Line
DESCRIPTION:
URL:https://theriveroflifeworshipcenter.org/event/prayer-line-229/
END:VEVENT
BEGIN:VEVENT
DTSTART;TZID=UTC:20231216T110000
DTEND;TZID=UTC:20231216T130000
DTSTAMP:20260426T022114
CREATED:20231104T002141Z
LAST-MODIFIED:20231104T002141Z
UID:3584-1702724400-1702731600@theriveroflifeworshipcenter.org
SUMMARY:Youth Christmas Celebration
DESCRIPTION:
URL:https://theriveroflifeworshipcenter.org/event/youth-christmas-celebration-2/
END:VEVENT
BEGIN:VEVENT
DTSTART;TZID=UTC:20231218T080000
DTEND;TZID=UTC:20231218T090000
DTSTAMP:20260426T022114
CREATED:20230529T001723Z
LAST-MODIFIED:20230529T001723Z
UID:3294-1702886400-1702890000@theriveroflifeworshipcenter.org
SUMMARY:Prayer Line
DESCRIPTION:
URL:https://theriveroflifeworshipcenter.org/event/prayer-line-222/
END:VEVENT
BEGIN:VEVENT
DTSTART;TZID=UTC:20231219T120000
DTEND;TZID=UTC:20231219T130000
DTSTAMP:20260426T022114
CREATED:20230529T001610Z
LAST-MODIFIED:20230529T001610Z
UID:3290-1702987200-1702990800@theriveroflifeworshipcenter.org
SUMMARY:Do you Need Prayer? Join us every Tuesday from 12:00-1:00 PM
DESCRIPTION:
URL:https://theriveroflifeworshipcenter.org/event/do-you-need-prayer-join-us-every-tuesday-from-1200-100-pm-95/
END:VEVENT
BEGIN:VEVENT
DTSTART;TZID=UTC:20231219T190000
DTEND;TZID=UTC:20231219T200000
DTSTAMP:20260426T022114
CREATED:20230529T001457Z
LAST-MODIFIED:20230529T001457Z
UID:3286-1703012400-1703016000@theriveroflifeworshipcenter.org
SUMMARY:Tuesday Night Virtual Bible Study
DESCRIPTION:
URL:https://theriveroflifeworshipcenter.org/event/tuesday-night-virtual-bible-study-86/
END:VEVENT
BEGIN:VEVENT
DTSTART;TZID=UTC:20231220T080000
DTEND;TZID=UTC:20231220T090000
DTSTAMP:20260426T022114
CREATED:20230529T001858Z
LAST-MODIFIED:20230529T001858Z
UID:3314-1703059200-1703062800@theriveroflifeworshipcenter.org
SUMMARY:Prayer Line
DESCRIPTION:
URL:https://theriveroflifeworshipcenter.org/event/prayer-line-226/
END:VEVENT
BEGIN:VEVENT
DTSTART;TZID=UTC:20231221T120000
DTEND;TZID=UTC:20231221T130000
DTSTAMP:20260426T022114
CREATED:20230529T001336Z
LAST-MODIFIED:20230529T001336Z
UID:3282-1703160000-1703163600@theriveroflifeworshipcenter.org
SUMMARY:Do you Need Prayer? Join us every Thursday from 12:00-1:00 PM
DESCRIPTION:
URL:https://theriveroflifeworshipcenter.org/event/do-you-need-prayer-join-us-every-thursday-from-1200-100-pm-92/
END:VEVENT
BEGIN:VEVENT
DTSTART;TZID=UTC:20231222T080000
DTEND;TZID=UTC:20231222T090000
DTSTAMP:20260426T022114
CREATED:20230529T002014Z
LAST-MODIFIED:20230529T002014Z
UID:3322-1703232000-1703235600@theriveroflifeworshipcenter.org
SUMMARY:Prayer Line
DESCRIPTION:
URL:https://theriveroflifeworshipcenter.org/event/prayer-line-230/
END:VEVENT
END:VCALENDAR