BEGIN:VCALENDAR
VERSION:2.0
PRODID:-//River of Life Worship Center - ECPv6.15.20//NONSGML v1.0//EN
CALSCALE:GREGORIAN
METHOD:PUBLISH
X-WR-CALNAME:River of Life Worship Center
X-ORIGINAL-URL:https://theriveroflifeworshipcenter.org
X-WR-CALDESC:Events for River of Life Worship Center
REFRESH-INTERVAL;VALUE=DURATION:PT1H
X-Robots-Tag:noindex
X-PUBLISHED-TTL:PT1H
BEGIN:VTIMEZONE
TZID:UTC
BEGIN:STANDARD
TZOFFSETFROM:+0000
TZOFFSETTO:+0000
TZNAME:UTC
DTSTART:20220101T000000
END:STANDARD
END:VTIMEZONE
BEGIN:VEVENT
DTSTART;TZID=UTC:20231019T120000
DTEND;TZID=UTC:20231019T130000
DTSTAMP:20260426T041229
CREATED:20230528T234533Z
LAST-MODIFIED:20230528T234533Z
UID:3198-1697716800-1697720400@theriveroflifeworshipcenter.org
SUMMARY:Do you Need Prayer? Join us every Thursday from 12:00-1:00 PM
DESCRIPTION:
URL:https://theriveroflifeworshipcenter.org/event/do-you-need-prayer-join-us-every-thursday-from-1200-100-pm-83/
END:VEVENT
BEGIN:VEVENT
DTSTART;TZID=UTC:20231020T080000
DTEND;TZID=UTC:20231020T090000
DTSTAMP:20260426T041229
CREATED:20230528T234236Z
LAST-MODIFIED:20230528T234236Z
UID:3172-1697788800-1697792400@theriveroflifeworshipcenter.org
SUMMARY:Prayer Line
DESCRIPTION:
URL:https://theriveroflifeworshipcenter.org/event/prayer-line-204/
END:VEVENT
BEGIN:VEVENT
DTSTART;TZID=UTC:20231023T080000
DTEND;TZID=UTC:20231023T090000
DTSTAMP:20260426T041229
CREATED:20230528T233912Z
LAST-MODIFIED:20230528T233912Z
UID:3180-1698048000-1698051600@theriveroflifeworshipcenter.org
SUMMARY:Prayer Line
DESCRIPTION:
URL:https://theriveroflifeworshipcenter.org/event/prayer-line-196/
END:VEVENT
BEGIN:VEVENT
DTSTART;TZID=UTC:20231024T120000
DTEND;TZID=UTC:20231024T130000
DTSTAMP:20260426T041229
CREATED:20230528T235115Z
LAST-MODIFIED:20230528T235115Z
UID:3210-1698148800-1698152400@theriveroflifeworshipcenter.org
SUMMARY:Do you Need Prayer? Join us every Tuesday from 12:00-1:00 PM
DESCRIPTION:
URL:https://theriveroflifeworshipcenter.org/event/do-you-need-prayer-join-us-every-tuesday-from-1200-100-pm-87/
END:VEVENT
BEGIN:VEVENT
DTSTART;TZID=UTC:20231024T190000
DTEND;TZID=UTC:20231024T200000
DTSTAMP:20260426T041229
CREATED:20230528T234901Z
LAST-MODIFIED:20230528T234901Z
UID:3205-1698174000-1698177600@theriveroflifeworshipcenter.org
SUMMARY:Tuesday Night Virtual Bible Study
DESCRIPTION:
URL:https://theriveroflifeworshipcenter.org/event/tuesday-night-virtual-bible-study-78/
END:VEVENT
BEGIN:VEVENT
DTSTART;TZID=UTC:20231025T080000
DTEND;TZID=UTC:20231025T090000
DTSTAMP:20260426T041229
CREATED:20230528T234135Z
LAST-MODIFIED:20230528T234135Z
UID:3175-1698220800-1698224400@theriveroflifeworshipcenter.org
SUMMARY:Prayer Line
DESCRIPTION:
URL:https://theriveroflifeworshipcenter.org/event/prayer-line-201/
END:VEVENT
BEGIN:VEVENT
DTSTART;TZID=UTC:20231026T120000
DTEND;TZID=UTC:20231026T130000
DTSTAMP:20260426T041229
CREATED:20230528T234549Z
LAST-MODIFIED:20230528T234549Z
UID:3197-1698321600-1698325200@theriveroflifeworshipcenter.org
SUMMARY:Do you Need Prayer? Join us every Thursday from 12:00-1:00 PM
DESCRIPTION:
URL:https://theriveroflifeworshipcenter.org/event/do-you-need-prayer-join-us-every-thursday-from-1200-100-pm-84/
END:VEVENT
BEGIN:VEVENT
DTSTART;TZID=UTC:20231027T080000
DTEND;TZID=UTC:20231027T090000
DTSTAMP:20260426T041229
CREATED:20230528T234255Z
LAST-MODIFIED:20230528T234255Z
UID:3171-1698393600-1698397200@theriveroflifeworshipcenter.org
SUMMARY:Prayer Line
DESCRIPTION:
URL:https://theriveroflifeworshipcenter.org/event/prayer-line-205/
END:VEVENT
BEGIN:VEVENT
DTSTART;TZID=UTC:20231027T193000
DTEND;TZID=UTC:20231027T193000
DTSTAMP:20260426T041229
CREATED:20230911T235107Z
LAST-MODIFIED:20230911T235107Z
UID:3478-1698435000-1698435000@theriveroflifeworshipcenter.org
SUMMARY:Night of Worship
DESCRIPTION:
URL:https://theriveroflifeworshipcenter.org/event/night-of-worship/
END:VEVENT
BEGIN:VEVENT
DTSTART;TZID=UTC:20231030T080000
DTEND;TZID=UTC:20231030T090000
DTSTAMP:20260426T041229
CREATED:20230528T233938Z
LAST-MODIFIED:20230528T233938Z
UID:3179-1698652800-1698656400@theriveroflifeworshipcenter.org
SUMMARY:Prayer Line
DESCRIPTION:
URL:https://theriveroflifeworshipcenter.org/event/prayer-line-197/
END:VEVENT
BEGIN:VEVENT
DTSTART;TZID=UTC:20231031T120000
DTEND;TZID=UTC:20231031T130000
DTSTAMP:20260426T041229
CREATED:20230528T235139Z
LAST-MODIFIED:20230528T235139Z
UID:3209-1698753600-1698757200@theriveroflifeworshipcenter.org
SUMMARY:Do you Need Prayer? Join us every Tuesday from 12:00-1:00 PM
DESCRIPTION:
URL:https://theriveroflifeworshipcenter.org/event/do-you-need-prayer-join-us-every-tuesday-from-1200-100-pm-88/
END:VEVENT
BEGIN:VEVENT
DTSTART;TZID=UTC:20231031T190000
DTEND;TZID=UTC:20231031T200000
DTSTAMP:20260426T041229
CREATED:20230528T234926Z
LAST-MODIFIED:20230528T234926Z
UID:3217-1698778800-1698782400@theriveroflifeworshipcenter.org
SUMMARY:Tuesday Night Virtual Bible Study
DESCRIPTION:
URL:https://theriveroflifeworshipcenter.org/event/tuesday-night-virtual-bible-study-79/
END:VEVENT
BEGIN:VEVENT
DTSTART;TZID=UTC:20231101T080000
DTEND;TZID=UTC:20231101T090000
DTSTAMP:20260426T041229
CREATED:20230528T235511Z
LAST-MODIFIED:20230528T235511Z
UID:3225-1698825600-1698829200@theriveroflifeworshipcenter.org
SUMMARY:Prayer Line
DESCRIPTION:
URL:https://theriveroflifeworshipcenter.org/event/prayer-line-207/
END:VEVENT
BEGIN:VEVENT
DTSTART;TZID=UTC:20231102T120000
DTEND;TZID=UTC:20231102T130000
DTSTAMP:20260426T041229
CREATED:20230529T000215Z
LAST-MODIFIED:20230529T000215Z
UID:3258-1698926400-1698930000@theriveroflifeworshipcenter.org
SUMMARY:Do you Need Prayer? Join us every Thursday from 12:00-1:00 PM
DESCRIPTION:
URL:https://theriveroflifeworshipcenter.org/event/do-you-need-prayer-join-us-every-thursday-from-1200-100-pm-86/
END:VEVENT
BEGIN:VEVENT
DTSTART;TZID=UTC:20231103T080000
DTEND;TZID=UTC:20231103T090000
DTSTAMP:20260426T041229
CREATED:20230529T000016Z
LAST-MODIFIED:20230529T000016Z
UID:3234-1698998400-1699002000@theriveroflifeworshipcenter.org
SUMMARY:Prayer Line
DESCRIPTION:
URL:https://theriveroflifeworshipcenter.org/event/prayer-line-216/
END:VEVENT
BEGIN:VEVENT
DTSTART;TZID=UTC:20231106T080000
DTEND;TZID=UTC:20231106T090000
DTSTAMP:20260426T041229
CREATED:20230528T235730Z
LAST-MODIFIED:20230528T235730Z
UID:3242-1699257600-1699261200@theriveroflifeworshipcenter.org
SUMMARY:Prayer Line
DESCRIPTION:
URL:https://theriveroflifeworshipcenter.org/event/prayer-line-208/
END:VEVENT
BEGIN:VEVENT
DTSTART;TZID=UTC:20231106T123000
DTEND;TZID=UTC:20231106T133000
DTSTAMP:20260426T041229
CREATED:20230826T210126Z
LAST-MODIFIED:20231024T015411Z
UID:3461-1699273800-1699277400@theriveroflifeworshipcenter.org
SUMMARY:Healing Service
DESCRIPTION:
URL:https://theriveroflifeworshipcenter.org/event/healing-service-2/
END:VEVENT
BEGIN:VEVENT
DTSTART;TZID=UTC:20231107T120000
DTEND;TZID=UTC:20231107T130000
DTSTAMP:20260426T041229
CREATED:20230529T000645Z
LAST-MODIFIED:20230529T000645Z
UID:3276-1699358400-1699362000@theriveroflifeworshipcenter.org
SUMMARY:Do you Need Prayer? Join us every Tuesday from 12:00-1:00 PM
DESCRIPTION:
URL:https://theriveroflifeworshipcenter.org/event/do-you-need-prayer-join-us-every-tuesday-from-1200-100-pm-89/
END:VEVENT
BEGIN:VEVENT
DTSTART;TZID=UTC:20231107T190000
DTEND;TZID=UTC:20231107T200000
DTSTAMP:20260426T041229
CREATED:20230529T000433Z
LAST-MODIFIED:20230529T000433Z
UID:3268-1699383600-1699387200@theriveroflifeworshipcenter.org
SUMMARY:Tuesday Night Virtual Bible Study
DESCRIPTION:
URL:https://theriveroflifeworshipcenter.org/event/tuesday-night-virtual-bible-study-80/
END:VEVENT
BEGIN:VEVENT
DTSTART;TZID=UTC:20231108T080000
DTEND;TZID=UTC:20231108T090000
DTSTAMP:20260426T041229
CREATED:20230528T235859Z
LAST-MODIFIED:20230528T235859Z
UID:3238-1699430400-1699434000@theriveroflifeworshipcenter.org
SUMMARY:Prayer Line
DESCRIPTION:
URL:https://theriveroflifeworshipcenter.org/event/prayer-line-212/
END:VEVENT
BEGIN:VEVENT
DTSTART;TZID=UTC:20231109T120000
DTEND;TZID=UTC:20231109T130000
DTSTAMP:20260426T041229
CREATED:20230529T000237Z
LAST-MODIFIED:20230529T000237Z
UID:3257-1699531200-1699534800@theriveroflifeworshipcenter.org
SUMMARY:Do you Need Prayer? Join us every Thursday from 12:00-1:00 PM
DESCRIPTION:
URL:https://theriveroflifeworshipcenter.org/event/do-you-need-prayer-join-us-every-thursday-from-1200-100-pm-87/
END:VEVENT
BEGIN:VEVENT
DTSTART;TZID=UTC:20231110T080000
DTEND;TZID=UTC:20231110T090000
DTSTAMP:20260426T041229
CREATED:20230529T000042Z
LAST-MODIFIED:20230529T000042Z
UID:3233-1699603200-1699606800@theriveroflifeworshipcenter.org
SUMMARY:Prayer Line
DESCRIPTION:
URL:https://theriveroflifeworshipcenter.org/event/prayer-line-217/
END:VEVENT
BEGIN:VEVENT
DTSTART;TZID=UTC:20231112T103000
DTEND;TZID=UTC:20231112T130000
DTSTAMP:20260426T041229
CREATED:20231104T192501Z
LAST-MODIFIED:20231104T192501Z
UID:3601-1699785000-1699794000@theriveroflifeworshipcenter.org
SUMMARY:Guest Speaker Dr. Walter Boston Jr.
DESCRIPTION:
URL:https://theriveroflifeworshipcenter.org/event/guest-speaker-dr-walter-boston-jr/
END:VEVENT
BEGIN:VEVENT
DTSTART;TZID=UTC:20231113T080000
DTEND;TZID=UTC:20231113T090000
DTSTAMP:20260426T041229
CREATED:20230528T235745Z
LAST-MODIFIED:20230528T235745Z
UID:3241-1699862400-1699866000@theriveroflifeworshipcenter.org
SUMMARY:Prayer Line
DESCRIPTION:
URL:https://theriveroflifeworshipcenter.org/event/prayer-line-209/
END:VEVENT
BEGIN:VEVENT
DTSTART;TZID=UTC:20231114T120000
DTEND;TZID=UTC:20231114T130000
DTSTAMP:20260426T041229
CREATED:20230529T000704Z
LAST-MODIFIED:20230529T000704Z
UID:3275-1699963200-1699966800@theriveroflifeworshipcenter.org
SUMMARY:Do you Need Prayer? Join us every Tuesday from 12:00-1:00 PM
DESCRIPTION:
URL:https://theriveroflifeworshipcenter.org/event/do-you-need-prayer-join-us-every-tuesday-from-1200-100-pm-90/
END:VEVENT
BEGIN:VEVENT
DTSTART;TZID=UTC:20231114T190000
DTEND;TZID=UTC:20231114T200000
DTSTAMP:20260426T041229
CREATED:20230529T000455Z
LAST-MODIFIED:20230529T000455Z
UID:3267-1699988400-1699992000@theriveroflifeworshipcenter.org
SUMMARY:Tuesday Night Virtual Bible Study
DESCRIPTION:
URL:https://theriveroflifeworshipcenter.org/event/tuesday-night-virtual-bible-study-81/
END:VEVENT
BEGIN:VEVENT
DTSTART;TZID=UTC:20231115T080000
DTEND;TZID=UTC:20231115T090000
DTSTAMP:20260426T041229
CREATED:20230528T235914Z
LAST-MODIFIED:20230528T235914Z
UID:3237-1700035200-1700038800@theriveroflifeworshipcenter.org
SUMMARY:Prayer Line
DESCRIPTION:
URL:https://theriveroflifeworshipcenter.org/event/prayer-line-213/
END:VEVENT
BEGIN:VEVENT
DTSTART;TZID=UTC:20231116T120000
DTEND;TZID=UTC:20231116T130000
DTSTAMP:20260426T041229
CREATED:20230529T000301Z
LAST-MODIFIED:20230529T000301Z
UID:3261-1700136000-1700139600@theriveroflifeworshipcenter.org
SUMMARY:Do you Need Prayer? Join us every Thursday from 12:00-1:00 PM
DESCRIPTION:
URL:https://theriveroflifeworshipcenter.org/event/do-you-need-prayer-join-us-every-thursday-from-1200-100-pm-88/
END:VEVENT
BEGIN:VEVENT
DTSTART;TZID=UTC:20231117T080000
DTEND;TZID=UTC:20231117T090000
DTSTAMP:20260426T041229
CREATED:20230529T000104Z
LAST-MODIFIED:20230529T000104Z
UID:3232-1700208000-1700211600@theriveroflifeworshipcenter.org
SUMMARY:Prayer Line
DESCRIPTION:
URL:https://theriveroflifeworshipcenter.org/event/prayer-line-218/
END:VEVENT
BEGIN:VEVENT
DTSTART;TZID=UTC:20231119T103000
DTEND;TZID=UTC:20231119T120000
DTSTAMP:20260426T041229
CREATED:20231102T041104Z
LAST-MODIFIED:20231102T041104Z
UID:3582-1700389800-1700395200@theriveroflifeworshipcenter.org
SUMMARY:Youth Sunday
DESCRIPTION:
URL:https://theriveroflifeworshipcenter.org/event/youth-sunday-2/
END:VEVENT
END:VCALENDAR