BEGIN:VCALENDAR
VERSION:2.0
PRODID:-//River of Life Worship Center - ECPv6.15.20//NONSGML v1.0//EN
CALSCALE:GREGORIAN
METHOD:PUBLISH
X-WR-CALNAME:River of Life Worship Center
X-ORIGINAL-URL:https://theriveroflifeworshipcenter.org
X-WR-CALDESC:Events for River of Life Worship Center
REFRESH-INTERVAL;VALUE=DURATION:PT1H
X-Robots-Tag:noindex
X-PUBLISHED-TTL:PT1H
BEGIN:VTIMEZONE
TZID:UTC
BEGIN:STANDARD
TZOFFSETFROM:+0000
TZOFFSETTO:+0000
TZNAME:UTC
DTSTART:20240101T000000
END:STANDARD
END:VTIMEZONE
BEGIN:VEVENT
DTSTART;TZID=UTC:20251102T160000
DTEND;TZID=UTC:20251102T180000
DTSTAMP:20260425T142633
CREATED:20251101T164600Z
LAST-MODIFIED:20251101T164600Z
UID:6504-1762099200-1762106400@theriveroflifeworshipcenter.org
SUMMARY:Pastor Barbara Speaking Engagement
DESCRIPTION:
URL:https://theriveroflifeworshipcenter.org/event/pastor-barbara-speaking-engagement/
LOCATION:Empowering Believers Church\, 7566 E Howard Road\, Glen Burnie\, MD\, 21060
END:VEVENT
BEGIN:VEVENT
DTSTART;TZID=UTC:20251031T080000
DTEND;TZID=UTC:20251031T090000
DTSTAMP:20260425T142633
CREATED:20250813T232659Z
LAST-MODIFIED:20250813T232659Z
UID:6181-1761897600-1761901200@theriveroflifeworshipcenter.org
SUMMARY:Prayer Line
DESCRIPTION:
URL:https://theriveroflifeworshipcenter.org/event/prayer-line-518/
END:VEVENT
BEGIN:VEVENT
DTSTART;TZID=UTC:20251030T120000
DTEND;TZID=UTC:20251030T130000
DTSTAMP:20260425T142633
CREATED:20250813T231045Z
LAST-MODIFIED:20250813T231045Z
UID:6169-1761825600-1761829200@theriveroflifeworshipcenter.org
SUMMARY:Do you Need Prayer? Join us every Thursday from 12:00-1:00 PM
DESCRIPTION:
URL:https://theriveroflifeworshipcenter.org/event/do-you-need-prayer-join-us-every-thursday-from-1200-100-pm-187/
END:VEVENT
BEGIN:VEVENT
DTSTART;TZID=UTC:20251029T080000
DTEND;TZID=UTC:20251029T090000
DTSTAMP:20260425T142633
CREATED:20250813T232629Z
LAST-MODIFIED:20250813T232629Z
UID:6182-1761724800-1761728400@theriveroflifeworshipcenter.org
SUMMARY:Prayer Line
DESCRIPTION:
URL:https://theriveroflifeworshipcenter.org/event/prayer-line-517/
END:VEVENT
BEGIN:VEVENT
DTSTART;TZID=UTC:20251028T190000
DTEND;TZID=UTC:20251028T200000
DTSTAMP:20260425T142633
CREATED:20250813T230450Z
LAST-MODIFIED:20250813T230451Z
UID:6153-1761678000-1761681600@theriveroflifeworshipcenter.org
SUMMARY:Tuesday Night Virtual Bible Study
DESCRIPTION:
URL:https://theriveroflifeworshipcenter.org/event/tuesday-night-virtual-bible-study-182/
END:VEVENT
BEGIN:VEVENT
DTSTART;TZID=UTC:20251028T120000
DTEND;TZID=UTC:20251028T130000
DTSTAMP:20260425T142633
CREATED:20250813T230740Z
LAST-MODIFIED:20250813T230740Z
UID:6162-1761652800-1761656400@theriveroflifeworshipcenter.org
SUMMARY:Do you Need Prayer? Join us every Tuesday from 12:00-1:00 PM
DESCRIPTION:
URL:https://theriveroflifeworshipcenter.org/event/do-you-need-prayer-join-us-every-tuesday-from-1200-100-pm-190/
END:VEVENT
BEGIN:VEVENT
DTSTART;TZID=UTC:20251027T080000
DTEND;TZID=UTC:20251027T090000
DTSTAMP:20260425T142633
CREATED:20250813T232557Z
LAST-MODIFIED:20250813T232557Z
UID:6183-1761552000-1761555600@theriveroflifeworshipcenter.org
SUMMARY:Prayer Line
DESCRIPTION:
URL:https://theriveroflifeworshipcenter.org/event/prayer-line-516/
END:VEVENT
BEGIN:VEVENT
DTSTART;TZID=UTC:20251026T103000
DTEND;TZID=UTC:20251026T123000
DTSTAMP:20260425T142633
CREATED:20251016T194651Z
LAST-MODIFIED:20251016T194651Z
UID:6349-1761474600-1761481800@theriveroflifeworshipcenter.org
SUMMARY:Pastor Appreciation Sunday
DESCRIPTION:
URL:https://theriveroflifeworshipcenter.org/event/pastor-appreciation-sunday/
END:VEVENT
BEGIN:VEVENT
DTSTART;TZID=UTC:20251025T180000
DTEND;TZID=UTC:20251025T200000
DTSTAMP:20260425T142633
CREATED:20251006T210841Z
LAST-MODIFIED:20251006T210841Z
UID:6344-1761415200-1761422400@theriveroflifeworshipcenter.org
SUMMARY:Project Life
DESCRIPTION:
URL:https://theriveroflifeworshipcenter.org/event/project-life-5/
END:VEVENT
BEGIN:VEVENT
DTSTART;TZID=UTC:20251025T093000
DTEND;TZID=UTC:20251025T120000
DTSTAMP:20260425T142633
CREATED:20251006T205545Z
LAST-MODIFIED:20251006T205545Z
UID:6338-1761384600-1761393600@theriveroflifeworshipcenter.org
SUMMARY:EMIP Men's Prayer Breakfast
DESCRIPTION:
URL:https://theriveroflifeworshipcenter.org/event/emip-mens-prayer-breakfast-3/
END:VEVENT
BEGIN:VEVENT
DTSTART;TZID=UTC:20251024T080000
DTEND;TZID=UTC:20251024T090000
DTSTAMP:20260425T142633
CREATED:20250813T232531Z
LAST-MODIFIED:20250813T232531Z
UID:6184-1761292800-1761296400@theriveroflifeworshipcenter.org
SUMMARY:Prayer Line
DESCRIPTION:
URL:https://theriveroflifeworshipcenter.org/event/prayer-line-515/
END:VEVENT
BEGIN:VEVENT
DTSTART;TZID=UTC:20251023T120000
DTEND;TZID=UTC:20251023T130000
DTSTAMP:20260425T142633
CREATED:20250813T231013Z
LAST-MODIFIED:20250813T231013Z
UID:6170-1761220800-1761224400@theriveroflifeworshipcenter.org
SUMMARY:Do you Need Prayer? Join us every Thursday from 12:00-1:00 PM
DESCRIPTION:
URL:https://theriveroflifeworshipcenter.org/event/do-you-need-prayer-join-us-every-thursday-from-1200-100-pm-186/
END:VEVENT
BEGIN:VEVENT
DTSTART;TZID=UTC:20251022T080000
DTEND;TZID=UTC:20251022T090000
DTSTAMP:20260425T142633
CREATED:20250813T232508Z
LAST-MODIFIED:20250813T232508Z
UID:6185-1761120000-1761123600@theriveroflifeworshipcenter.org
SUMMARY:Prayer Line
DESCRIPTION:
URL:https://theriveroflifeworshipcenter.org/event/prayer-line-514/
END:VEVENT
BEGIN:VEVENT
DTSTART;TZID=UTC:20251021T190000
DTEND;TZID=UTC:20251021T200000
DTSTAMP:20260425T142633
CREATED:20250813T230427Z
LAST-MODIFIED:20250813T230427Z
UID:6154-1761073200-1761076800@theriveroflifeworshipcenter.org
SUMMARY:Tuesday Night Virtual Bible Study
DESCRIPTION:
URL:https://theriveroflifeworshipcenter.org/event/tuesday-night-virtual-bible-study-181/
END:VEVENT
BEGIN:VEVENT
DTSTART;TZID=UTC:20251021T120000
DTEND;TZID=UTC:20251021T130000
DTSTAMP:20260425T142633
CREATED:20250813T230716Z
LAST-MODIFIED:20250813T230716Z
UID:6163-1761048000-1761051600@theriveroflifeworshipcenter.org
SUMMARY:Do you Need Prayer? Join us every Tuesday from 12:00-1:00 PM
DESCRIPTION:
URL:https://theriveroflifeworshipcenter.org/event/do-you-need-prayer-join-us-every-tuesday-from-1200-100-pm-189/
END:VEVENT
BEGIN:VEVENT
DTSTART;TZID=UTC:20251020T080000
DTEND;TZID=UTC:20251020T090000
DTSTAMP:20260425T142633
CREATED:20250813T232441Z
LAST-MODIFIED:20250813T232441Z
UID:6186-1760947200-1760950800@theriveroflifeworshipcenter.org
SUMMARY:Prayer Line
DESCRIPTION:
URL:https://theriveroflifeworshipcenter.org/event/prayer-line-513/
END:VEVENT
BEGIN:VEVENT
DTSTART;TZID=UTC:20251019T193000
DTEND;TZID=UTC:20251019T210000
DTSTAMP:20260425T142633
CREATED:20251006T204633Z
LAST-MODIFIED:20251006T204633Z
UID:6329-1760902200-1760907600@theriveroflifeworshipcenter.org
SUMMARY:Women of Worship Conference
DESCRIPTION:
URL:https://theriveroflifeworshipcenter.org/event/women-of-worship-conference-7/
END:VEVENT
BEGIN:VEVENT
DTSTART;TZID=UTC:20251018T193000
DTEND;TZID=UTC:20251018T210000
DTSTAMP:20260425T142633
CREATED:20251006T204525Z
LAST-MODIFIED:20251006T204536Z
UID:6327-1760815800-1760821200@theriveroflifeworshipcenter.org
SUMMARY:Women of Worship Conference
DESCRIPTION:
URL:https://theriveroflifeworshipcenter.org/event/women-of-worship-conference-6/
END:VEVENT
BEGIN:VEVENT
DTSTART;TZID=UTC:20251018T100000
DTEND;TZID=UTC:20251018T120000
DTSTAMP:20260425T142633
CREATED:20251006T205809Z
LAST-MODIFIED:20251006T205932Z
UID:6341-1760781600-1760788800@theriveroflifeworshipcenter.org
SUMMARY:Outreach
DESCRIPTION:
URL:https://theriveroflifeworshipcenter.org/event/outreach-2/
END:VEVENT
BEGIN:VEVENT
DTSTART;TZID=UTC:20251017T193000
DTEND;TZID=UTC:20251017T210000
DTSTAMP:20260425T142633
CREATED:20251006T204357Z
LAST-MODIFIED:20251006T204357Z
UID:6325-1760729400-1760734800@theriveroflifeworshipcenter.org
SUMMARY:Women of Worship Conference
DESCRIPTION:
URL:https://theriveroflifeworshipcenter.org/event/women-of-worship-conference-5/
END:VEVENT
BEGIN:VEVENT
DTSTART;TZID=UTC:20251017T080000
DTEND;TZID=UTC:20251017T090000
DTSTAMP:20260425T142633
CREATED:20250813T232259Z
LAST-MODIFIED:20250813T232259Z
UID:6187-1760688000-1760691600@theriveroflifeworshipcenter.org
SUMMARY:Prayer Line
DESCRIPTION:
URL:https://theriveroflifeworshipcenter.org/event/prayer-line-512/
END:VEVENT
BEGIN:VEVENT
DTSTART;TZID=UTC:20251016T120000
DTEND;TZID=UTC:20251016T130000
DTSTAMP:20260425T142633
CREATED:20250813T231204Z
LAST-MODIFIED:20250813T231204Z
UID:6177-1760616000-1760619600@theriveroflifeworshipcenter.org
SUMMARY:Do you Need Prayer? Join us every Thursday from 12:00-1:00 PM
DESCRIPTION:
URL:https://theriveroflifeworshipcenter.org/event/do-you-need-prayer-join-us-every-thursday-from-1200-100-pm-188/
END:VEVENT
BEGIN:VEVENT
DTSTART;TZID=UTC:20251015T080000
DTEND;TZID=UTC:20251015T090000
DTSTAMP:20260425T142633
CREATED:20250813T232013Z
LAST-MODIFIED:20250813T232013Z
UID:6189-1760515200-1760518800@theriveroflifeworshipcenter.org
SUMMARY:Prayer Line
DESCRIPTION:
URL:https://theriveroflifeworshipcenter.org/event/prayer-line-509/
END:VEVENT
BEGIN:VEVENT
DTSTART;TZID=UTC:20251014T190000
DTEND;TZID=UTC:20251014T200000
DTSTAMP:20260425T142633
CREATED:20250813T230407Z
LAST-MODIFIED:20250813T230407Z
UID:6155-1760468400-1760472000@theriveroflifeworshipcenter.org
SUMMARY:Tuesday Night Virtual Bible Study
DESCRIPTION:
URL:https://theriveroflifeworshipcenter.org/event/tuesday-night-virtual-bible-study-180/
END:VEVENT
BEGIN:VEVENT
DTSTART;TZID=UTC:20251014T120000
DTEND;TZID=UTC:20251014T130000
DTSTAMP:20260425T142633
CREATED:20250813T230655Z
LAST-MODIFIED:20250813T230655Z
UID:6164-1760443200-1760446800@theriveroflifeworshipcenter.org
SUMMARY:Do you Need Prayer? Join us every Tuesday from 12:00-1:00 PM
DESCRIPTION:
URL:https://theriveroflifeworshipcenter.org/event/do-you-need-prayer-join-us-every-tuesday-from-1200-100-pm-188/
END:VEVENT
BEGIN:VEVENT
DTSTART;TZID=UTC:20251013T080000
DTEND;TZID=UTC:20251013T090000
DTSTAMP:20260425T142633
CREATED:20250813T231937Z
LAST-MODIFIED:20250813T231937Z
UID:6190-1760342400-1760346000@theriveroflifeworshipcenter.org
SUMMARY:Prayer Line
DESCRIPTION:
URL:https://theriveroflifeworshipcenter.org/event/prayer-line-508/
END:VEVENT
BEGIN:VEVENT
DTSTART;TZID=UTC:20251010T080000
DTEND;TZID=UTC:20251010T090000
DTSTAMP:20260425T142633
CREATED:20250813T231913Z
LAST-MODIFIED:20250813T231913Z
UID:6191-1760083200-1760086800@theriveroflifeworshipcenter.org
SUMMARY:Prayer Line
DESCRIPTION:
URL:https://theriveroflifeworshipcenter.org/event/prayer-line-507/
END:VEVENT
BEGIN:VEVENT
DTSTART;TZID=UTC:20251009T120000
DTEND;TZID=UTC:20251009T130000
DTSTAMP:20260425T142633
CREATED:20250813T230945Z
LAST-MODIFIED:20250813T230945Z
UID:6171-1760011200-1760014800@theriveroflifeworshipcenter.org
SUMMARY:Do you Need Prayer? Join us every Thursday from 12:00-1:00 PM
DESCRIPTION:
URL:https://theriveroflifeworshipcenter.org/event/do-you-need-prayer-join-us-every-thursday-from-1200-100-pm-185/
END:VEVENT
BEGIN:VEVENT
DTSTART;TZID=UTC:20251009T060000
DTEND;TZID=UTC:20251009T180000
DTSTAMP:20260425T142633
CREATED:20251006T205127Z
LAST-MODIFIED:20251006T205127Z
UID:6336-1759989600-1760032800@theriveroflifeworshipcenter.org
SUMMARY:Corporate Fast
DESCRIPTION:
URL:https://theriveroflifeworshipcenter.org/event/corporate-fast-3/
END:VEVENT
BEGIN:VEVENT
DTSTART;TZID=UTC:20251008T080000
DTEND;TZID=UTC:20251008T090000
DTSTAMP:20260425T142633
CREATED:20250813T231841Z
LAST-MODIFIED:20250813T231841Z
UID:6192-1759910400-1759914000@theriveroflifeworshipcenter.org
SUMMARY:Prayer Line
DESCRIPTION:
URL:https://theriveroflifeworshipcenter.org/event/prayer-line-506/
END:VEVENT
END:VCALENDAR