BEGIN:VCALENDAR
VERSION:2.0
PRODID:-//River of Life Worship Center - ECPv6.15.20//NONSGML v1.0//EN
CALSCALE:GREGORIAN
METHOD:PUBLISH
X-ORIGINAL-URL:https://theriveroflifeworshipcenter.org
X-WR-CALDESC:Events for River of Life Worship Center
REFRESH-INTERVAL;VALUE=DURATION:PT1H
X-Robots-Tag:noindex
X-PUBLISHED-TTL:PT1H
BEGIN:VTIMEZONE
TZID:UTC
BEGIN:STANDARD
TZOFFSETFROM:+0000
TZOFFSETTO:+0000
TZNAME:UTC
DTSTART:20250101T000000
END:STANDARD
END:VTIMEZONE
BEGIN:VEVENT
DTSTART;TZID=UTC:20260609T120000
DTEND;TZID=UTC:20260609T130000
DTSTAMP:20260423T205528
CREATED:20260330T062416Z
LAST-MODIFIED:20260330T062416Z
UID:7378-1781006400-1781010000@theriveroflifeworshipcenter.org
SUMMARY:Do you Need Prayer? Join us every Tuesday from 12:00-1:00 PM
DESCRIPTION:
URL:https://theriveroflifeworshipcenter.org/event/do-you-need-prayer-join-us-every-tuesday-from-1200-100-pm-222/
END:VEVENT
BEGIN:VEVENT
DTSTART;TZID=UTC:20260609T190000
DTEND;TZID=UTC:20260609T200000
DTSTAMP:20260423T205528
CREATED:20260330T062156Z
LAST-MODIFIED:20260330T062156Z
UID:7373-1781031600-1781035200@theriveroflifeworshipcenter.org
SUMMARY:Tuesday Night Virtual Bible Study
DESCRIPTION:
URL:https://theriveroflifeworshipcenter.org/event/tuesday-night-virtual-bible-study-214/
END:VEVENT
BEGIN:VEVENT
DTSTART;TZID=UTC:20260610T080000
DTEND;TZID=UTC:20260610T090000
DTSTAMP:20260423T205528
CREATED:20260330T060917Z
LAST-MODIFIED:20260330T060917Z
UID:7341-1781078400-1781082000@theriveroflifeworshipcenter.org
SUMMARY:Prayer Line
DESCRIPTION:
URL:https://theriveroflifeworshipcenter.org/event/prayer-line-613/
END:VEVENT
BEGIN:VEVENT
DTSTART;TZID=UTC:20260611T120000
DTEND;TZID=UTC:20260611T130000
DTSTAMP:20260423T205528
CREATED:20260330T061559Z
LAST-MODIFIED:20260330T061559Z
UID:7362-1781179200-1781182800@theriveroflifeworshipcenter.org
SUMMARY:Do you Need Prayer? Join us every Thursday from 12:00-1:00 PM
DESCRIPTION:
URL:https://theriveroflifeworshipcenter.org/event/do-you-need-prayer-join-us-every-thursday-from-1200-100-pm-222/
END:VEVENT
BEGIN:VEVENT
DTSTART;TZID=UTC:20260612T080000
DTEND;TZID=UTC:20260612T090000
DTSTAMP:20260423T205528
CREATED:20260330T060940Z
LAST-MODIFIED:20260330T060940Z
UID:7340-1781251200-1781254800@theriveroflifeworshipcenter.org
SUMMARY:Prayer Line
DESCRIPTION:
URL:https://theriveroflifeworshipcenter.org/event/prayer-line-614/
END:VEVENT
BEGIN:VEVENT
DTSTART;TZID=UTC:20260615T080000
DTEND;TZID=UTC:20260615T090000
DTSTAMP:20260423T205528
CREATED:20260330T061002Z
LAST-MODIFIED:20260330T061002Z
UID:7339-1781510400-1781514000@theriveroflifeworshipcenter.org
SUMMARY:Prayer Line
DESCRIPTION:
URL:https://theriveroflifeworshipcenter.org/event/prayer-line-615/
END:VEVENT
BEGIN:VEVENT
DTSTART;TZID=UTC:20260616T120000
DTEND;TZID=UTC:20260616T130000
DTSTAMP:20260423T205528
CREATED:20260330T062443Z
LAST-MODIFIED:20260330T062443Z
UID:7377-1781611200-1781614800@theriveroflifeworshipcenter.org
SUMMARY:Do you Need Prayer? Join us every Tuesday from 12:00-1:00 PM
DESCRIPTION:
URL:https://theriveroflifeworshipcenter.org/event/do-you-need-prayer-join-us-every-tuesday-from-1200-100-pm-223/
END:VEVENT
BEGIN:VEVENT
DTSTART;TZID=UTC:20260616T190000
DTEND;TZID=UTC:20260616T200000
DTSTAMP:20260423T205528
CREATED:20260330T062225Z
LAST-MODIFIED:20260330T062225Z
UID:7372-1781636400-1781640000@theriveroflifeworshipcenter.org
SUMMARY:Tuesday Night Virtual Bible Study
DESCRIPTION:
URL:https://theriveroflifeworshipcenter.org/event/tuesday-night-virtual-bible-study-215/
END:VEVENT
BEGIN:VEVENT
DTSTART;TZID=UTC:20260617T080000
DTEND;TZID=UTC:20260617T090000
DTSTAMP:20260423T205528
CREATED:20260330T061030Z
LAST-MODIFIED:20260330T061030Z
UID:7338-1781683200-1781686800@theriveroflifeworshipcenter.org
SUMMARY:Prayer Line
DESCRIPTION:
URL:https://theriveroflifeworshipcenter.org/event/prayer-line-616/
END:VEVENT
BEGIN:VEVENT
DTSTART;TZID=UTC:20260618T120000
DTEND;TZID=UTC:20260618T130000
DTSTAMP:20260423T205528
CREATED:20260330T061627Z
LAST-MODIFIED:20260330T061627Z
UID:7361-1781784000-1781787600@theriveroflifeworshipcenter.org
SUMMARY:Do you Need Prayer? Join us every Thursday from 12:00-1:00 PM
DESCRIPTION:
URL:https://theriveroflifeworshipcenter.org/event/do-you-need-prayer-join-us-every-thursday-from-1200-100-pm-223/
END:VEVENT
BEGIN:VEVENT
DTSTART;TZID=UTC:20260619T080000
DTEND;TZID=UTC:20260619T090000
DTSTAMP:20260423T205528
CREATED:20260330T061055Z
LAST-MODIFIED:20260330T061055Z
UID:7337-1781856000-1781859600@theriveroflifeworshipcenter.org
SUMMARY:Prayer Line
DESCRIPTION:
URL:https://theriveroflifeworshipcenter.org/event/prayer-line-617/
END:VEVENT
BEGIN:VEVENT
DTSTART;TZID=UTC:20260622T080000
DTEND;TZID=UTC:20260622T090000
DTSTAMP:20260423T205528
CREATED:20260330T061229Z
LAST-MODIFIED:20260330T061229Z
UID:7336-1782115200-1782118800@theriveroflifeworshipcenter.org
SUMMARY:Prayer Line
DESCRIPTION:
URL:https://theriveroflifeworshipcenter.org/event/prayer-line-618/
END:VEVENT
BEGIN:VEVENT
DTSTART;TZID=UTC:20260623T120000
DTEND;TZID=UTC:20260623T130000
DTSTAMP:20260423T205528
CREATED:20260330T062516Z
LAST-MODIFIED:20260330T062516Z
UID:7376-1782216000-1782219600@theriveroflifeworshipcenter.org
SUMMARY:Do you Need Prayer? Join us every Tuesday from 12:00-1:00 PM
DESCRIPTION:
URL:https://theriveroflifeworshipcenter.org/event/do-you-need-prayer-join-us-every-tuesday-from-1200-100-pm-224/
END:VEVENT
BEGIN:VEVENT
DTSTART;TZID=UTC:20260623T190000
DTEND;TZID=UTC:20260623T200000
DTSTAMP:20260423T205528
CREATED:20260330T062253Z
LAST-MODIFIED:20260330T062253Z
UID:7371-1782241200-1782244800@theriveroflifeworshipcenter.org
SUMMARY:Tuesday Night Virtual Bible Study
DESCRIPTION:
URL:https://theriveroflifeworshipcenter.org/event/tuesday-night-virtual-bible-study-216/
END:VEVENT
BEGIN:VEVENT
DTSTART;TZID=UTC:20260624T080000
DTEND;TZID=UTC:20260624T090000
DTSTAMP:20260423T205528
CREATED:20260330T061254Z
LAST-MODIFIED:20260330T061254Z
UID:7335-1782288000-1782291600@theriveroflifeworshipcenter.org
SUMMARY:Prayer Line
DESCRIPTION:
URL:https://theriveroflifeworshipcenter.org/event/prayer-line-619/
END:VEVENT
BEGIN:VEVENT
DTSTART;TZID=UTC:20260625T120000
DTEND;TZID=UTC:20260625T130000
DTSTAMP:20260423T205528
CREATED:20260330T061716Z
LAST-MODIFIED:20260330T061716Z
UID:7360-1782388800-1782392400@theriveroflifeworshipcenter.org
SUMMARY:Do you Need Prayer? Join us every Thursday from 12:00-1:00 PM
DESCRIPTION:
URL:https://theriveroflifeworshipcenter.org/event/do-you-need-prayer-join-us-every-thursday-from-1200-100-pm-224/
END:VEVENT
BEGIN:VEVENT
DTSTART;TZID=UTC:20260626T080000
DTEND;TZID=UTC:20260626T090000
DTSTAMP:20260423T205528
CREATED:20260330T061318Z
LAST-MODIFIED:20260330T061318Z
UID:7334-1782460800-1782464400@theriveroflifeworshipcenter.org
SUMMARY:Prayer Line
DESCRIPTION:
URL:https://theriveroflifeworshipcenter.org/event/prayer-line-620/
END:VEVENT
BEGIN:VEVENT
DTSTART;TZID=UTC:20260629T080000
DTEND;TZID=UTC:20260629T090000
DTSTAMP:20260423T205528
CREATED:20260330T061342Z
LAST-MODIFIED:20260330T061342Z
UID:7333-1782720000-1782723600@theriveroflifeworshipcenter.org
SUMMARY:Prayer Line
DESCRIPTION:
URL:https://theriveroflifeworshipcenter.org/event/prayer-line-621/
END:VEVENT
BEGIN:VEVENT
DTSTART;TZID=UTC:20260630T120000
DTEND;TZID=UTC:20260630T130000
DTSTAMP:20260423T205528
CREATED:20260330T062546Z
LAST-MODIFIED:20260330T062546Z
UID:7375-1782820800-1782824400@theriveroflifeworshipcenter.org
SUMMARY:Do you Need Prayer? Join us every Tuesday from 12:00-1:00 PM
DESCRIPTION:
URL:https://theriveroflifeworshipcenter.org/event/do-you-need-prayer-join-us-every-tuesday-from-1200-100-pm-225/
END:VEVENT
BEGIN:VEVENT
DTSTART;TZID=UTC:20260630T190000
DTEND;TZID=UTC:20260630T200000
DTSTAMP:20260423T205528
CREATED:20260330T063751Z
LAST-MODIFIED:20260330T063751Z
UID:7407-1782846000-1782849600@theriveroflifeworshipcenter.org
SUMMARY:Tuesday Night Virtual Bible Study
DESCRIPTION:
URL:https://theriveroflifeworshipcenter.org/event/tuesday-night-virtual-bible-study-218/
END:VEVENT
BEGIN:VEVENT
DTSTART;TZID=UTC:20260701T080000
DTEND;TZID=UTC:20260701T090000
DTSTAMP:20260423T205528
CREATED:20260330T064300Z
LAST-MODIFIED:20260330T064300Z
UID:7416-1782892800-1782896400@theriveroflifeworshipcenter.org
SUMMARY:Prayer Line
DESCRIPTION:
URL:https://theriveroflifeworshipcenter.org/event/prayer-line-622/
END:VEVENT
BEGIN:VEVENT
DTSTART;TZID=UTC:20260702T120000
DTEND;TZID=UTC:20260702T130000
DTSTAMP:20260423T205528
CREATED:20260330T065218Z
LAST-MODIFIED:20260330T065218Z
UID:7446-1782993600-1782997200@theriveroflifeworshipcenter.org
SUMMARY:Do you Need Prayer? Join us every Thursday from 12:00-1:00 PM
DESCRIPTION:
URL:https://theriveroflifeworshipcenter.org/event/do-you-need-prayer-join-us-every-thursday-from-1200-100-pm-221/
END:VEVENT
BEGIN:VEVENT
DTSTART;TZID=UTC:20260703T080000
DTEND;TZID=UTC:20260703T090000
DTSTAMP:20260423T205528
CREATED:20260330T064322Z
LAST-MODIFIED:20260330T064322Z
UID:7425-1783065600-1783069200@theriveroflifeworshipcenter.org
SUMMARY:Prayer Line
DESCRIPTION:
URL:https://theriveroflifeworshipcenter.org/event/prayer-line-623/
END:VEVENT
BEGIN:VEVENT
DTSTART;TZID=UTC:20260706T080000
DTEND;TZID=UTC:20260706T090000
DTSTAMP:20260423T205528
CREATED:20260330T064358Z
LAST-MODIFIED:20260330T064358Z
UID:7424-1783324800-1783328400@theriveroflifeworshipcenter.org
SUMMARY:Prayer Line
DESCRIPTION:
URL:https://theriveroflifeworshipcenter.org/event/prayer-line-624/
END:VEVENT
BEGIN:VEVENT
DTSTART;TZID=UTC:20260707T120000
DTEND;TZID=UTC:20260707T130000
DTSTAMP:20260423T205528
CREATED:20260330T063918Z
LAST-MODIFIED:20260330T063918Z
UID:7409-1783425600-1783429200@theriveroflifeworshipcenter.org
SUMMARY:Do you Need Prayer? Join us every Tuesday from 12:00-1:00 PM
DESCRIPTION:
URL:https://theriveroflifeworshipcenter.org/event/do-you-need-prayer-join-us-every-tuesday-from-1200-100-pm-229/
END:VEVENT
BEGIN:VEVENT
DTSTART;TZID=UTC:20260707T190000
DTEND;TZID=UTC:20260707T200000
DTSTAMP:20260423T205528
CREATED:20260330T062318Z
LAST-MODIFIED:20260330T063256Z
UID:7370-1783450800-1783454400@theriveroflifeworshipcenter.org
SUMMARY:Tuesday Night Virtual Bible Study
DESCRIPTION:
URL:https://theriveroflifeworshipcenter.org/event/tuesday-night-virtual-bible-study-217/
END:VEVENT
BEGIN:VEVENT
DTSTART;TZID=UTC:20260708T080000
DTEND;TZID=UTC:20260708T090000
DTSTAMP:20260423T205528
CREATED:20260330T064431Z
LAST-MODIFIED:20260330T064431Z
UID:7423-1783497600-1783501200@theriveroflifeworshipcenter.org
SUMMARY:Prayer Line
DESCRIPTION:
URL:https://theriveroflifeworshipcenter.org/event/prayer-line-625/
END:VEVENT
BEGIN:VEVENT
DTSTART;TZID=UTC:20260709T120000
DTEND;TZID=UTC:20260709T130000
DTSTAMP:20260423T205528
CREATED:20260330T065244Z
LAST-MODIFIED:20260330T065244Z
UID:7445-1783598400-1783602000@theriveroflifeworshipcenter.org
SUMMARY:Do you Need Prayer? Join us every Thursday from 12:00-1:00 PM
DESCRIPTION:
URL:https://theriveroflifeworshipcenter.org/event/do-you-need-prayer-join-us-every-thursday-from-1200-100-pm-225/
END:VEVENT
BEGIN:VEVENT
DTSTART;TZID=UTC:20260710T080000
DTEND;TZID=UTC:20260710T090000
DTSTAMP:20260423T205528
CREATED:20260330T064536Z
LAST-MODIFIED:20260330T064536Z
UID:7422-1783670400-1783674000@theriveroflifeworshipcenter.org
SUMMARY:Prayer Line
DESCRIPTION:
URL:https://theriveroflifeworshipcenter.org/event/prayer-line-626/
END:VEVENT
BEGIN:VEVENT
DTSTART;TZID=UTC:20260713T080000
DTEND;TZID=UTC:20260713T090000
DTSTAMP:20260423T205528
CREATED:20260330T064559Z
LAST-MODIFIED:20260330T064559Z
UID:7421-1783929600-1783933200@theriveroflifeworshipcenter.org
SUMMARY:Prayer Line
DESCRIPTION:
URL:https://theriveroflifeworshipcenter.org/event/prayer-line-627/
END:VEVENT
END:VCALENDAR