BEGIN:VCALENDAR
VERSION:2.0
PRODID:-//River of Life Worship Center - ECPv6.15.20//NONSGML v1.0//EN
CALSCALE:GREGORIAN
METHOD:PUBLISH
X-WR-CALNAME:River of Life Worship Center
X-ORIGINAL-URL:https://theriveroflifeworshipcenter.org
X-WR-CALDESC:Events for River of Life Worship Center
REFRESH-INTERVAL;VALUE=DURATION:PT1H
X-Robots-Tag:noindex
X-PUBLISHED-TTL:PT1H
BEGIN:VTIMEZONE
TZID:UTC
BEGIN:STANDARD
TZOFFSETFROM:+0000
TZOFFSETTO:+0000
TZNAME:UTC
DTSTART:20250101T000000
END:STANDARD
END:VTIMEZONE
BEGIN:VEVENT
DTSTART;TZID=UTC:20260714T120000
DTEND;TZID=UTC:20260714T130000
DTSTAMP:20260423T221446
CREATED:20260330T063316Z
LAST-MODIFIED:20260330T063316Z
UID:7399-1784030400-1784034000@theriveroflifeworshipcenter.org
SUMMARY:Do you Need Prayer? Join us every Tuesday from 12:00-1:00 PM
DESCRIPTION:
URL:https://theriveroflifeworshipcenter.org/event/do-you-need-prayer-join-us-every-tuesday-from-1200-100-pm-226/
END:VEVENT
BEGIN:VEVENT
DTSTART;TZID=UTC:20260714T190000
DTEND;TZID=UTC:20260714T200000
DTSTAMP:20260423T221446
CREATED:20260330T063112Z
LAST-MODIFIED:20260330T063112Z
UID:7393-1784055600-1784059200@theriveroflifeworshipcenter.org
SUMMARY:Tuesday Night Virtual Bible Study
DESCRIPTION:
URL:https://theriveroflifeworshipcenter.org/event/tuesday-night-virtual-bible-study-219/
END:VEVENT
BEGIN:VEVENT
DTSTART;TZID=UTC:20260715T080000
DTEND;TZID=UTC:20260715T090000
DTSTAMP:20260423T221446
CREATED:20260330T064619Z
LAST-MODIFIED:20260330T064619Z
UID:7420-1784102400-1784106000@theriveroflifeworshipcenter.org
SUMMARY:Prayer Line
DESCRIPTION:
URL:https://theriveroflifeworshipcenter.org/event/prayer-line-628/
END:VEVENT
BEGIN:VEVENT
DTSTART;TZID=UTC:20260716T120000
DTEND;TZID=UTC:20260716T130000
DTSTAMP:20260423T221446
CREATED:20260330T065315Z
LAST-MODIFIED:20260330T065315Z
UID:7444-1784203200-1784206800@theriveroflifeworshipcenter.org
SUMMARY:Do you Need Prayer? Join us every Thursday from 12:00-1:00 PM
DESCRIPTION:
URL:https://theriveroflifeworshipcenter.org/event/do-you-need-prayer-join-us-every-thursday-from-1200-100-pm-226/
END:VEVENT
BEGIN:VEVENT
DTSTART;TZID=UTC:20260717T080000
DTEND;TZID=UTC:20260717T090000
DTSTAMP:20260423T221446
CREATED:20260330T064644Z
LAST-MODIFIED:20260330T064644Z
UID:7419-1784275200-1784278800@theriveroflifeworshipcenter.org
SUMMARY:Prayer Line
DESCRIPTION:
URL:https://theriveroflifeworshipcenter.org/event/prayer-line-629/
END:VEVENT
BEGIN:VEVENT
DTSTART;TZID=UTC:20260720T080000
DTEND;TZID=UTC:20260720T090000
DTSTAMP:20260423T221446
CREATED:20260330T064708Z
LAST-MODIFIED:20260330T064708Z
UID:7418-1784534400-1784538000@theriveroflifeworshipcenter.org
SUMMARY:Prayer Line
DESCRIPTION:
URL:https://theriveroflifeworshipcenter.org/event/prayer-line-630/
END:VEVENT
BEGIN:VEVENT
DTSTART;TZID=UTC:20260721T120000
DTEND;TZID=UTC:20260721T130000
DTSTAMP:20260423T221446
CREATED:20260330T063338Z
LAST-MODIFIED:20260330T063338Z
UID:7398-1784635200-1784638800@theriveroflifeworshipcenter.org
SUMMARY:Do you Need Prayer? Join us every Tuesday from 12:00-1:00 PM
DESCRIPTION:
URL:https://theriveroflifeworshipcenter.org/event/do-you-need-prayer-join-us-every-tuesday-from-1200-100-pm-227/
END:VEVENT
BEGIN:VEVENT
DTSTART;TZID=UTC:20260721T190000
DTEND;TZID=UTC:20260721T200000
DTSTAMP:20260423T221446
CREATED:20260330T063133Z
LAST-MODIFIED:20260330T063133Z
UID:7392-1784660400-1784664000@theriveroflifeworshipcenter.org
SUMMARY:Tuesday Night Virtual Bible Study
DESCRIPTION:
URL:https://theriveroflifeworshipcenter.org/event/tuesday-night-virtual-bible-study-220/
END:VEVENT
BEGIN:VEVENT
DTSTART;TZID=UTC:20260722T080000
DTEND;TZID=UTC:20260722T090000
DTSTAMP:20260423T221446
CREATED:20260330T064730Z
LAST-MODIFIED:20260330T064730Z
UID:7417-1784707200-1784710800@theriveroflifeworshipcenter.org
SUMMARY:Prayer Line
DESCRIPTION:
URL:https://theriveroflifeworshipcenter.org/event/prayer-line-631/
END:VEVENT
BEGIN:VEVENT
DTSTART;TZID=UTC:20260723T120000
DTEND;TZID=UTC:20260723T130000
DTSTAMP:20260423T221446
CREATED:20260330T065337Z
LAST-MODIFIED:20260330T065337Z
UID:7443-1784808000-1784811600@theriveroflifeworshipcenter.org
SUMMARY:Do you Need Prayer? Join us every Thursday from 12:00-1:00 PM
DESCRIPTION:
URL:https://theriveroflifeworshipcenter.org/event/do-you-need-prayer-join-us-every-thursday-from-1200-100-pm-227/
END:VEVENT
BEGIN:VEVENT
DTSTART;TZID=UTC:20260724T080000
DTEND;TZID=UTC:20260724T090000
DTSTAMP:20260423T221446
CREATED:20260330T064812Z
LAST-MODIFIED:20260330T064812Z
UID:7415-1784880000-1784883600@theriveroflifeworshipcenter.org
SUMMARY:Prayer Line
DESCRIPTION:
URL:https://theriveroflifeworshipcenter.org/event/prayer-line-632/
END:VEVENT
BEGIN:VEVENT
DTSTART;TZID=UTC:20260727T080000
DTEND;TZID=UTC:20260727T090000
DTSTAMP:20260423T221446
CREATED:20260330T064843Z
LAST-MODIFIED:20260330T064843Z
UID:7414-1785139200-1785142800@theriveroflifeworshipcenter.org
SUMMARY:Prayer Line
DESCRIPTION:
URL:https://theriveroflifeworshipcenter.org/event/prayer-line-633/
END:VEVENT
BEGIN:VEVENT
DTSTART;TZID=UTC:20260728T120000
DTEND;TZID=UTC:20260728T130000
DTSTAMP:20260423T221446
CREATED:20260330T063359Z
LAST-MODIFIED:20260330T063359Z
UID:7397-1785240000-1785243600@theriveroflifeworshipcenter.org
SUMMARY:Do you Need Prayer? Join us every Tuesday from 12:00-1:00 PM
DESCRIPTION:
URL:https://theriveroflifeworshipcenter.org/event/do-you-need-prayer-join-us-every-tuesday-from-1200-100-pm-228/
END:VEVENT
BEGIN:VEVENT
DTSTART;TZID=UTC:20260728T190000
DTEND;TZID=UTC:20260728T200000
DTSTAMP:20260423T221446
CREATED:20260330T063153Z
LAST-MODIFIED:20260330T063153Z
UID:7391-1785265200-1785268800@theriveroflifeworshipcenter.org
SUMMARY:Tuesday Night Virtual Bible Study
DESCRIPTION:
URL:https://theriveroflifeworshipcenter.org/event/tuesday-night-virtual-bible-study-221/
END:VEVENT
BEGIN:VEVENT
DTSTART;TZID=UTC:20260729T080000
DTEND;TZID=UTC:20260729T090000
DTSTAMP:20260423T221446
CREATED:20260330T064910Z
LAST-MODIFIED:20260330T064910Z
UID:7411-1785312000-1785315600@theriveroflifeworshipcenter.org
SUMMARY:Prayer Line
DESCRIPTION:
URL:https://theriveroflifeworshipcenter.org/event/prayer-line-634/
END:VEVENT
BEGIN:VEVENT
DTSTART;TZID=UTC:20260730T120000
DTEND;TZID=UTC:20260730T130000
DTSTAMP:20260423T221446
CREATED:20260330T065425Z
LAST-MODIFIED:20260330T065425Z
UID:7451-1785412800-1785416400@theriveroflifeworshipcenter.org
SUMMARY:Do you Need Prayer? Join us every Thursday from 12:00-1:00 PM
DESCRIPTION:
URL:https://theriveroflifeworshipcenter.org/event/do-you-need-prayer-join-us-every-thursday-from-1200-100-pm-228/
END:VEVENT
BEGIN:VEVENT
DTSTART;TZID=UTC:20260731T080000
DTEND;TZID=UTC:20260731T090000
DTSTAMP:20260423T221446
CREATED:20260330T064950Z
LAST-MODIFIED:20260330T064950Z
UID:7440-1785484800-1785488400@theriveroflifeworshipcenter.org
SUMMARY:Prayer Line
DESCRIPTION:
URL:https://theriveroflifeworshipcenter.org/event/prayer-line-635/
END:VEVENT
END:VCALENDAR