BEGIN:VCALENDAR
VERSION:2.0
PRODID:-//River of Life Worship Center - ECPv6.15.20//NONSGML v1.0//EN
CALSCALE:GREGORIAN
METHOD:PUBLISH
X-WR-CALNAME:River of Life Worship Center
X-ORIGINAL-URL:https://theriveroflifeworshipcenter.org
X-WR-CALDESC:Events for River of Life Worship Center
REFRESH-INTERVAL;VALUE=DURATION:PT1H
X-Robots-Tag:noindex
X-PUBLISHED-TTL:PT1H
BEGIN:VTIMEZONE
TZID:UTC
BEGIN:STANDARD
TZOFFSETFROM:+0000
TZOFFSETTO:+0000
TZNAME:UTC
DTSTART:20250101T000000
END:STANDARD
END:VTIMEZONE
BEGIN:VEVENT
DTSTART;TZID=UTC:20260512T190000
DTEND;TZID=UTC:20260512T200000
DTSTAMP:20260423T185453
CREATED:20260330T055836Z
LAST-MODIFIED:20260330T055836Z
UID:7319-1778612400-1778616000@theriveroflifeworshipcenter.org
SUMMARY:Tuesday Night Virtual Bible Study
DESCRIPTION:
URL:https://theriveroflifeworshipcenter.org/event/tuesday-night-virtual-bible-study-210/
END:VEVENT
BEGIN:VEVENT
DTSTART;TZID=UTC:20260513T080000
DTEND;TZID=UTC:20260513T090000
DTSTAMP:20260423T185453
CREATED:20260330T054803Z
LAST-MODIFIED:20260330T054803Z
UID:7288-1778659200-1778662800@theriveroflifeworshipcenter.org
SUMMARY:Prayer Line
DESCRIPTION:
URL:https://theriveroflifeworshipcenter.org/event/prayer-line-601/
END:VEVENT
BEGIN:VEVENT
DTSTART;TZID=UTC:20260514T120000
DTEND;TZID=UTC:20260514T130000
DTSTAMP:20260423T185453
CREATED:20260330T055342Z
LAST-MODIFIED:20260330T055342Z
UID:7311-1778760000-1778763600@theriveroflifeworshipcenter.org
SUMMARY:Do you Need Prayer? Join us every Thursday from 12:00-1:00 PM
DESCRIPTION:
URL:https://theriveroflifeworshipcenter.org/event/do-you-need-prayer-join-us-every-thursday-from-1200-100-pm-217/
END:VEVENT
BEGIN:VEVENT
DTSTART;TZID=UTC:20260515T080000
DTEND;TZID=UTC:20260515T090000
DTSTAMP:20260423T185453
CREATED:20260330T054828Z
LAST-MODIFIED:20260330T054828Z
UID:7290-1778832000-1778835600@theriveroflifeworshipcenter.org
SUMMARY:Prayer Line
DESCRIPTION:
URL:https://theriveroflifeworshipcenter.org/event/prayer-line-602/
END:VEVENT
BEGIN:VEVENT
DTSTART;TZID=UTC:20260517T103000
DTEND;TZID=UTC:20260517T120000
DTSTAMP:20260423T185453
CREATED:20260408T011614Z
LAST-MODIFIED:20260408T012540Z
UID:7483-1779013800-1779019200@theriveroflifeworshipcenter.org
SUMMARY:Bikers Sunday
DESCRIPTION:
URL:https://theriveroflifeworshipcenter.org/event/bikers-sunday-3/
END:VEVENT
BEGIN:VEVENT
DTSTART;TZID=UTC:20260518T080000
DTEND;TZID=UTC:20260518T090000
DTSTAMP:20260423T185453
CREATED:20260330T054849Z
LAST-MODIFIED:20260330T054849Z
UID:7289-1779091200-1779094800@theriveroflifeworshipcenter.org
SUMMARY:Prayer Line
DESCRIPTION:
URL:https://theriveroflifeworshipcenter.org/event/prayer-line-603/
END:VEVENT
BEGIN:VEVENT
DTSTART;TZID=UTC:20260519T120000
DTEND;TZID=UTC:20260519T130000
DTSTAMP:20260423T185453
CREATED:20260330T060057Z
LAST-MODIFIED:20260330T060057Z
UID:7322-1779192000-1779195600@theriveroflifeworshipcenter.org
SUMMARY:Do you Need Prayer? Join us every Tuesday from 12:00-1:00 PM
DESCRIPTION:
URL:https://theriveroflifeworshipcenter.org/event/do-you-need-prayer-join-us-every-tuesday-from-1200-100-pm-219/
END:VEVENT
BEGIN:VEVENT
DTSTART;TZID=UTC:20260519T190000
DTEND;TZID=UTC:20260519T200000
DTSTAMP:20260423T185453
CREATED:20260330T055906Z
LAST-MODIFIED:20260330T055906Z
UID:7318-1779217200-1779220800@theriveroflifeworshipcenter.org
SUMMARY:Tuesday Night Virtual Bible Study
DESCRIPTION:
URL:https://theriveroflifeworshipcenter.org/event/tuesday-night-virtual-bible-study-211/
END:VEVENT
BEGIN:VEVENT
DTSTART;TZID=UTC:20260520T080000
DTEND;TZID=UTC:20260520T090000
DTSTAMP:20260423T185453
CREATED:20260330T054910Z
LAST-MODIFIED:20260330T054910Z
UID:7287-1779264000-1779267600@theriveroflifeworshipcenter.org
SUMMARY:Prayer Line
DESCRIPTION:
URL:https://theriveroflifeworshipcenter.org/event/prayer-line-604/
END:VEVENT
BEGIN:VEVENT
DTSTART;TZID=UTC:20260521T120000
DTEND;TZID=UTC:20260521T130000
DTSTAMP:20260423T185453
CREATED:20260330T055419Z
LAST-MODIFIED:20260330T055419Z
UID:7310-1779364800-1779368400@theriveroflifeworshipcenter.org
SUMMARY:Do you Need Prayer? Join us every Thursday from 12:00-1:00 PM
DESCRIPTION:
URL:https://theriveroflifeworshipcenter.org/event/do-you-need-prayer-join-us-every-thursday-from-1200-100-pm-218/
END:VEVENT
BEGIN:VEVENT
DTSTART;TZID=UTC:20260522T080000
DTEND;TZID=UTC:20260522T090000
DTSTAMP:20260423T185453
CREATED:20260330T054946Z
LAST-MODIFIED:20260330T054946Z
UID:7286-1779436800-1779440400@theriveroflifeworshipcenter.org
SUMMARY:Prayer Line
DESCRIPTION:
URL:https://theriveroflifeworshipcenter.org/event/prayer-line-605/
END:VEVENT
BEGIN:VEVENT
DTSTART;TZID=UTC:20260525T080000
DTEND;TZID=UTC:20260525T090000
DTSTAMP:20260423T185453
CREATED:20260330T055008Z
LAST-MODIFIED:20260330T055008Z
UID:7285-1779696000-1779699600@theriveroflifeworshipcenter.org
SUMMARY:Prayer Line
DESCRIPTION:
URL:https://theriveroflifeworshipcenter.org/event/prayer-line-606/
END:VEVENT
BEGIN:VEVENT
DTSTART;TZID=UTC:20260526T120000
DTEND;TZID=UTC:20260526T130000
DTSTAMP:20260423T185453
CREATED:20260330T060125Z
LAST-MODIFIED:20260330T060125Z
UID:7321-1779796800-1779800400@theriveroflifeworshipcenter.org
SUMMARY:Do you Need Prayer? Join us every Tuesday from 12:00-1:00 PM
DESCRIPTION:
URL:https://theriveroflifeworshipcenter.org/event/do-you-need-prayer-join-us-every-tuesday-from-1200-100-pm-220/
END:VEVENT
BEGIN:VEVENT
DTSTART;TZID=UTC:20260526T190000
DTEND;TZID=UTC:20260526T200000
DTSTAMP:20260423T185453
CREATED:20260330T055935Z
LAST-MODIFIED:20260330T055935Z
UID:7317-1779822000-1779825600@theriveroflifeworshipcenter.org
SUMMARY:Tuesday Night Virtual Bible Study
DESCRIPTION:
URL:https://theriveroflifeworshipcenter.org/event/tuesday-night-virtual-bible-study-212/
END:VEVENT
BEGIN:VEVENT
DTSTART;TZID=UTC:20260527T080000
DTEND;TZID=UTC:20260527T090000
DTSTAMP:20260423T185453
CREATED:20260330T055033Z
LAST-MODIFIED:20260330T055033Z
UID:7284-1779868800-1779872400@theriveroflifeworshipcenter.org
SUMMARY:Prayer Line
DESCRIPTION:
URL:https://theriveroflifeworshipcenter.org/event/prayer-line-607/
END:VEVENT
BEGIN:VEVENT
DTSTART;TZID=UTC:20260528T120000
DTEND;TZID=UTC:20260528T130000
DTSTAMP:20260423T185453
CREATED:20260330T055506Z
LAST-MODIFIED:20260330T055506Z
UID:7309-1779969600-1779973200@theriveroflifeworshipcenter.org
SUMMARY:Do you Need Prayer? Join us every Thursday from 12:00-1:00 PM
DESCRIPTION:
URL:https://theriveroflifeworshipcenter.org/event/do-you-need-prayer-join-us-every-thursday-from-1200-100-pm-219/
END:VEVENT
BEGIN:VEVENT
DTSTART;TZID=UTC:20260529T080000
DTEND;TZID=UTC:20260529T090000
DTSTAMP:20260423T185453
CREATED:20260330T055056Z
LAST-MODIFIED:20260330T055056Z
UID:7283-1780041600-1780045200@theriveroflifeworshipcenter.org
SUMMARY:Prayer Line
DESCRIPTION:
URL:https://theriveroflifeworshipcenter.org/event/prayer-line-608/
END:VEVENT
BEGIN:VEVENT
DTSTART;TZID=UTC:20260601T080000
DTEND;TZID=UTC:20260601T090000
DTSTAMP:20260423T185453
CREATED:20260330T060740Z
LAST-MODIFIED:20260330T060740Z
UID:7345-1780300800-1780304400@theriveroflifeworshipcenter.org
SUMMARY:Prayer Line
DESCRIPTION:
URL:https://theriveroflifeworshipcenter.org/event/prayer-line-609/
END:VEVENT
BEGIN:VEVENT
DTSTART;TZID=UTC:20260602T120000
DTEND;TZID=UTC:20260602T130000
DTSTAMP:20260423T185453
CREATED:20260330T062345Z
LAST-MODIFIED:20260330T062345Z
UID:7379-1780401600-1780405200@theriveroflifeworshipcenter.org
SUMMARY:Do you Need Prayer? Join us every Tuesday from 12:00-1:00 PM
DESCRIPTION:
URL:https://theriveroflifeworshipcenter.org/event/do-you-need-prayer-join-us-every-tuesday-from-1200-100-pm-221/
END:VEVENT
BEGIN:VEVENT
DTSTART;TZID=UTC:20260602T190000
DTEND;TZID=UTC:20260602T200000
DTSTAMP:20260423T185453
CREATED:20260330T062127Z
LAST-MODIFIED:20260330T062127Z
UID:7374-1780426800-1780430400@theriveroflifeworshipcenter.org
SUMMARY:Tuesday Night Virtual Bible Study
DESCRIPTION:
URL:https://theriveroflifeworshipcenter.org/event/tuesday-night-virtual-bible-study-213/
END:VEVENT
BEGIN:VEVENT
DTSTART;TZID=UTC:20260603T080000
DTEND;TZID=UTC:20260603T090000
DTSTAMP:20260423T185453
CREATED:20260330T060804Z
LAST-MODIFIED:20260330T060804Z
UID:7344-1780473600-1780477200@theriveroflifeworshipcenter.org
SUMMARY:Prayer Line
DESCRIPTION:
URL:https://theriveroflifeworshipcenter.org/event/prayer-line-610/
END:VEVENT
BEGIN:VEVENT
DTSTART;TZID=UTC:20260604T120000
DTEND;TZID=UTC:20260604T130000
DTSTAMP:20260423T185453
CREATED:20260330T061501Z
LAST-MODIFIED:20260330T061501Z
UID:7364-1780574400-1780578000@theriveroflifeworshipcenter.org
SUMMARY:Do you Need Prayer? Join us every Thursday from 12:00-1:00 PM
DESCRIPTION:
URL:https://theriveroflifeworshipcenter.org/event/do-you-need-prayer-join-us-every-thursday-from-1200-100-pm-220/
END:VEVENT
BEGIN:VEVENT
DTSTART;TZID=UTC:20260605T080000
DTEND;TZID=UTC:20260605T090000
DTSTAMP:20260423T185453
CREATED:20260330T060826Z
LAST-MODIFIED:20260330T060826Z
UID:7343-1780646400-1780650000@theriveroflifeworshipcenter.org
SUMMARY:Prayer Line
DESCRIPTION:
URL:https://theriveroflifeworshipcenter.org/event/prayer-line-611/
END:VEVENT
BEGIN:VEVENT
DTSTART;TZID=UTC:20260605T193000
DTEND;TZID=UTC:20260605T213000
DTSTAMP:20260423T185453
CREATED:20260311T024905Z
LAST-MODIFIED:20260311T030159Z
UID:7182-1780687800-1780695000@theriveroflifeworshipcenter.org
SUMMARY:Men's Conference "Night of Worship"
DESCRIPTION:
URL:https://theriveroflifeworshipcenter.org/event/mens-conference-night-of-worship/
LOCATION:River of Life Worship Center\, 8232 Redmiles Ln\, Odenton\, United States
END:VEVENT
BEGIN:VEVENT
DTSTART;TZID=UTC:20260606T093000
DTEND;TZID=UTC:20260606T123000
DTSTAMP:20260423T185453
CREATED:20260218T042626Z
LAST-MODIFIED:20260223T182205Z
UID:7016-1780738200-1780749000@theriveroflifeworshipcenter.org
SUMMARY:Men's Conference Breakout Sessions
DESCRIPTION:
URL:https://theriveroflifeworshipcenter.org/event/mens-conference-saturday-breakout-sessions/
LOCATION:River of Life Worship Center\, 8232 Redmiles Ln\, Odenton\, United States
END:VEVENT
BEGIN:VEVENT
DTSTART;TZID=UTC:20260607T103000
DTEND;TZID=UTC:20260607T120000
DTSTAMP:20260423T185453
CREATED:20260210T004852Z
LAST-MODIFIED:20260218T045547Z
UID:6913-1780828200-1780833600@theriveroflifeworshipcenter.org
SUMMARY:Guest Speaker: Bishop James Manigault Jr.
DESCRIPTION:
URL:https://theriveroflifeworshipcenter.org/event/2026-mens-conference/
LOCATION:River of Life Worship Center\, 8232 Redmiles Ln\, Odenton\, United States
END:VEVENT
BEGIN:VEVENT
DTSTART;TZID=UTC:20260608T080000
DTEND;TZID=UTC:20260608T090000
DTSTAMP:20260423T185453
CREATED:20260330T060849Z
LAST-MODIFIED:20260330T060849Z
UID:7342-1780905600-1780909200@theriveroflifeworshipcenter.org
SUMMARY:Prayer Line
DESCRIPTION:
URL:https://theriveroflifeworshipcenter.org/event/prayer-line-612/
END:VEVENT
BEGIN:VEVENT
DTSTART;TZID=UTC:20260609T120000
DTEND;TZID=UTC:20260609T130000
DTSTAMP:20260423T185453
CREATED:20260330T062416Z
LAST-MODIFIED:20260330T062416Z
UID:7378-1781006400-1781010000@theriveroflifeworshipcenter.org
SUMMARY:Do you Need Prayer? Join us every Tuesday from 12:00-1:00 PM
DESCRIPTION:
URL:https://theriveroflifeworshipcenter.org/event/do-you-need-prayer-join-us-every-tuesday-from-1200-100-pm-222/
END:VEVENT
BEGIN:VEVENT
DTSTART;TZID=UTC:20260609T190000
DTEND;TZID=UTC:20260609T200000
DTSTAMP:20260423T185453
CREATED:20260330T062156Z
LAST-MODIFIED:20260330T062156Z
UID:7373-1781031600-1781035200@theriveroflifeworshipcenter.org
SUMMARY:Tuesday Night Virtual Bible Study
DESCRIPTION:
URL:https://theriveroflifeworshipcenter.org/event/tuesday-night-virtual-bible-study-214/
END:VEVENT
BEGIN:VEVENT
DTSTART;TZID=UTC:20260610T080000
DTEND;TZID=UTC:20260610T090000
DTSTAMP:20260423T185453
CREATED:20260330T060917Z
LAST-MODIFIED:20260330T060917Z
UID:7341-1781078400-1781082000@theriveroflifeworshipcenter.org
SUMMARY:Prayer Line
DESCRIPTION:
URL:https://theriveroflifeworshipcenter.org/event/prayer-line-613/
END:VEVENT
END:VCALENDAR