BEGIN:VCALENDAR
VERSION:2.0
PRODID:-//River of Life Worship Center - ECPv6.15.20//NONSGML v1.0//EN
CALSCALE:GREGORIAN
METHOD:PUBLISH
X-WR-CALNAME:River of Life Worship Center
X-ORIGINAL-URL:https://theriveroflifeworshipcenter.org
X-WR-CALDESC:Events for River of Life Worship Center
REFRESH-INTERVAL;VALUE=DURATION:PT1H
X-Robots-Tag:noindex
X-PUBLISHED-TTL:PT1H
BEGIN:VTIMEZONE
TZID:UTC
BEGIN:STANDARD
TZOFFSETFROM:+0000
TZOFFSETTO:+0000
TZNAME:UTC
DTSTART:20240101T000000
END:STANDARD
END:VTIMEZONE
BEGIN:VEVENT
DTSTART;TZID=UTC:20251110T080000
DTEND;TZID=UTC:20251110T090000
DTSTAMP:20260424T024358
CREATED:20250824T153607Z
LAST-MODIFIED:20250824T153607Z
UID:6227-1762761600-1762765200@theriveroflifeworshipcenter.org
SUMMARY:Prayer Line
DESCRIPTION:
URL:https://theriveroflifeworshipcenter.org/event/prayer-line-520/
END:VEVENT
BEGIN:VEVENT
DTSTART;TZID=UTC:20251111T120000
DTEND;TZID=UTC:20251111T130000
DTSTAMP:20260424T024358
CREATED:20250824T154758Z
LAST-MODIFIED:20250824T154758Z
UID:6259-1762862400-1762866000@theriveroflifeworshipcenter.org
SUMMARY:Do you Need Prayer? Join us every Tuesday from 12:00-1:00 PM
DESCRIPTION:
URL:https://theriveroflifeworshipcenter.org/event/do-you-need-prayer-join-us-every-tuesday-from-1200-100-pm-192/
END:VEVENT
BEGIN:VEVENT
DTSTART;TZID=UTC:20251111T190000
DTEND;TZID=UTC:20251111T200000
DTSTAMP:20260424T024358
CREATED:20250824T154314Z
LAST-MODIFIED:20250824T154314Z
UID:6243-1762887600-1762891200@theriveroflifeworshipcenter.org
SUMMARY:Tuesday Night Virtual Bible Study
DESCRIPTION:
URL:https://theriveroflifeworshipcenter.org/event/tuesday-night-virtual-bible-study-184/
END:VEVENT
BEGIN:VEVENT
DTSTART;TZID=UTC:20251112T080000
DTEND;TZID=UTC:20251112T090000
DTSTAMP:20260424T024358
CREATED:20250824T153743Z
LAST-MODIFIED:20250824T153743Z
UID:6223-1762934400-1762938000@theriveroflifeworshipcenter.org
SUMMARY:Prayer Line
DESCRIPTION:
URL:https://theriveroflifeworshipcenter.org/event/prayer-line-524/
END:VEVENT
BEGIN:VEVENT
DTSTART;TZID=UTC:20251113T120000
DTEND;TZID=UTC:20251113T130000
DTSTAMP:20260424T024358
CREATED:20250824T154525Z
LAST-MODIFIED:20250824T154525Z
UID:6252-1763035200-1763038800@theriveroflifeworshipcenter.org
SUMMARY:Do you Need Prayer? Join us every Thursday from 12:00-1:00 PM
DESCRIPTION:
URL:https://theriveroflifeworshipcenter.org/event/do-you-need-prayer-join-us-every-thursday-from-1200-100-pm-190/
END:VEVENT
BEGIN:VEVENT
DTSTART;TZID=UTC:20251114T080000
DTEND;TZID=UTC:20251114T090000
DTSTAMP:20260424T024358
CREATED:20250824T153901Z
LAST-MODIFIED:20250824T153901Z
UID:6220-1763107200-1763110800@theriveroflifeworshipcenter.org
SUMMARY:Prayer Line
DESCRIPTION:
URL:https://theriveroflifeworshipcenter.org/event/prayer-line-527/
END:VEVENT
BEGIN:VEVENT
DTSTART;TZID=UTC:20251117T080000
DTEND;TZID=UTC:20251117T090000
DTSTAMP:20260424T024358
CREATED:20250824T153637Z
LAST-MODIFIED:20250824T153637Z
UID:6226-1763366400-1763370000@theriveroflifeworshipcenter.org
SUMMARY:Prayer Line
DESCRIPTION:
URL:https://theriveroflifeworshipcenter.org/event/prayer-line-521/
END:VEVENT
BEGIN:VEVENT
DTSTART;TZID=UTC:20251118T120000
DTEND;TZID=UTC:20251118T130000
DTSTAMP:20260424T024358
CREATED:20250824T154828Z
LAST-MODIFIED:20250824T154828Z
UID:6258-1763467200-1763470800@theriveroflifeworshipcenter.org
SUMMARY:Do you Need Prayer? Join us every Tuesday from 12:00-1:00 PM
DESCRIPTION:
URL:https://theriveroflifeworshipcenter.org/event/do-you-need-prayer-join-us-every-tuesday-from-1200-100-pm-193/
END:VEVENT
BEGIN:VEVENT
DTSTART;TZID=UTC:20251118T190000
DTEND;TZID=UTC:20251118T200000
DTSTAMP:20260424T024358
CREATED:20250824T154332Z
LAST-MODIFIED:20250824T154332Z
UID:6242-1763492400-1763496000@theriveroflifeworshipcenter.org
SUMMARY:Tuesday Night Virtual Bible Study
DESCRIPTION:
URL:https://theriveroflifeworshipcenter.org/event/tuesday-night-virtual-bible-study-185/
END:VEVENT
BEGIN:VEVENT
DTSTART;TZID=UTC:20251119T080000
DTEND;TZID=UTC:20251119T090000
DTSTAMP:20260424T024358
CREATED:20250824T154032Z
LAST-MODIFIED:20250824T154032Z
UID:6218-1763539200-1763542800@theriveroflifeworshipcenter.org
SUMMARY:Prayer Line
DESCRIPTION:
URL:https://theriveroflifeworshipcenter.org/event/prayer-line-529/
END:VEVENT
BEGIN:VEVENT
DTSTART;TZID=UTC:20251120T120000
DTEND;TZID=UTC:20251120T130000
DTSTAMP:20260424T024358
CREATED:20250824T154545Z
LAST-MODIFIED:20250824T154545Z
UID:6250-1763640000-1763643600@theriveroflifeworshipcenter.org
SUMMARY:Do you Need Prayer? Join us every Thursday from 12:00-1:00 PM
DESCRIPTION:
URL:https://theriveroflifeworshipcenter.org/event/do-you-need-prayer-join-us-every-thursday-from-1200-100-pm-191/
END:VEVENT
BEGIN:VEVENT
DTSTART;TZID=UTC:20251121T080000
DTEND;TZID=UTC:20251121T090000
DTSTAMP:20260424T024358
CREATED:20250824T153930Z
LAST-MODIFIED:20250824T153930Z
UID:6219-1763712000-1763715600@theriveroflifeworshipcenter.org
SUMMARY:Prayer Line
DESCRIPTION:
URL:https://theriveroflifeworshipcenter.org/event/prayer-line-528/
END:VEVENT
BEGIN:VEVENT
DTSTART;TZID=UTC:20251121T183000
DTEND;TZID=UTC:20251121T203000
DTSTAMP:20260424T024358
CREATED:20251016T195153Z
LAST-MODIFIED:20251016T195153Z
UID:6355-1763749800-1763757000@theriveroflifeworshipcenter.org
SUMMARY:"Fresh Fire Youth Night"
DESCRIPTION:
URL:https://theriveroflifeworshipcenter.org/event/fresh-fire-youth-night-2/
END:VEVENT
BEGIN:VEVENT
DTSTART;TZID=UTC:20251123T103000
DTEND;TZID=UTC:20251123T120000
DTSTAMP:20260424T024358
CREATED:20251016T195309Z
LAST-MODIFIED:20251016T195610Z
UID:6357-1763893800-1763899200@theriveroflifeworshipcenter.org
SUMMARY:Youth Sunday
DESCRIPTION:
URL:https://theriveroflifeworshipcenter.org/event/youth-sunday-3/
END:VEVENT
BEGIN:VEVENT
DTSTART;TZID=UTC:20251123T103000
DTEND;TZID=UTC:20251123T120000
DTSTAMP:20260424T024358
CREATED:20251123T042252Z
LAST-MODIFIED:20251123T042351Z
UID:1043-1763893800-1763899200@theriveroflifeworshipcenter.org
SUMMARY:Children's  Day Service
DESCRIPTION:
URL:https://theriveroflifeworshipcenter.org/event/childrens-day-service/
END:VEVENT
BEGIN:VEVENT
DTSTART;TZID=UTC:20251124T080000
DTEND;TZID=UTC:20251124T090000
DTSTAMP:20260424T024358
CREATED:20250824T153659Z
LAST-MODIFIED:20250824T153659Z
UID:6225-1763971200-1763974800@theriveroflifeworshipcenter.org
SUMMARY:Prayer Line
DESCRIPTION:
URL:https://theriveroflifeworshipcenter.org/event/prayer-line-522/
END:VEVENT
BEGIN:VEVENT
DTSTART;TZID=UTC:20251125T120000
DTEND;TZID=UTC:20251125T130000
DTSTAMP:20260424T024358
CREATED:20250824T154958Z
LAST-MODIFIED:20250824T154958Z
UID:6264-1764072000-1764075600@theriveroflifeworshipcenter.org
SUMMARY:Do you Need Prayer? Join us every Tuesday from 12:00-1:00 PM
DESCRIPTION:
URL:https://theriveroflifeworshipcenter.org/event/do-you-need-prayer-join-us-every-tuesday-from-1200-100-pm-194/
END:VEVENT
BEGIN:VEVENT
DTSTART;TZID=UTC:20251125T190000
DTEND;TZID=UTC:20251125T200000
DTSTAMP:20260424T024358
CREATED:20250824T154350Z
LAST-MODIFIED:20250824T154350Z
UID:6241-1764097200-1764100800@theriveroflifeworshipcenter.org
SUMMARY:Tuesday Night Virtual Bible Study
DESCRIPTION:
URL:https://theriveroflifeworshipcenter.org/event/tuesday-night-virtual-bible-study-186/
END:VEVENT
BEGIN:VEVENT
DTSTART;TZID=UTC:20251126T080000
DTEND;TZID=UTC:20251126T090000
DTSTAMP:20260424T024358
CREATED:20250824T153804Z
LAST-MODIFIED:20250824T153804Z
UID:6222-1764144000-1764147600@theriveroflifeworshipcenter.org
SUMMARY:Prayer Line
DESCRIPTION:
URL:https://theriveroflifeworshipcenter.org/event/prayer-line-525/
END:VEVENT
BEGIN:VEVENT
DTSTART;TZID=UTC:20251127T120000
DTEND;TZID=UTC:20251127T130000
DTSTAMP:20260424T024358
CREATED:20250824T154623Z
LAST-MODIFIED:20250824T154623Z
UID:6249-1764244800-1764248400@theriveroflifeworshipcenter.org
SUMMARY:Do you Need Prayer? Join us every Thursday from 12:00-1:00 PM
DESCRIPTION:
URL:https://theriveroflifeworshipcenter.org/event/do-you-need-prayer-join-us-every-thursday-from-1200-100-pm-192/
END:VEVENT
BEGIN:VEVENT
DTSTART;TZID=UTC:20251128T080000
DTEND;TZID=UTC:20251128T090000
DTSTAMP:20260424T024358
CREATED:20250824T154059Z
LAST-MODIFIED:20250824T154059Z
UID:6217-1764316800-1764320400@theriveroflifeworshipcenter.org
SUMMARY:Prayer Line
DESCRIPTION:
URL:https://theriveroflifeworshipcenter.org/event/prayer-line-530/
END:VEVENT
BEGIN:VEVENT
DTSTART;TZID=UTC:20251201T080000
DTEND;TZID=UTC:20251201T090000
DTSTAMP:20260424T024358
CREATED:20251019T154246Z
LAST-MODIFIED:20251019T154246Z
UID:6440-1764576000-1764579600@theriveroflifeworshipcenter.org
SUMMARY:Prayer Line
DESCRIPTION:
URL:https://theriveroflifeworshipcenter.org/event/prayer-line-531/
END:VEVENT
BEGIN:VEVENT
DTSTART;TZID=UTC:20251201T123000
DTEND;TZID=UTC:20251201T133000
DTSTAMP:20260424T024358
CREATED:20251123T041441Z
LAST-MODIFIED:20251123T042605Z
UID:6543-1764592200-1764595800@theriveroflifeworshipcenter.org
SUMMARY:Healing Service
DESCRIPTION:
URL:https://theriveroflifeworshipcenter.org/event/healing-service-18/
END:VEVENT
BEGIN:VEVENT
DTSTART;TZID=UTC:20251202T120000
DTEND;TZID=UTC:20251202T130000
DTSTAMP:20260424T024358
CREATED:20251019T155302Z
LAST-MODIFIED:20251019T155302Z
UID:6470-1764676800-1764680400@theriveroflifeworshipcenter.org
SUMMARY:Do you Need Prayer? Join us every Tuesday from 12:00-1:00 PM
DESCRIPTION:
URL:https://theriveroflifeworshipcenter.org/event/do-you-need-prayer-join-us-every-tuesday-from-1200-100-pm-195/
END:VEVENT
BEGIN:VEVENT
DTSTART;TZID=UTC:20251202T190000
DTEND;TZID=UTC:20251202T200000
DTSTAMP:20260424T024358
CREATED:20251019T154827Z
LAST-MODIFIED:20251019T154827Z
UID:6458-1764702000-1764705600@theriveroflifeworshipcenter.org
SUMMARY:Tuesday Night Virtual Bible Study
DESCRIPTION:
URL:https://theriveroflifeworshipcenter.org/event/tuesday-night-virtual-bible-study-187/
END:VEVENT
BEGIN:VEVENT
DTSTART;TZID=UTC:20251203T080000
DTEND;TZID=UTC:20251203T090000
DTSTAMP:20260424T024358
CREATED:20251019T154310Z
LAST-MODIFIED:20251019T154310Z
UID:6439-1764748800-1764752400@theriveroflifeworshipcenter.org
SUMMARY:Prayer Line
DESCRIPTION:
URL:https://theriveroflifeworshipcenter.org/event/prayer-line-532/
END:VEVENT
BEGIN:VEVENT
DTSTART;TZID=UTC:20251204T120000
DTEND;TZID=UTC:20251204T130000
DTSTAMP:20260424T024358
CREATED:20251019T155650Z
LAST-MODIFIED:20251019T155650Z
UID:6479-1764849600-1764853200@theriveroflifeworshipcenter.org
SUMMARY:Do you Need Prayer? Join us every Thursday from 12:00-1:00 PM
DESCRIPTION:
URL:https://theriveroflifeworshipcenter.org/event/do-you-need-prayer-join-us-every-thursday-from-1200-100-pm-193/
END:VEVENT
BEGIN:VEVENT
DTSTART;TZID=UTC:20251205T080000
DTEND;TZID=UTC:20251205T090000
DTSTAMP:20260424T024358
CREATED:20251019T154330Z
LAST-MODIFIED:20251019T154330Z
UID:6438-1764921600-1764925200@theriveroflifeworshipcenter.org
SUMMARY:Prayer Line
DESCRIPTION:
URL:https://theriveroflifeworshipcenter.org/event/prayer-line-533/
END:VEVENT
BEGIN:VEVENT
DTSTART;TZID=UTC:20251208T080000
DTEND;TZID=UTC:20251208T090000
DTSTAMP:20260424T024358
CREATED:20251019T154350Z
LAST-MODIFIED:20251019T154350Z
UID:6437-1765180800-1765184400@theriveroflifeworshipcenter.org
SUMMARY:Prayer Line
DESCRIPTION:
URL:https://theriveroflifeworshipcenter.org/event/prayer-line-534/
END:VEVENT
BEGIN:VEVENT
DTSTART;TZID=UTC:20251209T120000
DTEND;TZID=UTC:20251209T130000
DTSTAMP:20260424T024358
CREATED:20251019T155330Z
LAST-MODIFIED:20251019T155330Z
UID:6469-1765281600-1765285200@theriveroflifeworshipcenter.org
SUMMARY:Do you Need Prayer? Join us every Tuesday from 12:00-1:00 PM
DESCRIPTION:
URL:https://theriveroflifeworshipcenter.org/event/do-you-need-prayer-join-us-every-tuesday-from-1200-100-pm-196/
END:VEVENT
END:VCALENDAR