BEGIN:VCALENDAR
VERSION:2.0
PRODID:-//River of Life Worship Center - ECPv6.15.20//NONSGML v1.0//EN
CALSCALE:GREGORIAN
METHOD:PUBLISH
X-WR-CALNAME:River of Life Worship Center
X-ORIGINAL-URL:https://theriveroflifeworshipcenter.org
X-WR-CALDESC:Events for River of Life Worship Center
REFRESH-INTERVAL;VALUE=DURATION:PT1H
X-Robots-Tag:noindex
X-PUBLISHED-TTL:PT1H
BEGIN:VTIMEZONE
TZID:UTC
BEGIN:STANDARD
TZOFFSETFROM:+0000
TZOFFSETTO:+0000
TZNAME:UTC
DTSTART:20250101T000000
END:STANDARD
END:VTIMEZONE
BEGIN:VEVENT
DTSTART;TZID=UTC:20260221T103000
DTEND;TZID=UTC:20260221T120000
DTSTAMP:20260423T203534
CREATED:20260210T065905Z
LAST-MODIFIED:20260210T065905Z
UID:6925-1771669800-1771675200@theriveroflifeworshipcenter.org
SUMMARY:Deaconess Carla Memorial Service
DESCRIPTION:
URL:https://theriveroflifeworshipcenter.org/event/deaconess-carla-memorial-service/
END:VEVENT
BEGIN:VEVENT
DTSTART;TZID=UTC:20260220T080000
DTEND;TZID=UTC:20260220T090000
DTSTAMP:20260423T203534
CREATED:20260201T012853Z
LAST-MODIFIED:20260201T012853Z
UID:6862-1771574400-1771578000@theriveroflifeworshipcenter.org
SUMMARY:Prayer Line
DESCRIPTION:
URL:https://theriveroflifeworshipcenter.org/event/prayer-line-566/
END:VEVENT
BEGIN:VEVENT
DTSTART;TZID=UTC:20260219T120000
DTEND;TZID=UTC:20260219T130000
DTSTAMP:20260423T203534
CREATED:20260201T013218Z
LAST-MODIFIED:20260201T013218Z
UID:6884-1771502400-1771506000@theriveroflifeworshipcenter.org
SUMMARY:Do you Need Prayer? Join us every Thursday from 12:00-1:00 PM
DESCRIPTION:
URL:https://theriveroflifeworshipcenter.org/event/do-you-need-prayer-join-us-every-thursday-from-1200-100-pm-204/
END:VEVENT
BEGIN:VEVENT
DTSTART;TZID=UTC:20260218T080000
DTEND;TZID=UTC:20260218T090000
DTSTAMP:20260423T203534
CREATED:20260201T012831Z
LAST-MODIFIED:20260201T012831Z
UID:6863-1771401600-1771405200@theriveroflifeworshipcenter.org
SUMMARY:Prayer Line
DESCRIPTION:
URL:https://theriveroflifeworshipcenter.org/event/prayer-line-565/
END:VEVENT
BEGIN:VEVENT
DTSTART;TZID=UTC:20260217T190000
DTEND;TZID=UTC:20260217T200000
DTSTAMP:20260423T203534
CREATED:20260201T013537Z
LAST-MODIFIED:20260201T013537Z
UID:6892-1771354800-1771358400@theriveroflifeworshipcenter.org
SUMMARY:Tuesday Night Virtual Bible Study
DESCRIPTION:
URL:https://theriveroflifeworshipcenter.org/event/tuesday-night-virtual-bible-study-198/
END:VEVENT
BEGIN:VEVENT
DTSTART;TZID=UTC:20260217T120000
DTEND;TZID=UTC:20260217T130000
DTSTAMP:20260423T203534
CREATED:20260201T014003Z
LAST-MODIFIED:20260201T014003Z
UID:6900-1771329600-1771333200@theriveroflifeworshipcenter.org
SUMMARY:Do you Need Prayer? Join us every Tuesday from 12:00-1:00 PM
DESCRIPTION:
URL:https://theriveroflifeworshipcenter.org/event/do-you-need-prayer-join-us-every-tuesday-from-1200-100-pm-206/
END:VEVENT
BEGIN:VEVENT
DTSTART;TZID=UTC:20260216T080000
DTEND;TZID=UTC:20260216T090000
DTSTAMP:20260423T203534
CREATED:20260201T012813Z
LAST-MODIFIED:20260201T012813Z
UID:6864-1771228800-1771232400@theriveroflifeworshipcenter.org
SUMMARY:Prayer Line
DESCRIPTION:
URL:https://theriveroflifeworshipcenter.org/event/prayer-line-564/
END:VEVENT
BEGIN:VEVENT
DTSTART;TZID=UTC:20260213T080000
DTEND;TZID=UTC:20260213T090000
DTSTAMP:20260423T203534
CREATED:20260201T012752Z
LAST-MODIFIED:20260201T012752Z
UID:6865-1770969600-1770973200@theriveroflifeworshipcenter.org
SUMMARY:Prayer Line
DESCRIPTION:
URL:https://theriveroflifeworshipcenter.org/event/prayer-line-563/
END:VEVENT
BEGIN:VEVENT
DTSTART;TZID=UTC:20260212T120000
DTEND;TZID=UTC:20260212T130000
DTSTAMP:20260423T203534
CREATED:20260201T013159Z
LAST-MODIFIED:20260201T013159Z
UID:6885-1770897600-1770901200@theriveroflifeworshipcenter.org
SUMMARY:Do you Need Prayer? Join us every Thursday from 12:00-1:00 PM
DESCRIPTION:
URL:https://theriveroflifeworshipcenter.org/event/do-you-need-prayer-join-us-every-thursday-from-1200-100-pm-203/
END:VEVENT
BEGIN:VEVENT
DTSTART;TZID=UTC:20260211T080000
DTEND;TZID=UTC:20260211T090000
DTSTAMP:20260423T203534
CREATED:20260201T012731Z
LAST-MODIFIED:20260201T012731Z
UID:6866-1770796800-1770800400@theriveroflifeworshipcenter.org
SUMMARY:Prayer Line
DESCRIPTION:
URL:https://theriveroflifeworshipcenter.org/event/prayer-line-562/
END:VEVENT
BEGIN:VEVENT
DTSTART;TZID=UTC:20260210T190000
DTEND;TZID=UTC:20260210T200000
DTSTAMP:20260423T203534
CREATED:20260201T013512Z
LAST-MODIFIED:20260201T013512Z
UID:6893-1770750000-1770753600@theriveroflifeworshipcenter.org
SUMMARY:Tuesday Night Virtual Bible Study
DESCRIPTION:
URL:https://theriveroflifeworshipcenter.org/event/tuesday-night-virtual-bible-study-197/
END:VEVENT
BEGIN:VEVENT
DTSTART;TZID=UTC:20260210T120000
DTEND;TZID=UTC:20260210T130000
DTSTAMP:20260423T203534
CREATED:20260201T013936Z
LAST-MODIFIED:20260201T013936Z
UID:6901-1770724800-1770728400@theriveroflifeworshipcenter.org
SUMMARY:Do you Need Prayer? Join us every Tuesday from 12:00-1:00 PM
DESCRIPTION:
URL:https://theriveroflifeworshipcenter.org/event/do-you-need-prayer-join-us-every-tuesday-from-1200-100-pm-205/
END:VEVENT
BEGIN:VEVENT
DTSTART;TZID=UTC:20260209T080000
DTEND;TZID=UTC:20260209T090000
DTSTAMP:20260423T203534
CREATED:20260201T012709Z
LAST-MODIFIED:20260201T012709Z
UID:6867-1770624000-1770627600@theriveroflifeworshipcenter.org
SUMMARY:Prayer Line
DESCRIPTION:
URL:https://theriveroflifeworshipcenter.org/event/prayer-line-561/
END:VEVENT
BEGIN:VEVENT
DTSTART;TZID=UTC:20260206T080000
DTEND;TZID=UTC:20260206T090000
DTSTAMP:20260423T203534
CREATED:20260201T012640Z
LAST-MODIFIED:20260201T012640Z
UID:6868-1770364800-1770368400@theriveroflifeworshipcenter.org
SUMMARY:Prayer Line
DESCRIPTION:
URL:https://theriveroflifeworshipcenter.org/event/prayer-line-560/
END:VEVENT
BEGIN:VEVENT
DTSTART;TZID=UTC:20260205T120000
DTEND;TZID=UTC:20260205T130000
DTSTAMP:20260423T203534
CREATED:20260201T013139Z
LAST-MODIFIED:20260201T013139Z
UID:6886-1770292800-1770296400@theriveroflifeworshipcenter.org
SUMMARY:Do you Need Prayer? Join us every Thursday from 12:00-1:00 PM
DESCRIPTION:
URL:https://theriveroflifeworshipcenter.org/event/do-you-need-prayer-join-us-every-thursday-from-1200-100-pm-202/
END:VEVENT
BEGIN:VEVENT
DTSTART;TZID=UTC:20260204T080000
DTEND;TZID=UTC:20260204T090000
DTSTAMP:20260423T203534
CREATED:20260201T012621Z
LAST-MODIFIED:20260201T012621Z
UID:6869-1770192000-1770195600@theriveroflifeworshipcenter.org
SUMMARY:Prayer Line
DESCRIPTION:
URL:https://theriveroflifeworshipcenter.org/event/prayer-line-559/
END:VEVENT
BEGIN:VEVENT
DTSTART;TZID=UTC:20260203T190000
DTEND;TZID=UTC:20260203T200000
DTSTAMP:20260423T203534
CREATED:20260201T013444Z
LAST-MODIFIED:20260201T013444Z
UID:6894-1770145200-1770148800@theriveroflifeworshipcenter.org
SUMMARY:Tuesday Night Virtual Bible Study
DESCRIPTION:
URL:https://theriveroflifeworshipcenter.org/event/tuesday-night-virtual-bible-study-196/
END:VEVENT
BEGIN:VEVENT
DTSTART;TZID=UTC:20260203T120000
DTEND;TZID=UTC:20260203T130000
DTSTAMP:20260423T203534
CREATED:20260201T013906Z
LAST-MODIFIED:20260201T013906Z
UID:6902-1770120000-1770123600@theriveroflifeworshipcenter.org
SUMMARY:Do you Need Prayer? Join us every Tuesday from 12:00-1:00 PM
DESCRIPTION:
URL:https://theriveroflifeworshipcenter.org/event/do-you-need-prayer-join-us-every-tuesday-from-1200-100-pm-204/
END:VEVENT
BEGIN:VEVENT
DTSTART;TZID=UTC:20260202T080000
DTEND;TZID=UTC:20260202T090000
DTSTAMP:20260423T203534
CREATED:20260201T012601Z
LAST-MODIFIED:20260201T012601Z
UID:6870-1770019200-1770022800@theriveroflifeworshipcenter.org
SUMMARY:Prayer Line
DESCRIPTION:
URL:https://theriveroflifeworshipcenter.org/event/prayer-line-558/
END:VEVENT
BEGIN:VEVENT
DTSTART;TZID=UTC:20260130T080000
DTEND;TZID=UTC:20260130T090000
DTSTAMP:20260423T203534
CREATED:20251208T150420Z
LAST-MODIFIED:20251208T150420Z
UID:6584-1769760000-1769763600@theriveroflifeworshipcenter.org
SUMMARY:Prayer Line
DESCRIPTION:
URL:https://theriveroflifeworshipcenter.org/event/prayer-line-557/
END:VEVENT
BEGIN:VEVENT
DTSTART;TZID=UTC:20260129T120000
DTEND;TZID=UTC:20260129T130000
DTSTAMP:20260423T203534
CREATED:20251208T151338Z
LAST-MODIFIED:20251208T151338Z
UID:6627-1769688000-1769691600@theriveroflifeworshipcenter.org
SUMMARY:Do you Need Prayer? Join us every Thursday from 12:00-1:00 PM
DESCRIPTION:
URL:https://theriveroflifeworshipcenter.org/event/do-you-need-prayer-join-us-every-thursday-from-1200-100-pm-200/
END:VEVENT
BEGIN:VEVENT
DTSTART;TZID=UTC:20260128T080000
DTEND;TZID=UTC:20260128T090000
DTSTAMP:20260423T203534
CREATED:20251208T150403Z
LAST-MODIFIED:20251208T150403Z
UID:6585-1769587200-1769590800@theriveroflifeworshipcenter.org
SUMMARY:Prayer Line
DESCRIPTION:
URL:https://theriveroflifeworshipcenter.org/event/prayer-line-556/
END:VEVENT
BEGIN:VEVENT
DTSTART;TZID=UTC:20260127T190000
DTEND;TZID=UTC:20260127T200000
DTSTAMP:20260423T203534
CREATED:20251208T151017Z
LAST-MODIFIED:20251208T151017Z
UID:6619-1769540400-1769544000@theriveroflifeworshipcenter.org
SUMMARY:Tuesday Night Virtual Bible Study
DESCRIPTION:
URL:https://theriveroflifeworshipcenter.org/event/tuesday-night-virtual-bible-study-195/
END:VEVENT
BEGIN:VEVENT
DTSTART;TZID=UTC:20260127T120000
DTEND;TZID=UTC:20260127T130000
DTSTAMP:20260423T203534
CREATED:20251208T150748Z
LAST-MODIFIED:20251208T150748Z
UID:6611-1769515200-1769518800@theriveroflifeworshipcenter.org
SUMMARY:Do you Need Prayer? Join us every Tuesday from 12:00-1:00 PM
DESCRIPTION:
URL:https://theriveroflifeworshipcenter.org/event/do-you-need-prayer-join-us-every-tuesday-from-1200-100-pm-203/
END:VEVENT
BEGIN:VEVENT
DTSTART;TZID=UTC:20260126T080000
DTEND;TZID=UTC:20260126T090000
DTSTAMP:20260423T203534
CREATED:20251208T150341Z
LAST-MODIFIED:20251208T150341Z
UID:6586-1769414400-1769418000@theriveroflifeworshipcenter.org
SUMMARY:Prayer Line
DESCRIPTION:
URL:https://theriveroflifeworshipcenter.org/event/prayer-line-555/
END:VEVENT
BEGIN:VEVENT
DTSTART;TZID=UTC:20260123T180000
DTEND;TZID=UTC:20260123T200000
DTSTAMP:20260423T203534
CREATED:20260104T005244Z
LAST-MODIFIED:20260104T005244Z
UID:6742-1769191200-1769198400@theriveroflifeworshipcenter.org
SUMMARY:Friday Night Prayer
DESCRIPTION:
URL:https://theriveroflifeworshipcenter.org/event/friday-night-prayer-3/
END:VEVENT
BEGIN:VEVENT
DTSTART;TZID=UTC:20260123T080000
DTEND;TZID=UTC:20260123T090000
DTSTAMP:20260423T203534
CREATED:20251208T150320Z
LAST-MODIFIED:20251208T150320Z
UID:6587-1769155200-1769158800@theriveroflifeworshipcenter.org
SUMMARY:Prayer Line
DESCRIPTION:
URL:https://theriveroflifeworshipcenter.org/event/prayer-line-554/
END:VEVENT
BEGIN:VEVENT
DTSTART;TZID=UTC:20260122T120000
DTEND;TZID=UTC:20260122T130000
DTSTAMP:20260423T203534
CREATED:20251208T151315Z
LAST-MODIFIED:20251208T151315Z
UID:6628-1769083200-1769086800@theriveroflifeworshipcenter.org
SUMMARY:Do you Need Prayer? Join us every Thursday from 12:00-1:00 PM
DESCRIPTION:
URL:https://theriveroflifeworshipcenter.org/event/do-you-need-prayer-join-us-every-thursday-from-1200-100-pm-199/
END:VEVENT
BEGIN:VEVENT
DTSTART;TZID=UTC:20260121T080000
DTEND;TZID=UTC:20260121T090000
DTSTAMP:20260423T203534
CREATED:20251208T150248Z
LAST-MODIFIED:20251208T150248Z
UID:6588-1768982400-1768986000@theriveroflifeworshipcenter.org
SUMMARY:Prayer Line
DESCRIPTION:
URL:https://theriveroflifeworshipcenter.org/event/prayer-line-553/
END:VEVENT
BEGIN:VEVENT
DTSTART;TZID=UTC:20260120T190000
DTEND;TZID=UTC:20260120T200000
DTSTAMP:20260423T203534
CREATED:20251208T150955Z
LAST-MODIFIED:20251208T150955Z
UID:6620-1768935600-1768939200@theriveroflifeworshipcenter.org
SUMMARY:Tuesday Night Virtual Bible Study
DESCRIPTION:
URL:https://theriveroflifeworshipcenter.org/event/tuesday-night-virtual-bible-study-194/
END:VEVENT
END:VCALENDAR