BEGIN:VCALENDAR
VERSION:2.0
PRODID:-//River of Life Worship Center - ECPv6.15.20//NONSGML v1.0//EN
CALSCALE:GREGORIAN
METHOD:PUBLISH
X-WR-CALNAME:River of Life Worship Center
X-ORIGINAL-URL:https://theriveroflifeworshipcenter.org
X-WR-CALDESC:Events for River of Life Worship Center
REFRESH-INTERVAL;VALUE=DURATION:PT1H
X-Robots-Tag:noindex
X-PUBLISHED-TTL:PT1H
BEGIN:VTIMEZONE
TZID:UTC
BEGIN:STANDARD
TZOFFSETFROM:+0000
TZOFFSETTO:+0000
TZNAME:UTC
DTSTART:20240101T000000
END:STANDARD
END:VTIMEZONE
BEGIN:VEVENT
DTSTART;TZID=UTC:20260120T190000
DTEND;TZID=UTC:20260120T200000
DTSTAMP:20260423T224702
CREATED:20251208T150955Z
LAST-MODIFIED:20251208T150955Z
UID:6620-1768935600-1768939200@theriveroflifeworshipcenter.org
SUMMARY:Tuesday Night Virtual Bible Study
DESCRIPTION:
URL:https://theriveroflifeworshipcenter.org/event/tuesday-night-virtual-bible-study-194/
END:VEVENT
BEGIN:VEVENT
DTSTART;TZID=UTC:20260120T120000
DTEND;TZID=UTC:20260120T130000
DTSTAMP:20260423T224702
CREATED:20251208T150727Z
LAST-MODIFIED:20251208T150727Z
UID:6612-1768910400-1768914000@theriveroflifeworshipcenter.org
SUMMARY:Do you Need Prayer? Join us every Tuesday from 12:00-1:00 PM
DESCRIPTION:
URL:https://theriveroflifeworshipcenter.org/event/do-you-need-prayer-join-us-every-tuesday-from-1200-100-pm-202/
END:VEVENT
BEGIN:VEVENT
DTSTART;TZID=UTC:20260119T080000
DTEND;TZID=UTC:20260119T090000
DTSTAMP:20260423T224702
CREATED:20251208T150229Z
LAST-MODIFIED:20251208T150229Z
UID:6589-1768809600-1768813200@theriveroflifeworshipcenter.org
SUMMARY:Prayer Line
DESCRIPTION:
URL:https://theriveroflifeworshipcenter.org/event/prayer-line-552/
END:VEVENT
BEGIN:VEVENT
DTSTART;TZID=UTC:20260117T180000
DTEND;TZID=UTC:20260117T200000
DTSTAMP:20260423T224702
CREATED:20260104T003503Z
LAST-MODIFIED:20260104T003856Z
UID:6727-1768672800-1768680000@theriveroflifeworshipcenter.org
SUMMARY:Project Life
DESCRIPTION:
URL:https://theriveroflifeworshipcenter.org/event/project-life-6/
END:VEVENT
BEGIN:VEVENT
DTSTART;TZID=UTC:20260117T100000
DTEND;TZID=UTC:20260117T120000
DTSTAMP:20260423T224702
CREATED:20260104T002144Z
LAST-MODIFIED:20260104T002220Z
UID:6723-1768644000-1768651200@theriveroflifeworshipcenter.org
SUMMARY:Community
DESCRIPTION:
URL:https://theriveroflifeworshipcenter.org/event/outreach-3/
END:VEVENT
BEGIN:VEVENT
DTSTART;TZID=UTC:20260116T180000
DTEND;TZID=UTC:20260116T200000
DTSTAMP:20260423T224702
CREATED:20260104T005059Z
LAST-MODIFIED:20260104T005059Z
UID:6740-1768586400-1768593600@theriveroflifeworshipcenter.org
SUMMARY:Friday Night Prayer
DESCRIPTION:
URL:https://theriveroflifeworshipcenter.org/event/friday-night-prayer-2/
END:VEVENT
BEGIN:VEVENT
DTSTART;TZID=UTC:20260116T080000
DTEND;TZID=UTC:20260116T090000
DTSTAMP:20260423T224702
CREATED:20251208T150209Z
LAST-MODIFIED:20251208T150209Z
UID:6590-1768550400-1768554000@theriveroflifeworshipcenter.org
SUMMARY:Prayer Line
DESCRIPTION:
URL:https://theriveroflifeworshipcenter.org/event/prayer-line-551/
END:VEVENT
BEGIN:VEVENT
DTSTART;TZID=UTC:20260115T120000
DTEND;TZID=UTC:20260115T130000
DTSTAMP:20260423T224702
CREATED:20251208T151252Z
LAST-MODIFIED:20251208T151252Z
UID:6629-1768478400-1768482000@theriveroflifeworshipcenter.org
SUMMARY:Do you Need Prayer? Join us every Thursday from 12:00-1:00 PM
DESCRIPTION:
URL:https://theriveroflifeworshipcenter.org/event/do-you-need-prayer-join-us-every-thursday-from-1200-100-pm-198/
END:VEVENT
BEGIN:VEVENT
DTSTART;TZID=UTC:20260114T080000
DTEND;TZID=UTC:20260114T090000
DTSTAMP:20260423T224702
CREATED:20251208T150146Z
LAST-MODIFIED:20251208T150146Z
UID:6591-1768377600-1768381200@theriveroflifeworshipcenter.org
SUMMARY:Prayer Line
DESCRIPTION:
URL:https://theriveroflifeworshipcenter.org/event/prayer-line-550/
END:VEVENT
BEGIN:VEVENT
DTSTART;TZID=UTC:20260113T190000
DTEND;TZID=UTC:20260113T200000
DTSTAMP:20260423T224702
CREATED:20251208T150931Z
LAST-MODIFIED:20251208T150931Z
UID:6621-1768330800-1768334400@theriveroflifeworshipcenter.org
SUMMARY:Tuesday Night Virtual Bible Study
DESCRIPTION:
URL:https://theriveroflifeworshipcenter.org/event/tuesday-night-virtual-bible-study-193/
END:VEVENT
BEGIN:VEVENT
DTSTART;TZID=UTC:20260113T120000
DTEND;TZID=UTC:20260113T130000
DTSTAMP:20260423T224702
CREATED:20251208T150707Z
LAST-MODIFIED:20251208T150707Z
UID:6613-1768305600-1768309200@theriveroflifeworshipcenter.org
SUMMARY:Do you Need Prayer? Join us every Tuesday from 12:00-1:00 PM
DESCRIPTION:
URL:https://theriveroflifeworshipcenter.org/event/do-you-need-prayer-join-us-every-tuesday-from-1200-100-pm-201/
END:VEVENT
BEGIN:VEVENT
DTSTART;TZID=UTC:20260112T080000
DTEND;TZID=UTC:20260112T090000
DTSTAMP:20260423T224702
CREATED:20251208T150125Z
LAST-MODIFIED:20251208T150125Z
UID:6592-1768204800-1768208400@theriveroflifeworshipcenter.org
SUMMARY:Prayer Line
DESCRIPTION:
URL:https://theriveroflifeworshipcenter.org/event/prayer-line-549/
END:VEVENT
BEGIN:VEVENT
DTSTART;TZID=UTC:20260111T100000
DTEND;TZID=UTC:20260111T120000
DTSTAMP:20260423T224702
CREATED:20260104T001351Z
LAST-MODIFIED:20260104T001720Z
UID:6716-1768125600-1768132800@theriveroflifeworshipcenter.org
SUMMARY:Scholarship Awards Sunday
DESCRIPTION:
URL:https://theriveroflifeworshipcenter.org/event/scholarship-awards-sunday/
END:VEVENT
BEGIN:VEVENT
DTSTART;TZID=UTC:20260109T180000
DTEND;TZID=UTC:20260109T200000
DTSTAMP:20260423T224702
CREATED:20260104T004626Z
LAST-MODIFIED:20260104T004945Z
UID:6737-1767981600-1767988800@theriveroflifeworshipcenter.org
SUMMARY:Friday Night Prayer
DESCRIPTION:
URL:https://theriveroflifeworshipcenter.org/event/friday-night-prayer/
END:VEVENT
BEGIN:VEVENT
DTSTART;TZID=UTC:20260109T080000
DTEND;TZID=UTC:20260109T090000
DTSTAMP:20260423T224702
CREATED:20251208T150104Z
LAST-MODIFIED:20251208T150104Z
UID:6593-1767945600-1767949200@theriveroflifeworshipcenter.org
SUMMARY:Prayer Line
DESCRIPTION:
URL:https://theriveroflifeworshipcenter.org/event/prayer-line-548/
END:VEVENT
BEGIN:VEVENT
DTSTART;TZID=UTC:20260108T120000
DTEND;TZID=UTC:20260108T130000
DTSTAMP:20260423T224702
CREATED:20251208T151229Z
LAST-MODIFIED:20251208T151229Z
UID:6630-1767873600-1767877200@theriveroflifeworshipcenter.org
SUMMARY:Do you Need Prayer? Join us every Thursday from 12:00-1:00 PM
DESCRIPTION:
URL:https://theriveroflifeworshipcenter.org/event/do-you-need-prayer-join-us-every-thursday-from-1200-100-pm-197/
END:VEVENT
BEGIN:VEVENT
DTSTART;TZID=UTC:20260107T080000
DTEND;TZID=UTC:20260107T090000
DTSTAMP:20260423T224702
CREATED:20251208T150029Z
LAST-MODIFIED:20251208T150029Z
UID:6594-1767772800-1767776400@theriveroflifeworshipcenter.org
SUMMARY:Prayer Line
DESCRIPTION:
URL:https://theriveroflifeworshipcenter.org/event/prayer-line-547/
END:VEVENT
BEGIN:VEVENT
DTSTART;TZID=UTC:20260106T190000
DTEND;TZID=UTC:20260106T200000
DTSTAMP:20260423T224702
CREATED:20251208T150907Z
LAST-MODIFIED:20251208T150907Z
UID:6622-1767726000-1767729600@theriveroflifeworshipcenter.org
SUMMARY:Tuesday Night Virtual Bible Study
DESCRIPTION:
URL:https://theriveroflifeworshipcenter.org/event/tuesday-night-virtual-bible-study-192/
END:VEVENT
BEGIN:VEVENT
DTSTART;TZID=UTC:20260106T120000
DTEND;TZID=UTC:20260106T130000
DTSTAMP:20260423T224702
CREATED:20251208T150648Z
LAST-MODIFIED:20251208T150648Z
UID:6614-1767700800-1767704400@theriveroflifeworshipcenter.org
SUMMARY:Do you Need Prayer? Join us every Tuesday from 12:00-1:00 PM
DESCRIPTION:
URL:https://theriveroflifeworshipcenter.org/event/do-you-need-prayer-join-us-every-tuesday-from-1200-100-pm-200/
END:VEVENT
BEGIN:VEVENT
DTSTART;TZID=UTC:20260105T123000
DTEND;TZID=UTC:20260105T133000
DTSTAMP:20260423T224702
CREATED:20260105T134602Z
LAST-MODIFIED:20260105T134618Z
UID:6745-1767616200-1767619800@theriveroflifeworshipcenter.org
SUMMARY:Healing Service
DESCRIPTION:
URL:https://theriveroflifeworshipcenter.org/event/6745/
END:VEVENT
BEGIN:VEVENT
DTSTART;TZID=UTC:20260105T080000
DTEND;TZID=UTC:20260105T090000
DTSTAMP:20260423T224702
CREATED:20251208T150003Z
LAST-MODIFIED:20251208T150003Z
UID:6595-1767600000-1767603600@theriveroflifeworshipcenter.org
SUMMARY:Prayer Line
DESCRIPTION:
URL:https://theriveroflifeworshipcenter.org/event/prayer-line-546/
END:VEVENT
BEGIN:VEVENT
DTSTART;VALUE=DATE:20260103
DTEND;VALUE=DATE:20260125
DTSTAMP:20260423T224702
CREATED:20260104T004431Z
LAST-MODIFIED:20260104T004431Z
UID:6733-1767398400-1769299199@theriveroflifeworshipcenter.org
SUMMARY:21 Day Fast
DESCRIPTION:
URL:https://theriveroflifeworshipcenter.org/event/21-day-fast/
END:VEVENT
BEGIN:VEVENT
DTSTART;TZID=UTC:20260102T080000
DTEND;TZID=UTC:20260102T090000
DTSTAMP:20260423T224702
CREATED:20251208T145939Z
LAST-MODIFIED:20251208T145939Z
UID:6596-1767340800-1767344400@theriveroflifeworshipcenter.org
SUMMARY:Prayer Line
DESCRIPTION:
URL:https://theriveroflifeworshipcenter.org/event/prayer-line-545/
END:VEVENT
BEGIN:VEVENT
DTSTART;TZID=UTC:20260101T120000
DTEND;TZID=UTC:20260101T130000
DTSTAMP:20260423T224702
CREATED:20251208T151518Z
LAST-MODIFIED:20251208T151518Z
UID:6635-1767268800-1767272400@theriveroflifeworshipcenter.org
SUMMARY:Do you Need Prayer? Join us every Thursday from 12:00-1:00 PM
DESCRIPTION:
URL:https://theriveroflifeworshipcenter.org/event/do-you-need-prayer-join-us-every-thursday-from-1200-100-pm-201/
END:VEVENT
BEGIN:VEVENT
DTSTART;TZID=UTC:20251231T220000
DTEND;TZID=UTC:20251231T220000
DTSTAMP:20260423T224702
CREATED:20251112T010445Z
LAST-MODIFIED:20251112T010445Z
UID:2289-1767218400-1767218400@theriveroflifeworshipcenter.org
SUMMARY:New Year's Eve Service
DESCRIPTION:
URL:https://theriveroflifeworshipcenter.org/event/new-years-eve-service/
END:VEVENT
BEGIN:VEVENT
DTSTART;TZID=UTC:20251231T080000
DTEND;TZID=UTC:20251231T090000
DTSTAMP:20260423T224702
CREATED:20251019T154704Z
LAST-MODIFIED:20251019T154704Z
UID:6427-1767168000-1767171600@theriveroflifeworshipcenter.org
SUMMARY:Prayer Line
DESCRIPTION:
URL:https://theriveroflifeworshipcenter.org/event/prayer-line-544/
END:VEVENT
BEGIN:VEVENT
DTSTART;TZID=UTC:20251230T190000
DTEND;TZID=UTC:20251230T200000
DTSTAMP:20260423T224702
CREATED:20251019T155119Z
LAST-MODIFIED:20251019T155119Z
UID:6462-1767121200-1767124800@theriveroflifeworshipcenter.org
SUMMARY:Tuesday Night Virtual Bible Study
DESCRIPTION:
URL:https://theriveroflifeworshipcenter.org/event/tuesday-night-virtual-bible-study-191/
END:VEVENT
BEGIN:VEVENT
DTSTART;TZID=UTC:20251230T120000
DTEND;TZID=UTC:20251230T130000
DTSTAMP:20260423T224702
CREATED:20251019T155441Z
LAST-MODIFIED:20251019T155441Z
UID:6466-1767096000-1767099600@theriveroflifeworshipcenter.org
SUMMARY:Do you Need Prayer? Join us every Tuesday from 12:00-1:00 PM
DESCRIPTION:
URL:https://theriveroflifeworshipcenter.org/event/do-you-need-prayer-join-us-every-tuesday-from-1200-100-pm-199/
END:VEVENT
BEGIN:VEVENT
DTSTART;TZID=UTC:20251229T080000
DTEND;TZID=UTC:20251229T090000
DTSTAMP:20260423T224702
CREATED:20251019T154646Z
LAST-MODIFIED:20251019T154646Z
UID:6428-1766995200-1766998800@theriveroflifeworshipcenter.org
SUMMARY:Prayer Line
DESCRIPTION:
URL:https://theriveroflifeworshipcenter.org/event/prayer-line-543/
END:VEVENT
BEGIN:VEVENT
DTSTART;TZID=UTC:20251226T080000
DTEND;TZID=UTC:20251226T090000
DTSTAMP:20260423T224702
CREATED:20251019T154627Z
LAST-MODIFIED:20251019T154627Z
UID:6429-1766736000-1766739600@theriveroflifeworshipcenter.org
SUMMARY:Prayer Line
DESCRIPTION:
URL:https://theriveroflifeworshipcenter.org/event/prayer-line-542/
END:VEVENT
END:VCALENDAR