BEGIN:VCALENDAR
VERSION:2.0
PRODID:-//River of Life Worship Center - ECPv6.15.20//NONSGML v1.0//EN
CALSCALE:GREGORIAN
METHOD:PUBLISH
X-WR-CALNAME:River of Life Worship Center
X-ORIGINAL-URL:https://theriveroflifeworshipcenter.org
X-WR-CALDESC:Events for River of Life Worship Center
REFRESH-INTERVAL;VALUE=DURATION:PT1H
X-Robots-Tag:noindex
X-PUBLISHED-TTL:PT1H
BEGIN:VTIMEZONE
TZID:UTC
BEGIN:STANDARD
TZOFFSETFROM:+0000
TZOFFSETTO:+0000
TZNAME:UTC
DTSTART:20230101T000000
END:STANDARD
END:VTIMEZONE
BEGIN:VEVENT
DTSTART;TZID=UTC:20241219T120000
DTEND;TZID=UTC:20241219T130000
DTSTAMP:20260425T164402
CREATED:20241023T215327Z
LAST-MODIFIED:20241023T215327Z
UID:5073-1734609600-1734613200@theriveroflifeworshipcenter.org
SUMMARY:Do you Need Prayer? Join us every Thursday from 12:00-1:00 PM
DESCRIPTION:
URL:https://theriveroflifeworshipcenter.org/event/do-you-need-prayer-join-us-every-thursday-from-1200-100-pm-143/
END:VEVENT
BEGIN:VEVENT
DTSTART;TZID=UTC:20241218T080000
DTEND;TZID=UTC:20241218T090000
DTSTAMP:20260425T164402
CREATED:20241023T213931Z
LAST-MODIFIED:20241023T213931Z
UID:5023-1734508800-1734512400@theriveroflifeworshipcenter.org
SUMMARY:Prayer Line
DESCRIPTION:
URL:https://theriveroflifeworshipcenter.org/event/prayer-line-383/
END:VEVENT
BEGIN:VEVENT
DTSTART;TZID=UTC:20241217T190000
DTEND;TZID=UTC:20241217T200000
DTSTAMP:20260425T164402
CREATED:20241023T214545Z
LAST-MODIFIED:20241023T214545Z
UID:5048-1734462000-1734465600@theriveroflifeworshipcenter.org
SUMMARY:Tuesday Night Virtual Bible Study
DESCRIPTION:
URL:https://theriveroflifeworshipcenter.org/event/tuesday-night-virtual-bible-study-138/
END:VEVENT
BEGIN:VEVENT
DTSTART;TZID=UTC:20241217T120000
DTEND;TZID=UTC:20241217T130000
DTSTAMP:20260425T164402
CREATED:20241023T215030Z
LAST-MODIFIED:20241023T215030Z
UID:5051-1734436800-1734440400@theriveroflifeworshipcenter.org
SUMMARY:Do you Need Prayer? Join us every Tuesday from 12:00-1:00 PM
DESCRIPTION:
URL:https://theriveroflifeworshipcenter.org/event/do-you-need-prayer-join-us-every-tuesday-from-1200-100-pm-146/
END:VEVENT
BEGIN:VEVENT
DTSTART;TZID=UTC:20241216T080000
DTEND;TZID=UTC:20241216T090000
DTSTAMP:20260425T164402
CREATED:20241023T213912Z
LAST-MODIFIED:20241023T213912Z
UID:5024-1734336000-1734339600@theriveroflifeworshipcenter.org
SUMMARY:Prayer Line
DESCRIPTION:
URL:https://theriveroflifeworshipcenter.org/event/prayer-line-382/
END:VEVENT
BEGIN:VEVENT
DTSTART;TZID=UTC:20241213T080000
DTEND;TZID=UTC:20241213T090000
DTSTAMP:20260425T164402
CREATED:20241023T213852Z
LAST-MODIFIED:20241023T213852Z
UID:5025-1734076800-1734080400@theriveroflifeworshipcenter.org
SUMMARY:Prayer Line
DESCRIPTION:
URL:https://theriveroflifeworshipcenter.org/event/prayer-line-381/
END:VEVENT
BEGIN:VEVENT
DTSTART;TZID=UTC:20241212T120000
DTEND;TZID=UTC:20241212T130000
DTSTAMP:20260425T164402
CREATED:20241023T215300Z
LAST-MODIFIED:20241023T215300Z
UID:5074-1734004800-1734008400@theriveroflifeworshipcenter.org
SUMMARY:Do you Need Prayer? Join us every Thursday from 12:00-1:00 PM
DESCRIPTION:
URL:https://theriveroflifeworshipcenter.org/event/do-you-need-prayer-join-us-every-thursday-from-1200-100-pm-142/
END:VEVENT
BEGIN:VEVENT
DTSTART;TZID=UTC:20241211T080000
DTEND;TZID=UTC:20241211T090000
DTSTAMP:20260425T164402
CREATED:20241023T213834Z
LAST-MODIFIED:20241023T213834Z
UID:5026-1733904000-1733907600@theriveroflifeworshipcenter.org
SUMMARY:Prayer Line
DESCRIPTION:
URL:https://theriveroflifeworshipcenter.org/event/prayer-line-380/
END:VEVENT
BEGIN:VEVENT
DTSTART;TZID=UTC:20241210T190000
DTEND;TZID=UTC:20241210T200000
DTSTAMP:20260425T164402
CREATED:20241023T214526Z
LAST-MODIFIED:20241023T214526Z
UID:5046-1733857200-1733860800@theriveroflifeworshipcenter.org
SUMMARY:Tuesday Night Virtual Bible Study
DESCRIPTION:
URL:https://theriveroflifeworshipcenter.org/event/tuesday-night-virtual-bible-study-137/
END:VEVENT
BEGIN:VEVENT
DTSTART;TZID=UTC:20241210T120000
DTEND;TZID=UTC:20241210T130000
DTSTAMP:20260425T164402
CREATED:20241023T215003Z
LAST-MODIFIED:20241023T215003Z
UID:5052-1733832000-1733835600@theriveroflifeworshipcenter.org
SUMMARY:Do you Need Prayer? Join us every Tuesday from 12:00-1:00 PM
DESCRIPTION:
URL:https://theriveroflifeworshipcenter.org/event/do-you-need-prayer-join-us-every-tuesday-from-1200-100-pm-145/
END:VEVENT
BEGIN:VEVENT
DTSTART;TZID=UTC:20241209T080000
DTEND;TZID=UTC:20241209T090000
DTSTAMP:20260425T164402
CREATED:20241023T213817Z
LAST-MODIFIED:20241023T213817Z
UID:5027-1733731200-1733734800@theriveroflifeworshipcenter.org
SUMMARY:Prayer Line
DESCRIPTION:
URL:https://theriveroflifeworshipcenter.org/event/prayer-line-379/
END:VEVENT
BEGIN:VEVENT
DTSTART;TZID=UTC:20241206T080000
DTEND;TZID=UTC:20241206T090000
DTSTAMP:20260425T164402
CREATED:20241023T213759Z
LAST-MODIFIED:20241023T213759Z
UID:5028-1733472000-1733475600@theriveroflifeworshipcenter.org
SUMMARY:Prayer Line
DESCRIPTION:
URL:https://theriveroflifeworshipcenter.org/event/prayer-line-378/
END:VEVENT
BEGIN:VEVENT
DTSTART;TZID=UTC:20241205T120000
DTEND;TZID=UTC:20241205T130000
DTSTAMP:20260425T164402
CREATED:20241023T215240Z
LAST-MODIFIED:20241023T215240Z
UID:5075-1733400000-1733403600@theriveroflifeworshipcenter.org
SUMMARY:Do you Need Prayer? Join us every Thursday from 12:00-1:00 PM
DESCRIPTION:
URL:https://theriveroflifeworshipcenter.org/event/do-you-need-prayer-join-us-every-thursday-from-1200-100-pm-141/
END:VEVENT
BEGIN:VEVENT
DTSTART;TZID=UTC:20241204T080000
DTEND;TZID=UTC:20241204T090000
DTSTAMP:20260425T164402
CREATED:20241023T213725Z
LAST-MODIFIED:20241023T213725Z
UID:5031-1733299200-1733302800@theriveroflifeworshipcenter.org
SUMMARY:Prayer Line
DESCRIPTION:
URL:https://theriveroflifeworshipcenter.org/event/prayer-line-377/
END:VEVENT
BEGIN:VEVENT
DTSTART;TZID=UTC:20241203T190000
DTEND;TZID=UTC:20241203T200000
DTSTAMP:20260425T164402
CREATED:20241023T214500Z
LAST-MODIFIED:20241023T214500Z
UID:5049-1733252400-1733256000@theriveroflifeworshipcenter.org
SUMMARY:Tuesday Night Virtual Bible Study
DESCRIPTION:
URL:https://theriveroflifeworshipcenter.org/event/tuesday-night-virtual-bible-study-136/
END:VEVENT
BEGIN:VEVENT
DTSTART;TZID=UTC:20241203T120000
DTEND;TZID=UTC:20241203T130000
DTSTAMP:20260425T164402
CREATED:20241023T214933Z
LAST-MODIFIED:20241023T214933Z
UID:5053-1733227200-1733230800@theriveroflifeworshipcenter.org
SUMMARY:Do you Need Prayer? Join us every Tuesday from 12:00-1:00 PM
DESCRIPTION:
URL:https://theriveroflifeworshipcenter.org/event/do-you-need-prayer-join-us-every-tuesday-from-1200-100-pm-144/
END:VEVENT
BEGIN:VEVENT
DTSTART;TZID=UTC:20241202T080000
DTEND;TZID=UTC:20241202T090000
DTSTAMP:20260425T164402
CREATED:20241023T213656Z
LAST-MODIFIED:20241023T213656Z
UID:5029-1733126400-1733130000@theriveroflifeworshipcenter.org
SUMMARY:Prayer Line
DESCRIPTION:
URL:https://theriveroflifeworshipcenter.org/event/prayer-line-376/
END:VEVENT
BEGIN:VEVENT
DTSTART;TZID=UTC:20241129T080000
DTEND;TZID=UTC:20241129T090000
DTSTAMP:20260425T164402
CREATED:20241023T212300Z
LAST-MODIFIED:20241023T212300Z
UID:4970-1732867200-1732870800@theriveroflifeworshipcenter.org
SUMMARY:Prayer Line
DESCRIPTION:
URL:https://theriveroflifeworshipcenter.org/event/prayer-line-375/
END:VEVENT
BEGIN:VEVENT
DTSTART;TZID=UTC:20241128T120000
DTEND;TZID=UTC:20241128T130000
DTSTAMP:20260425T164402
CREATED:20241023T212816Z
LAST-MODIFIED:20241023T212816Z
UID:4998-1732795200-1732798800@theriveroflifeworshipcenter.org
SUMMARY:Do you Need Prayer? Join us every Thursday from 12:00-1:00 PM
DESCRIPTION:
URL:https://theriveroflifeworshipcenter.org/event/do-you-need-prayer-join-us-every-thursday-from-1200-100-pm-140/
END:VEVENT
BEGIN:VEVENT
DTSTART;TZID=UTC:20241127T080000
DTEND;TZID=UTC:20241127T090000
DTSTAMP:20260425T164402
CREATED:20241023T212232Z
LAST-MODIFIED:20241023T212232Z
UID:4971-1732694400-1732698000@theriveroflifeworshipcenter.org
SUMMARY:Prayer Line
DESCRIPTION:
URL:https://theriveroflifeworshipcenter.org/event/prayer-line-374/
END:VEVENT
BEGIN:VEVENT
DTSTART;TZID=UTC:20241126T190000
DTEND;TZID=UTC:20241126T200000
DTSTAMP:20260425T164402
CREATED:20241023T212956Z
LAST-MODIFIED:20241023T212956Z
UID:4994-1732647600-1732651200@theriveroflifeworshipcenter.org
SUMMARY:Tuesday Night Virtual Bible Study
DESCRIPTION:
URL:https://theriveroflifeworshipcenter.org/event/tuesday-night-virtual-bible-study-135/
END:VEVENT
BEGIN:VEVENT
DTSTART;TZID=UTC:20241126T120000
DTEND;TZID=UTC:20241126T130000
DTSTAMP:20260425T164402
CREATED:20241023T213121Z
LAST-MODIFIED:20241023T213121Z
UID:5002-1732622400-1732626000@theriveroflifeworshipcenter.org
SUMMARY:Do you Need Prayer? Join us every Tuesday from 12:00-1:00 PM
DESCRIPTION:
URL:https://theriveroflifeworshipcenter.org/event/do-you-need-prayer-join-us-every-tuesday-from-1200-100-pm-143/
END:VEVENT
BEGIN:VEVENT
DTSTART;TZID=UTC:20241125T080000
DTEND;TZID=UTC:20241125T090000
DTSTAMP:20260425T164402
CREATED:20241023T212208Z
LAST-MODIFIED:20241023T212208Z
UID:4972-1732521600-1732525200@theriveroflifeworshipcenter.org
SUMMARY:Prayer Line
DESCRIPTION:
URL:https://theriveroflifeworshipcenter.org/event/prayer-line-373/
END:VEVENT
BEGIN:VEVENT
DTSTART;TZID=UTC:20241122T080000
DTEND;TZID=UTC:20241122T090000
DTSTAMP:20260425T164402
CREATED:20241023T212138Z
LAST-MODIFIED:20241023T212138Z
UID:4973-1732262400-1732266000@theriveroflifeworshipcenter.org
SUMMARY:Prayer Line
DESCRIPTION:
URL:https://theriveroflifeworshipcenter.org/event/prayer-line-372/
END:VEVENT
BEGIN:VEVENT
DTSTART;TZID=UTC:20241121T120000
DTEND;TZID=UTC:20241121T130000
DTSTAMP:20260425T164402
CREATED:20241023T212747Z
LAST-MODIFIED:20241023T212747Z
UID:4999-1732190400-1732194000@theriveroflifeworshipcenter.org
SUMMARY:Do you Need Prayer? Join us every Thursday from 12:00-1:00 PM
DESCRIPTION:
URL:https://theriveroflifeworshipcenter.org/event/do-you-need-prayer-join-us-every-thursday-from-1200-100-pm-139/
END:VEVENT
BEGIN:VEVENT
DTSTART;TZID=UTC:20241120T080000
DTEND;TZID=UTC:20241120T090000
DTSTAMP:20260425T164402
CREATED:20241023T212105Z
LAST-MODIFIED:20241023T212105Z
UID:4974-1732089600-1732093200@theriveroflifeworshipcenter.org
SUMMARY:Prayer Line
DESCRIPTION:
URL:https://theriveroflifeworshipcenter.org/event/prayer-line-371/
END:VEVENT
BEGIN:VEVENT
DTSTART;TZID=UTC:20241119T190000
DTEND;TZID=UTC:20241119T200000
DTSTAMP:20260425T164402
CREATED:20241023T212932Z
LAST-MODIFIED:20241023T212932Z
UID:4995-1732042800-1732046400@theriveroflifeworshipcenter.org
SUMMARY:Tuesday Night Virtual Bible Study
DESCRIPTION:
URL:https://theriveroflifeworshipcenter.org/event/tuesday-night-virtual-bible-study-134/
END:VEVENT
BEGIN:VEVENT
DTSTART;TZID=UTC:20241119T120000
DTEND;TZID=UTC:20241119T130000
DTSTAMP:20260425T164402
CREATED:20241023T213056Z
LAST-MODIFIED:20241023T213056Z
UID:5003-1732017600-1732021200@theriveroflifeworshipcenter.org
SUMMARY:Do you Need Prayer? Join us every Tuesday from 12:00-1:00 PM
DESCRIPTION:
URL:https://theriveroflifeworshipcenter.org/event/do-you-need-prayer-join-us-every-tuesday-from-1200-100-pm-142/
END:VEVENT
BEGIN:VEVENT
DTSTART;TZID=UTC:20241118T080000
DTEND;TZID=UTC:20241118T090000
DTSTAMP:20260425T164402
CREATED:20241023T212042Z
LAST-MODIFIED:20241023T212042Z
UID:4975-1731916800-1731920400@theriveroflifeworshipcenter.org
SUMMARY:Prayer Line
DESCRIPTION:
URL:https://theriveroflifeworshipcenter.org/event/prayer-line-370/
END:VEVENT
BEGIN:VEVENT
DTSTART;TZID=UTC:20241115T080000
DTEND;TZID=UTC:20241115T090000
DTSTAMP:20260425T164402
CREATED:20241023T212006Z
LAST-MODIFIED:20241023T212006Z
UID:4976-1731657600-1731661200@theriveroflifeworshipcenter.org
SUMMARY:Prayer Line
DESCRIPTION:
URL:https://theriveroflifeworshipcenter.org/event/prayer-line-369/
END:VEVENT
END:VCALENDAR