BEGIN:VCALENDAR
VERSION:2.0
PRODID:-//River of Life Worship Center - ECPv6.15.20//NONSGML v1.0//EN
CALSCALE:GREGORIAN
METHOD:PUBLISH
X-ORIGINAL-URL:https://theriveroflifeworshipcenter.org
X-WR-CALDESC:Events for River of Life Worship Center
REFRESH-INTERVAL;VALUE=DURATION:PT1H
X-Robots-Tag:noindex
X-PUBLISHED-TTL:PT1H
BEGIN:VTIMEZONE
TZID:UTC
BEGIN:STANDARD
TZOFFSETFROM:+0000
TZOFFSETTO:+0000
TZNAME:UTC
DTSTART:20240101T000000
END:STANDARD
END:VTIMEZONE
BEGIN:VEVENT
DTSTART;TZID=UTC:20250722T120000
DTEND;TZID=UTC:20250722T130000
DTSTAMP:20260425T145009
CREATED:20250511T155555Z
LAST-MODIFIED:20250511T155555Z
UID:5816-1753185600-1753189200@theriveroflifeworshipcenter.org
SUMMARY:Do you Need Prayer? Join us every Tuesday from 12:00-1:00 PM
DESCRIPTION:
URL:https://theriveroflifeworshipcenter.org/event/do-you-need-prayer-join-us-every-tuesday-from-1200-100-pm-176/
END:VEVENT
BEGIN:VEVENT
DTSTART;TZID=UTC:20250722T190000
DTEND;TZID=UTC:20250722T200000
DTSTAMP:20260425T145009
CREATED:20250511T155025Z
LAST-MODIFIED:20250511T155025Z
UID:5806-1753210800-1753214400@theriveroflifeworshipcenter.org
SUMMARY:Tuesday Night Virtual Bible Study
DESCRIPTION:
URL:https://theriveroflifeworshipcenter.org/event/tuesday-night-virtual-bible-study-168/
END:VEVENT
BEGIN:VEVENT
DTSTART;TZID=UTC:20250723T080000
DTEND;TZID=UTC:20250723T090000
DTSTAMP:20260425T145009
CREATED:20250511T154506Z
LAST-MODIFIED:20250511T154506Z
UID:5782-1753257600-1753261200@theriveroflifeworshipcenter.org
SUMMARY:Prayer Line
DESCRIPTION:
URL:https://theriveroflifeworshipcenter.org/event/prayer-line-475/
END:VEVENT
BEGIN:VEVENT
DTSTART;TZID=UTC:20250724T120000
DTEND;TZID=UTC:20250724T130000
DTSTAMP:20260425T145009
CREATED:20250511T160019Z
LAST-MODIFIED:20250511T160019Z
UID:5826-1753358400-1753362000@theriveroflifeworshipcenter.org
SUMMARY:Do you Need Prayer? Join us every Thursday from 12:00-1:00 PM
DESCRIPTION:
URL:https://theriveroflifeworshipcenter.org/event/do-you-need-prayer-join-us-every-thursday-from-1200-100-pm-174/
END:VEVENT
BEGIN:VEVENT
DTSTART;TZID=UTC:20250725T080000
DTEND;TZID=UTC:20250725T090000
DTSTAMP:20260425T145009
CREATED:20250511T154528Z
LAST-MODIFIED:20250511T154528Z
UID:5781-1753430400-1753434000@theriveroflifeworshipcenter.org
SUMMARY:Prayer Line
DESCRIPTION:
URL:https://theriveroflifeworshipcenter.org/event/prayer-line-476/
END:VEVENT
BEGIN:VEVENT
DTSTART;TZID=UTC:20250726T100000
DTEND;TZID=UTC:20250726T130000
DTSTAMP:20260425T145009
CREATED:20250726T182346Z
LAST-MODIFIED:20250726T182346Z
UID:6063-1753524000-1753534800@theriveroflifeworshipcenter.org
SUMMARY:Blessings Bag Give Away
DESCRIPTION:
URL:https://theriveroflifeworshipcenter.org/event/blessings-bag-give-away/
END:VEVENT
BEGIN:VEVENT
DTSTART;TZID=UTC:20250728T080000
DTEND;TZID=UTC:20250728T090000
DTSTAMP:20260425T145009
CREATED:20250511T154552Z
LAST-MODIFIED:20250511T154552Z
UID:5780-1753689600-1753693200@theriveroflifeworshipcenter.org
SUMMARY:Prayer Line
DESCRIPTION:
URL:https://theriveroflifeworshipcenter.org/event/prayer-line-477/
END:VEVENT
BEGIN:VEVENT
DTSTART;TZID=UTC:20250729T120000
DTEND;TZID=UTC:20250729T130000
DTSTAMP:20260425T145009
CREATED:20250511T155621Z
LAST-MODIFIED:20250511T155621Z
UID:5815-1753790400-1753794000@theriveroflifeworshipcenter.org
SUMMARY:Do you Need Prayer? Join us every Tuesday from 12:00-1:00 PM
DESCRIPTION:
URL:https://theriveroflifeworshipcenter.org/event/do-you-need-prayer-join-us-every-tuesday-from-1200-100-pm-177/
END:VEVENT
BEGIN:VEVENT
DTSTART;TZID=UTC:20250729T190000
DTEND;TZID=UTC:20250729T200000
DTSTAMP:20260425T145009
CREATED:20250511T155051Z
LAST-MODIFIED:20250511T155051Z
UID:5805-1753815600-1753819200@theriveroflifeworshipcenter.org
SUMMARY:Tuesday Night Virtual Bible Study
DESCRIPTION:
URL:https://theriveroflifeworshipcenter.org/event/tuesday-night-virtual-bible-study-169/
END:VEVENT
BEGIN:VEVENT
DTSTART;TZID=UTC:20250730T080000
DTEND;TZID=UTC:20250730T090000
DTSTAMP:20260425T145009
CREATED:20250511T154619Z
LAST-MODIFIED:20250511T154619Z
UID:5779-1753862400-1753866000@theriveroflifeworshipcenter.org
SUMMARY:Prayer Line
DESCRIPTION:
URL:https://theriveroflifeworshipcenter.org/event/prayer-line-478/
END:VEVENT
BEGIN:VEVENT
DTSTART;TZID=UTC:20250731T120000
DTEND;TZID=UTC:20250731T130000
DTSTAMP:20260425T145009
CREATED:20250511T160043Z
LAST-MODIFIED:20250511T160043Z
UID:5825-1753963200-1753966800@theriveroflifeworshipcenter.org
SUMMARY:Do you Need Prayer? Join us every Thursday from 12:00-1:00 PM
DESCRIPTION:
URL:https://theriveroflifeworshipcenter.org/event/do-you-need-prayer-join-us-every-thursday-from-1200-100-pm-175/
END:VEVENT
BEGIN:VEVENT
DTSTART;TZID=UTC:20250801T080000
DTEND;TZID=UTC:20250801T090000
DTSTAMP:20260425T145009
CREATED:20250616T012628Z
LAST-MODIFIED:20250616T012628Z
UID:5938-1754035200-1754038800@theriveroflifeworshipcenter.org
SUMMARY:Prayer Line
DESCRIPTION:
URL:https://theriveroflifeworshipcenter.org/event/prayer-line-479/
END:VEVENT
BEGIN:VEVENT
DTSTART;TZID=UTC:20250804T080000
DTEND;TZID=UTC:20250804T090000
DTSTAMP:20260425T145009
CREATED:20250616T012711Z
LAST-MODIFIED:20250616T012711Z
UID:5937-1754294400-1754298000@theriveroflifeworshipcenter.org
SUMMARY:Prayer Line
DESCRIPTION:
URL:https://theriveroflifeworshipcenter.org/event/prayer-line-480/
END:VEVENT
BEGIN:VEVENT
DTSTART;TZID=UTC:20250804T123000
DTEND;TZID=UTC:20250804T133000
DTSTAMP:20260425T145009
CREATED:20250722T002910Z
LAST-MODIFIED:20250722T002943Z
UID:6022-1754310600-1754314200@theriveroflifeworshipcenter.org
SUMMARY:Healing Service
DESCRIPTION:
URL:https://theriveroflifeworshipcenter.org/event/healing-service-11/
END:VEVENT
BEGIN:VEVENT
DTSTART;TZID=UTC:20250805T120000
DTEND;TZID=UTC:20250805T130000
DTSTAMP:20260425T145009
CREATED:20250616T013744Z
LAST-MODIFIED:20250616T013744Z
UID:5963-1754395200-1754398800@theriveroflifeworshipcenter.org
SUMMARY:Do you Need Prayer? Join us every Tuesday from 12:00-1:00 PM
DESCRIPTION:
URL:https://theriveroflifeworshipcenter.org/event/do-you-need-prayer-join-us-every-tuesday-from-1200-100-pm-178/
END:VEVENT
BEGIN:VEVENT
DTSTART;TZID=UTC:20250805T190000
DTEND;TZID=UTC:20250805T200000
DTSTAMP:20260425T145009
CREATED:20250616T013344Z
LAST-MODIFIED:20250616T013344Z
UID:5955-1754420400-1754424000@theriveroflifeworshipcenter.org
SUMMARY:Tuesday Night Virtual Bible Study
DESCRIPTION:
URL:https://theriveroflifeworshipcenter.org/event/tuesday-night-virtual-bible-study-170/
END:VEVENT
BEGIN:VEVENT
DTSTART;TZID=UTC:20250806T080000
DTEND;TZID=UTC:20250806T090000
DTSTAMP:20260425T145009
CREATED:20250616T012732Z
LAST-MODIFIED:20250616T012732Z
UID:5936-1754467200-1754470800@theriveroflifeworshipcenter.org
SUMMARY:Prayer Line
DESCRIPTION:
URL:https://theriveroflifeworshipcenter.org/event/prayer-line-481/
END:VEVENT
BEGIN:VEVENT
DTSTART;TZID=UTC:20250807T120000
DTEND;TZID=UTC:20250807T130000
DTSTAMP:20260425T145009
CREATED:20250616T014130Z
LAST-MODIFIED:20250616T014130Z
UID:5971-1754568000-1754571600@theriveroflifeworshipcenter.org
SUMMARY:Do you Need Prayer? Join us every Thursday from 12:00-1:00 PM
DESCRIPTION:
URL:https://theriveroflifeworshipcenter.org/event/do-you-need-prayer-join-us-every-thursday-from-1200-100-pm-176/
END:VEVENT
BEGIN:VEVENT
DTSTART;TZID=UTC:20250808T080000
DTEND;TZID=UTC:20250808T090000
DTSTAMP:20260425T145009
CREATED:20250616T012752Z
LAST-MODIFIED:20250616T012752Z
UID:5935-1754640000-1754643600@theriveroflifeworshipcenter.org
SUMMARY:Prayer Line
DESCRIPTION:
URL:https://theriveroflifeworshipcenter.org/event/prayer-line-482/
END:VEVENT
BEGIN:VEVENT
DTSTART;TZID=UTC:20250811T080000
DTEND;TZID=UTC:20250811T090000
DTSTAMP:20260425T145009
CREATED:20250616T012816Z
LAST-MODIFIED:20250616T012816Z
UID:5934-1754899200-1754902800@theriveroflifeworshipcenter.org
SUMMARY:Prayer Line
DESCRIPTION:
URL:https://theriveroflifeworshipcenter.org/event/prayer-line-483/
END:VEVENT
BEGIN:VEVENT
DTSTART;TZID=UTC:20250812T120000
DTEND;TZID=UTC:20250812T130000
DTSTAMP:20260425T145009
CREATED:20250616T013808Z
LAST-MODIFIED:20250616T013808Z
UID:5962-1755000000-1755003600@theriveroflifeworshipcenter.org
SUMMARY:Do you Need Prayer? Join us every Tuesday from 12:00-1:00 PM
DESCRIPTION:
URL:https://theriveroflifeworshipcenter.org/event/do-you-need-prayer-join-us-every-tuesday-from-1200-100-pm-179/
END:VEVENT
BEGIN:VEVENT
DTSTART;TZID=UTC:20250812T190000
DTEND;TZID=UTC:20250812T200000
DTSTAMP:20260425T145009
CREATED:20250616T013404Z
LAST-MODIFIED:20250616T013404Z
UID:5954-1755025200-1755028800@theriveroflifeworshipcenter.org
SUMMARY:Tuesday Night Virtual Bible Study
DESCRIPTION:
URL:https://theriveroflifeworshipcenter.org/event/tuesday-night-virtual-bible-study-171/
END:VEVENT
BEGIN:VEVENT
DTSTART;TZID=UTC:20250813T080000
DTEND;TZID=UTC:20250813T090000
DTSTAMP:20260425T145009
CREATED:20250616T012836Z
LAST-MODIFIED:20250616T012836Z
UID:5933-1755072000-1755075600@theriveroflifeworshipcenter.org
SUMMARY:Prayer Line
DESCRIPTION:
URL:https://theriveroflifeworshipcenter.org/event/prayer-line-484/
END:VEVENT
BEGIN:VEVENT
DTSTART;TZID=UTC:20250814T120000
DTEND;TZID=UTC:20250814T130000
DTSTAMP:20260425T145009
CREATED:20250616T014156Z
LAST-MODIFIED:20250616T014156Z
UID:5970-1755172800-1755176400@theriveroflifeworshipcenter.org
SUMMARY:Do you Need Prayer? Join us every Thursday from 12:00-1:00 PM
DESCRIPTION:
URL:https://theriveroflifeworshipcenter.org/event/do-you-need-prayer-join-us-every-thursday-from-1200-100-pm-177/
END:VEVENT
BEGIN:VEVENT
DTSTART;TZID=UTC:20250814T120000
DTEND;TZID=UTC:20250814T140000
DTSTAMP:20260425T145009
CREATED:20250808T035300Z
LAST-MODIFIED:20250808T035300Z
UID:6075-1755172800-1755180000@theriveroflifeworshipcenter.org
SUMMARY:Pastor Barbara Guest Speaker
DESCRIPTION:
URL:https://theriveroflifeworshipcenter.org/event/pastor-barbara-guest-speaker-2/
LOCATION:New Kingdom Faith Church\, 500 Mccormick Drive Suite H\, Glen Burnie\, MD\, 21061
END:VEVENT
BEGIN:VEVENT
DTSTART;TZID=UTC:20250815T080000
DTEND;TZID=UTC:20250815T090000
DTSTAMP:20260425T145009
CREATED:20250616T012859Z
LAST-MODIFIED:20250616T012859Z
UID:5932-1755244800-1755248400@theriveroflifeworshipcenter.org
SUMMARY:Prayer Line
DESCRIPTION:
URL:https://theriveroflifeworshipcenter.org/event/prayer-line-485/
END:VEVENT
BEGIN:VEVENT
DTSTART;TZID=UTC:20250816T100000
DTEND;TZID=UTC:20250816T130000
DTSTAMP:20260425T145009
CREATED:20250726T234833Z
LAST-MODIFIED:20250726T234833Z
UID:6069-1755338400-1755349200@theriveroflifeworshipcenter.org
SUMMARY:Free Blessings Fill a Bag Giveaway
DESCRIPTION:
URL:https://theriveroflifeworshipcenter.org/event/free-blessings-fill-a-bag-giveaway/
END:VEVENT
BEGIN:VEVENT
DTSTART;TZID=UTC:20250817T103000
DTEND;TZID=UTC:20250817T130000
DTSTAMP:20260425T145009
CREATED:20250808T035534Z
LAST-MODIFIED:20250808T035534Z
UID:6083-1755426600-1755435600@theriveroflifeworshipcenter.org
SUMMARY:Gift of Healing
DESCRIPTION:
URL:https://theriveroflifeworshipcenter.org/event/gift-of-healing/
END:VEVENT
BEGIN:VEVENT
DTSTART;TZID=UTC:20250818T080000
DTEND;TZID=UTC:20250818T090000
DTSTAMP:20260425T145009
CREATED:20250616T012920Z
LAST-MODIFIED:20250616T012920Z
UID:5931-1755504000-1755507600@theriveroflifeworshipcenter.org
SUMMARY:Prayer Line
DESCRIPTION:
URL:https://theriveroflifeworshipcenter.org/event/prayer-line-486/
END:VEVENT
BEGIN:VEVENT
DTSTART;TZID=UTC:20250819T120000
DTEND;TZID=UTC:20250819T130000
DTSTAMP:20260425T145009
CREATED:20250616T013841Z
LAST-MODIFIED:20250616T013841Z
UID:5961-1755604800-1755608400@theriveroflifeworshipcenter.org
SUMMARY:Do you Need Prayer? Join us every Tuesday from 12:00-1:00 PM
DESCRIPTION:
URL:https://theriveroflifeworshipcenter.org/event/do-you-need-prayer-join-us-every-tuesday-from-1200-100-pm-180/
END:VEVENT
END:VCALENDAR