BEGIN:VCALENDAR
VERSION:2.0
PRODID:-//River of Life Worship Center - ECPv6.15.20//NONSGML v1.0//EN
CALSCALE:GREGORIAN
METHOD:PUBLISH
X-ORIGINAL-URL:https://theriveroflifeworshipcenter.org
X-WR-CALDESC:Events for River of Life Worship Center
REFRESH-INTERVAL;VALUE=DURATION:PT1H
X-Robots-Tag:noindex
X-PUBLISHED-TTL:PT1H
BEGIN:VTIMEZONE
TZID:UTC
BEGIN:STANDARD
TZOFFSETFROM:+0000
TZOFFSETTO:+0000
TZNAME:UTC
DTSTART:20240101T000000
END:STANDARD
END:VTIMEZONE
BEGIN:VEVENT
DTSTART;TZID=UTC:20250611T080000
DTEND;TZID=UTC:20250611T090000
DTSTAMP:20260425T164410
CREATED:20250323T165103Z
LAST-MODIFIED:20250323T165103Z
UID:5594-1749628800-1749632400@theriveroflifeworshipcenter.org
SUMMARY:Prayer Line
DESCRIPTION:
URL:https://theriveroflifeworshipcenter.org/event/prayer-line-459/
END:VEVENT
BEGIN:VEVENT
DTSTART;TZID=UTC:20250611T190000
DTEND;TZID=UTC:20250611T210000
DTSTAMP:20260425T164410
CREATED:20250504T005816Z
LAST-MODIFIED:20250504T005816Z
UID:5739-1749668400-1749675600@theriveroflifeworshipcenter.org
SUMMARY:Discipleship Training
DESCRIPTION:
URL:https://theriveroflifeworshipcenter.org/event/discipleship-training-6/
END:VEVENT
BEGIN:VEVENT
DTSTART;TZID=UTC:20250612T120000
DTEND;TZID=UTC:20250612T130000
DTSTAMP:20260425T164410
CREATED:20250323T162632Z
LAST-MODIFIED:20250323T162632Z
UID:5562-1749729600-1749733200@theriveroflifeworshipcenter.org
SUMMARY:Do you Need Prayer? Join us every Thursday from 12:00-1:00 PM
DESCRIPTION:
URL:https://theriveroflifeworshipcenter.org/event/do-you-need-prayer-join-us-every-thursday-from-1200-100-pm-168/
END:VEVENT
BEGIN:VEVENT
DTSTART;TZID=UTC:20250613T080000
DTEND;TZID=UTC:20250613T090000
DTSTAMP:20260425T164410
CREATED:20250323T165321Z
LAST-MODIFIED:20250323T165321Z
UID:5590-1749801600-1749805200@theriveroflifeworshipcenter.org
SUMMARY:Prayer Line
DESCRIPTION:
URL:https://theriveroflifeworshipcenter.org/event/prayer-line-463/
END:VEVENT
BEGIN:VEVENT
DTSTART;TZID=UTC:20250616T080000
DTEND;TZID=UTC:20250616T090000
DTSTAMP:20260425T164410
CREATED:20250323T164954Z
LAST-MODIFIED:20250323T164954Z
UID:5597-1750060800-1750064400@theriveroflifeworshipcenter.org
SUMMARY:Prayer Line
DESCRIPTION:
URL:https://theriveroflifeworshipcenter.org/event/prayer-line-456/
END:VEVENT
BEGIN:VEVENT
DTSTART;TZID=UTC:20250617T120000
DTEND;TZID=UTC:20250617T130000
DTSTAMP:20260425T164410
CREATED:20250323T163420Z
LAST-MODIFIED:20250323T163420Z
UID:5569-1750161600-1750165200@theriveroflifeworshipcenter.org
SUMMARY:Do you Need Prayer? Join us every Tuesday from 12:00-1:00 PM
DESCRIPTION:
URL:https://theriveroflifeworshipcenter.org/event/do-you-need-prayer-join-us-every-tuesday-from-1200-100-pm-171/
END:VEVENT
BEGIN:VEVENT
DTSTART;TZID=UTC:20250617T190000
DTEND;TZID=UTC:20250617T200000
DTSTAMP:20260425T164410
CREATED:20250323T164233Z
LAST-MODIFIED:20250323T164233Z
UID:5581-1750186800-1750190400@theriveroflifeworshipcenter.org
SUMMARY:Tuesday Night Virtual Bible Study
DESCRIPTION:
URL:https://theriveroflifeworshipcenter.org/event/tuesday-night-virtual-bible-study-163/
END:VEVENT
BEGIN:VEVENT
DTSTART;TZID=UTC:20250618T080000
DTEND;TZID=UTC:20250618T090000
DTSTAMP:20260425T164410
CREATED:20250323T165137Z
LAST-MODIFIED:20250323T165137Z
UID:5593-1750233600-1750237200@theriveroflifeworshipcenter.org
SUMMARY:Prayer Line
DESCRIPTION:
URL:https://theriveroflifeworshipcenter.org/event/prayer-line-460/
END:VEVENT
BEGIN:VEVENT
DTSTART;TZID=UTC:20250618T190000
DTEND;TZID=UTC:20250618T203000
DTSTAMP:20260425T164410
CREATED:20250617T232036Z
LAST-MODIFIED:20250617T232036Z
UID:5991-1750273200-1750278600@theriveroflifeworshipcenter.org
SUMMARY:Spanish Classes
DESCRIPTION:
URL:https://theriveroflifeworshipcenter.org/event/spanish-classes/
END:VEVENT
BEGIN:VEVENT
DTSTART;TZID=UTC:20250619T120000
DTEND;TZID=UTC:20250619T130000
DTSTAMP:20260425T164410
CREATED:20250323T162650Z
LAST-MODIFIED:20250323T162650Z
UID:5561-1750334400-1750338000@theriveroflifeworshipcenter.org
SUMMARY:Do you Need Prayer? Join us every Thursday from 12:00-1:00 PM
DESCRIPTION:
URL:https://theriveroflifeworshipcenter.org/event/do-you-need-prayer-join-us-every-thursday-from-1200-100-pm-169/
END:VEVENT
BEGIN:VEVENT
DTSTART;TZID=UTC:20250620T080000
DTEND;TZID=UTC:20250620T090000
DTSTAMP:20260425T164410
CREATED:20250323T165341Z
LAST-MODIFIED:20250323T165341Z
UID:5589-1750406400-1750410000@theriveroflifeworshipcenter.org
SUMMARY:Prayer Line
DESCRIPTION:
URL:https://theriveroflifeworshipcenter.org/event/prayer-line-464/
END:VEVENT
BEGIN:VEVENT
DTSTART;TZID=UTC:20250620T183000
DTEND;TZID=UTC:20250620T200000
DTSTAMP:20260425T164410
CREATED:20250617T231816Z
LAST-MODIFIED:20250617T231852Z
UID:5989-1750444200-1750449600@theriveroflifeworshipcenter.org
SUMMARY:Youth Family Night
DESCRIPTION:
URL:https://theriveroflifeworshipcenter.org/event/youth-family-night/
END:VEVENT
BEGIN:VEVENT
DTSTART;TZID=UTC:20250621T100000
DTEND;TZID=UTC:20250621T120000
DTSTAMP:20260425T164410
CREATED:20250617T232203Z
LAST-MODIFIED:20250617T232203Z
UID:5993-1750500000-1750507200@theriveroflifeworshipcenter.org
SUMMARY:Outreach
DESCRIPTION:
URL:https://theriveroflifeworshipcenter.org/event/outreach/
END:VEVENT
BEGIN:VEVENT
DTSTART;TZID=UTC:20250622T123000
DTEND;TZID=UTC:20250622T133000
DTSTAMP:20260425T164410
CREATED:20250617T231707Z
LAST-MODIFIED:20250617T231707Z
UID:5979-1750595400-1750599000@theriveroflifeworshipcenter.org
SUMMARY:Volunteers Needed
DESCRIPTION:
URL:https://theriveroflifeworshipcenter.org/event/volunteers-needed/
END:VEVENT
BEGIN:VEVENT
DTSTART;TZID=UTC:20250623T080000
DTEND;TZID=UTC:20250623T090000
DTSTAMP:20260425T164410
CREATED:20250323T165018Z
LAST-MODIFIED:20250323T165018Z
UID:5596-1750665600-1750669200@theriveroflifeworshipcenter.org
SUMMARY:Prayer Line
DESCRIPTION:
URL:https://theriveroflifeworshipcenter.org/event/prayer-line-457/
END:VEVENT
BEGIN:VEVENT
DTSTART;TZID=UTC:20250624T120000
DTEND;TZID=UTC:20250624T130000
DTSTAMP:20260425T164410
CREATED:20250323T163441Z
LAST-MODIFIED:20250323T163441Z
UID:5568-1750766400-1750770000@theriveroflifeworshipcenter.org
SUMMARY:Do you Need Prayer? Join us every Tuesday from 12:00-1:00 PM
DESCRIPTION:
URL:https://theriveroflifeworshipcenter.org/event/do-you-need-prayer-join-us-every-tuesday-from-1200-100-pm-172/
END:VEVENT
BEGIN:VEVENT
DTSTART;TZID=UTC:20250624T190000
DTEND;TZID=UTC:20250624T200000
DTSTAMP:20260425T164410
CREATED:20250323T164257Z
LAST-MODIFIED:20250323T164257Z
UID:5580-1750791600-1750795200@theriveroflifeworshipcenter.org
SUMMARY:Tuesday Night Virtual Bible Study
DESCRIPTION:
URL:https://theriveroflifeworshipcenter.org/event/tuesday-night-virtual-bible-study-164/
END:VEVENT
BEGIN:VEVENT
DTSTART;TZID=UTC:20250625T080000
DTEND;TZID=UTC:20250625T090000
DTSTAMP:20260425T164410
CREATED:20250323T165157Z
LAST-MODIFIED:20250323T165157Z
UID:5592-1750838400-1750842000@theriveroflifeworshipcenter.org
SUMMARY:Prayer Line
DESCRIPTION:
URL:https://theriveroflifeworshipcenter.org/event/prayer-line-461/
END:VEVENT
BEGIN:VEVENT
DTSTART;TZID=UTC:20250625T190000
DTEND;TZID=UTC:20250625T190000
DTSTAMP:20260425T164410
CREATED:20250617T232831Z
LAST-MODIFIED:20250617T232855Z
UID:5995-1750878000-1750878000@theriveroflifeworshipcenter.org
SUMMARY:Spanish Classes
DESCRIPTION:
URL:https://theriveroflifeworshipcenter.org/event/spanish-classes-2/
END:VEVENT
BEGIN:VEVENT
DTSTART;TZID=UTC:20250626T120000
DTEND;TZID=UTC:20250626T130000
DTSTAMP:20260425T164410
CREATED:20250323T162711Z
LAST-MODIFIED:20250323T162711Z
UID:5560-1750939200-1750942800@theriveroflifeworshipcenter.org
SUMMARY:Do you Need Prayer? Join us every Thursday from 12:00-1:00 PM
DESCRIPTION:
URL:https://theriveroflifeworshipcenter.org/event/do-you-need-prayer-join-us-every-thursday-from-1200-100-pm-170/
END:VEVENT
BEGIN:VEVENT
DTSTART;TZID=UTC:20250627T080000
DTEND;TZID=UTC:20250627T090000
DTSTAMP:20260425T164410
CREATED:20250323T165402Z
LAST-MODIFIED:20250323T165402Z
UID:5588-1751011200-1751014800@theriveroflifeworshipcenter.org
SUMMARY:Prayer Line
DESCRIPTION:
URL:https://theriveroflifeworshipcenter.org/event/prayer-line-465/
END:VEVENT
BEGIN:VEVENT
DTSTART;TZID=UTC:20250701T120000
DTEND;TZID=UTC:20250701T130000
DTSTAMP:20260425T164410
CREATED:20250511T155424Z
LAST-MODIFIED:20250511T155424Z
UID:5819-1751371200-1751374800@theriveroflifeworshipcenter.org
SUMMARY:Do you Need Prayer? Join us every Tuesday from 12:00-1:00 PM
DESCRIPTION:
URL:https://theriveroflifeworshipcenter.org/event/do-you-need-prayer-join-us-every-tuesday-from-1200-100-pm-173/
END:VEVENT
BEGIN:VEVENT
DTSTART;TZID=UTC:20250701T190000
DTEND;TZID=UTC:20250701T200000
DTSTAMP:20260425T164410
CREATED:20250511T154741Z
LAST-MODIFIED:20250511T154741Z
UID:5808-1751396400-1751400000@theriveroflifeworshipcenter.org
SUMMARY:Tuesday Night Virtual Bible Study
DESCRIPTION:
URL:https://theriveroflifeworshipcenter.org/event/tuesday-night-virtual-bible-study-165/
END:VEVENT
BEGIN:VEVENT
DTSTART;TZID=UTC:20250702T080000
DTEND;TZID=UTC:20250702T090000
DTSTAMP:20260425T164410
CREATED:20250511T154020Z
LAST-MODIFIED:20250511T154020Z
UID:5791-1751443200-1751446800@theriveroflifeworshipcenter.org
SUMMARY:Prayer Line
DESCRIPTION:
URL:https://theriveroflifeworshipcenter.org/event/prayer-line-466/
END:VEVENT
BEGIN:VEVENT
DTSTART;TZID=UTC:20250702T190000
DTEND;TZID=UTC:20250702T203000
DTSTAMP:20260425T164410
CREATED:20250617T233143Z
LAST-MODIFIED:20250617T233216Z
UID:5998-1751482800-1751488200@theriveroflifeworshipcenter.org
SUMMARY:Spanish Classes
DESCRIPTION:
URL:https://theriveroflifeworshipcenter.org/event/spanish-classes-3/
END:VEVENT
BEGIN:VEVENT
DTSTART;TZID=UTC:20250703T120000
DTEND;TZID=UTC:20250703T130000
DTSTAMP:20260425T164410
CREATED:20250511T155852Z
LAST-MODIFIED:20250511T155852Z
UID:5828-1751544000-1751547600@theriveroflifeworshipcenter.org
SUMMARY:Do you Need Prayer? Join us every Thursday from 12:00-1:00 PM
DESCRIPTION:
URL:https://theriveroflifeworshipcenter.org/event/do-you-need-prayer-join-us-every-thursday-from-1200-100-pm-171/
END:VEVENT
BEGIN:VEVENT
DTSTART;TZID=UTC:20250704T080000
DTEND;TZID=UTC:20250704T090000
DTSTAMP:20260425T164410
CREATED:20250511T154043Z
LAST-MODIFIED:20250511T154043Z
UID:5790-1751616000-1751619600@theriveroflifeworshipcenter.org
SUMMARY:Prayer Line
DESCRIPTION:
URL:https://theriveroflifeworshipcenter.org/event/prayer-line-467/
END:VEVENT
BEGIN:VEVENT
DTSTART;TZID=UTC:20250707T080000
DTEND;TZID=UTC:20250707T090000
DTSTAMP:20260425T164410
CREATED:20250511T154107Z
LAST-MODIFIED:20250511T154107Z
UID:5789-1751875200-1751878800@theriveroflifeworshipcenter.org
SUMMARY:Prayer Line
DESCRIPTION:
URL:https://theriveroflifeworshipcenter.org/event/prayer-line-468/
END:VEVENT
BEGIN:VEVENT
DTSTART;TZID=UTC:20250708T120000
DTEND;TZID=UTC:20250708T130000
DTSTAMP:20260425T164410
CREATED:20250511T155503Z
LAST-MODIFIED:20250511T155503Z
UID:5818-1751976000-1751979600@theriveroflifeworshipcenter.org
SUMMARY:Do you Need Prayer? Join us every Tuesday from 12:00-1:00 PM
DESCRIPTION:
URL:https://theriveroflifeworshipcenter.org/event/do-you-need-prayer-join-us-every-tuesday-from-1200-100-pm-174/
END:VEVENT
BEGIN:VEVENT
DTSTART;TZID=UTC:20250708T190000
DTEND;TZID=UTC:20250708T200000
DTSTAMP:20260425T164410
CREATED:20250511T154831Z
LAST-MODIFIED:20250511T154831Z
UID:5810-1752001200-1752004800@theriveroflifeworshipcenter.org
SUMMARY:Tuesday Night Virtual Bible Study
DESCRIPTION:
URL:https://theriveroflifeworshipcenter.org/event/tuesday-night-virtual-bible-study-166/
END:VEVENT
END:VCALENDAR