BEGIN:VCALENDAR
VERSION:2.0
PRODID:-//River of Life Worship Center - ECPv6.15.20//NONSGML v1.0//EN
CALSCALE:GREGORIAN
METHOD:PUBLISH
X-WR-CALNAME:River of Life Worship Center
X-ORIGINAL-URL:https://theriveroflifeworshipcenter.org
X-WR-CALDESC:Events for River of Life Worship Center
REFRESH-INTERVAL;VALUE=DURATION:PT1H
X-Robots-Tag:noindex
X-PUBLISHED-TTL:PT1H
BEGIN:VTIMEZONE
TZID:UTC
BEGIN:STANDARD
TZOFFSETFROM:+0000
TZOFFSETTO:+0000
TZNAME:UTC
DTSTART:20240101T000000
END:STANDARD
END:VTIMEZONE
BEGIN:VEVENT
DTSTART;TZID=UTC:20250514T190000
DTEND;TZID=UTC:20250514T210000
DTSTAMP:20260425T163911
CREATED:20250504T005429Z
LAST-MODIFIED:20250504T005429Z
UID:5731-1747249200-1747256400@theriveroflifeworshipcenter.org
SUMMARY:Discipleship Training
DESCRIPTION:
URL:https://theriveroflifeworshipcenter.org/event/discipleship-training-2/
END:VEVENT
BEGIN:VEVENT
DTSTART;TZID=UTC:20250515T120000
DTEND;TZID=UTC:20250515T130000
DTSTAMP:20260425T163911
CREATED:20250323T160235Z
LAST-MODIFIED:20250323T160235Z
UID:5527-1747310400-1747314000@theriveroflifeworshipcenter.org
SUMMARY:Do you Need Prayer? Join us every Thursday from 12:00-1:00 PM
DESCRIPTION:
URL:https://theriveroflifeworshipcenter.org/event/do-you-need-prayer-join-us-every-thursday-from-1200-100-pm-164/
END:VEVENT
BEGIN:VEVENT
DTSTART;TZID=UTC:20250516T080000
DTEND;TZID=UTC:20250516T090000
DTSTAMP:20260425T163911
CREATED:20250323T161008Z
LAST-MODIFIED:20250323T161008Z
UID:5541-1747382400-1747386000@theriveroflifeworshipcenter.org
SUMMARY:Prayer Line
DESCRIPTION:
URL:https://theriveroflifeworshipcenter.org/event/prayer-line-447/
END:VEVENT
BEGIN:VEVENT
DTSTART;TZID=UTC:20250516T183000
DTEND;TZID=UTC:20250516T203000
DTSTAMP:20260425T163911
CREATED:20250504T011728Z
LAST-MODIFIED:20250504T011825Z
UID:5749-1747420200-1747427400@theriveroflifeworshipcenter.org
SUMMARY:Youth Fellowship Night
DESCRIPTION:
URL:https://theriveroflifeworshipcenter.org/event/youth-fellowship-night/
END:VEVENT
BEGIN:VEVENT
DTSTART;TZID=UTC:20250517T100000
DTEND;TZID=UTC:20250517T100000
DTSTAMP:20260425T163911
CREATED:20250504T012335Z
LAST-MODIFIED:20250504T012335Z
UID:5753-1747476000-1747476000@theriveroflifeworshipcenter.org
SUMMARY:Outreach Event
DESCRIPTION:
URL:https://theriveroflifeworshipcenter.org/event/outreach-event-4/
END:VEVENT
BEGIN:VEVENT
DTSTART;TZID=UTC:20250517T140000
DTEND;TZID=UTC:20250517T160000
DTSTAMP:20260425T163911
CREATED:20250504T011356Z
LAST-MODIFIED:20250504T011356Z
UID:5745-1747490400-1747497600@theriveroflifeworshipcenter.org
SUMMARY:Project Life
DESCRIPTION:
URL:https://theriveroflifeworshipcenter.org/event/project-life-3/
END:VEVENT
BEGIN:VEVENT
DTSTART;TZID=UTC:20250518T103000
DTEND;TZID=UTC:20250518T120000
DTSTAMP:20260425T163911
CREATED:20250504T013415Z
LAST-MODIFIED:20250504T013415Z
UID:5761-1747564200-1747569600@theriveroflifeworshipcenter.org
SUMMARY:Bike and Car Blessing Sunday
DESCRIPTION:
URL:https://theriveroflifeworshipcenter.org/event/bike-and-car-blessing-sunday/
END:VEVENT
BEGIN:VEVENT
DTSTART;TZID=UTC:20250518T150000
DTEND;TZID=UTC:20250518T170000
DTSTAMP:20260425T163911
CREATED:20250504T012606Z
LAST-MODIFIED:20250504T013049Z
UID:5756-1747580400-1747587600@theriveroflifeworshipcenter.org
SUMMARY:Pastor Barbara Guest Speaker
DESCRIPTION:
URL:https://theriveroflifeworshipcenter.org/event/pastor-barbara-guest-speaker/
LOCATION:Chesapeake City of Praise Fire & Glory Conference\, 4100 5th St\, North Beach\, MD\, 20714\, United States
END:VEVENT
BEGIN:VEVENT
DTSTART;TZID=UTC:20250519T080000
DTEND;TZID=UTC:20250519T090000
DTSTAMP:20260425T163911
CREATED:20250323T161031Z
LAST-MODIFIED:20250323T161031Z
UID:5540-1747641600-1747645200@theriveroflifeworshipcenter.org
SUMMARY:Prayer Line
DESCRIPTION:
URL:https://theriveroflifeworshipcenter.org/event/prayer-line-448/
END:VEVENT
BEGIN:VEVENT
DTSTART;TZID=UTC:20250520T120000
DTEND;TZID=UTC:20250520T130000
DTSTAMP:20260425T163911
CREATED:20250323T160012Z
LAST-MODIFIED:20250323T160012Z
UID:5515-1747742400-1747746000@theriveroflifeworshipcenter.org
SUMMARY:Do you Need Prayer? Join us every Tuesday from 12:00-1:00 PM
DESCRIPTION:
URL:https://theriveroflifeworshipcenter.org/event/do-you-need-prayer-join-us-every-tuesday-from-1200-100-pm-167/
END:VEVENT
BEGIN:VEVENT
DTSTART;TZID=UTC:20250520T190000
DTEND;TZID=UTC:20250520T200000
DTSTAMP:20260425T163911
CREATED:20250323T155824Z
LAST-MODIFIED:20250323T155824Z
UID:5506-1747767600-1747771200@theriveroflifeworshipcenter.org
SUMMARY:Tuesday Night Virtual Bible Study
DESCRIPTION:
URL:https://theriveroflifeworshipcenter.org/event/tuesday-night-virtual-bible-study-159/
END:VEVENT
BEGIN:VEVENT
DTSTART;TZID=UTC:20250521T080000
DTEND;TZID=UTC:20250521T090000
DTSTAMP:20260425T163911
CREATED:20250323T161101Z
LAST-MODIFIED:20250323T161101Z
UID:5538-1747814400-1747818000@theriveroflifeworshipcenter.org
SUMMARY:Prayer Line
DESCRIPTION:
URL:https://theriveroflifeworshipcenter.org/event/prayer-line-449/
END:VEVENT
BEGIN:VEVENT
DTSTART;TZID=UTC:20250521T190000
DTEND;TZID=UTC:20250521T210000
DTSTAMP:20260425T163911
CREATED:20250504T005521Z
LAST-MODIFIED:20250504T005521Z
UID:5733-1747854000-1747861200@theriveroflifeworshipcenter.org
SUMMARY:Discipleship Training
DESCRIPTION:
URL:https://theriveroflifeworshipcenter.org/event/discipleship-training-3/
END:VEVENT
BEGIN:VEVENT
DTSTART;TZID=UTC:20250522T120000
DTEND;TZID=UTC:20250522T130000
DTSTAMP:20260425T163911
CREATED:20250323T160259Z
LAST-MODIFIED:20250323T160259Z
UID:5523-1747915200-1747918800@theriveroflifeworshipcenter.org
SUMMARY:Do you Need Prayer? Join us every Thursday from 12:00-1:00 PM
DESCRIPTION:
URL:https://theriveroflifeworshipcenter.org/event/do-you-need-prayer-join-us-every-thursday-from-1200-100-pm-165/
END:VEVENT
BEGIN:VEVENT
DTSTART;TZID=UTC:20250523T080000
DTEND;TZID=UTC:20250523T090000
DTSTAMP:20260425T163911
CREATED:20250323T161234Z
LAST-MODIFIED:20250323T161234Z
UID:5537-1747987200-1747990800@theriveroflifeworshipcenter.org
SUMMARY:Prayer Line
DESCRIPTION:
URL:https://theriveroflifeworshipcenter.org/event/prayer-line-450/
END:VEVENT
BEGIN:VEVENT
DTSTART;TZID=UTC:20250525T103000
DTEND;TZID=UTC:20250525T120000
DTSTAMP:20260425T163911
CREATED:20250504T021229Z
LAST-MODIFIED:20250504T021229Z
UID:5764-1748169000-1748174400@theriveroflifeworshipcenter.org
SUMMARY:Teacher's Appreciation Sunday
DESCRIPTION:
URL:https://theriveroflifeworshipcenter.org/event/teachers-appreciation-sunday/
END:VEVENT
BEGIN:VEVENT
DTSTART;TZID=UTC:20250526T080000
DTEND;TZID=UTC:20250526T090000
DTSTAMP:20260425T163911
CREATED:20250323T161308Z
LAST-MODIFIED:20250323T161308Z
UID:5536-1748246400-1748250000@theriveroflifeworshipcenter.org
SUMMARY:Prayer Line
DESCRIPTION:
URL:https://theriveroflifeworshipcenter.org/event/prayer-line-451/
END:VEVENT
BEGIN:VEVENT
DTSTART;TZID=UTC:20250527T120000
DTEND;TZID=UTC:20250527T130000
DTSTAMP:20260425T163911
CREATED:20250323T160029Z
LAST-MODIFIED:20250323T160029Z
UID:5514-1748347200-1748350800@theriveroflifeworshipcenter.org
SUMMARY:Do you Need Prayer? Join us every Tuesday from 12:00-1:00 PM
DESCRIPTION:
URL:https://theriveroflifeworshipcenter.org/event/do-you-need-prayer-join-us-every-tuesday-from-1200-100-pm-168/
END:VEVENT
BEGIN:VEVENT
DTSTART;TZID=UTC:20250527T190000
DTEND;TZID=UTC:20250527T200000
DTSTAMP:20260425T163911
CREATED:20250323T155840Z
LAST-MODIFIED:20250323T155840Z
UID:5507-1748372400-1748376000@theriveroflifeworshipcenter.org
SUMMARY:Tuesday Night Virtual Bible Study
DESCRIPTION:
URL:https://theriveroflifeworshipcenter.org/event/tuesday-night-virtual-bible-study-160/
END:VEVENT
BEGIN:VEVENT
DTSTART;TZID=UTC:20250528T080000
DTEND;TZID=UTC:20250528T090000
DTSTAMP:20260425T163911
CREATED:20250323T161330Z
LAST-MODIFIED:20250323T161330Z
UID:5535-1748419200-1748422800@theriveroflifeworshipcenter.org
SUMMARY:Prayer Line
DESCRIPTION:
URL:https://theriveroflifeworshipcenter.org/event/prayer-line-452/
END:VEVENT
BEGIN:VEVENT
DTSTART;TZID=UTC:20250528T190000
DTEND;TZID=UTC:20250528T210000
DTSTAMP:20260425T163911
CREATED:20250504T005603Z
LAST-MODIFIED:20250504T005603Z
UID:5735-1748458800-1748466000@theriveroflifeworshipcenter.org
SUMMARY:Discipleship Training
DESCRIPTION:
URL:https://theriveroflifeworshipcenter.org/event/discipleship-training-4/
END:VEVENT
BEGIN:VEVENT
DTSTART;TZID=UTC:20250529T120000
DTEND;TZID=UTC:20250529T130000
DTSTAMP:20260425T163911
CREATED:20250323T160320Z
LAST-MODIFIED:20250323T160320Z
UID:5522-1748520000-1748523600@theriveroflifeworshipcenter.org
SUMMARY:Do you Need Prayer? Join us every Thursday from 12:00-1:00 PM
DESCRIPTION:
URL:https://theriveroflifeworshipcenter.org/event/do-you-need-prayer-join-us-every-thursday-from-1200-100-pm-166/
END:VEVENT
BEGIN:VEVENT
DTSTART;TZID=UTC:20250530T080000
DTEND;TZID=UTC:20250530T090000
DTSTAMP:20260425T163911
CREATED:20250323T161628Z
LAST-MODIFIED:20250323T161628Z
UID:5558-1748592000-1748595600@theriveroflifeworshipcenter.org
SUMMARY:Prayer Line
DESCRIPTION:
URL:https://theriveroflifeworshipcenter.org/event/prayer-line-453/
END:VEVENT
BEGIN:VEVENT
DTSTART;TZID=UTC:20250602T080000
DTEND;TZID=UTC:20250602T090000
DTSTAMP:20260425T163911
CREATED:20250323T164912Z
LAST-MODIFIED:20250323T164912Z
UID:5599-1748851200-1748854800@theriveroflifeworshipcenter.org
SUMMARY:Prayer Line
DESCRIPTION:
URL:https://theriveroflifeworshipcenter.org/event/prayer-line-454/
END:VEVENT
BEGIN:VEVENT
DTSTART;TZID=UTC:20250603T120000
DTEND;TZID=UTC:20250603T130000
DTSTAMP:20260425T163911
CREATED:20250323T163339Z
LAST-MODIFIED:20250323T163339Z
UID:5571-1748952000-1748955600@theriveroflifeworshipcenter.org
SUMMARY:Do you Need Prayer? Join us every Tuesday from 12:00-1:00 PM
DESCRIPTION:
URL:https://theriveroflifeworshipcenter.org/event/do-you-need-prayer-join-us-every-tuesday-from-1200-100-pm-169/
END:VEVENT
BEGIN:VEVENT
DTSTART;TZID=UTC:20250603T190000
DTEND;TZID=UTC:20250603T200000
DTSTAMP:20260425T163911
CREATED:20250323T164133Z
LAST-MODIFIED:20250323T164133Z
UID:5583-1748977200-1748980800@theriveroflifeworshipcenter.org
SUMMARY:Tuesday Night Virtual Bible Study
DESCRIPTION:
URL:https://theriveroflifeworshipcenter.org/event/tuesday-night-virtual-bible-study-161/
END:VEVENT
BEGIN:VEVENT
DTSTART;TZID=UTC:20250604T080000
DTEND;TZID=UTC:20250604T090000
DTSTAMP:20260425T163911
CREATED:20250323T165041Z
LAST-MODIFIED:20250323T165041Z
UID:5595-1749024000-1749027600@theriveroflifeworshipcenter.org
SUMMARY:Prayer Line
DESCRIPTION:
URL:https://theriveroflifeworshipcenter.org/event/prayer-line-458/
END:VEVENT
BEGIN:VEVENT
DTSTART;TZID=UTC:20250604T190000
DTEND;TZID=UTC:20250604T210000
DTSTAMP:20260425T163911
CREATED:20250504T005736Z
LAST-MODIFIED:20250504T005736Z
UID:5737-1749063600-1749070800@theriveroflifeworshipcenter.org
SUMMARY:Discipleship Training
DESCRIPTION:
URL:https://theriveroflifeworshipcenter.org/event/discipleship-training-5/
END:VEVENT
BEGIN:VEVENT
DTSTART;TZID=UTC:20250605T120000
DTEND;TZID=UTC:20250605T130000
DTSTAMP:20260425T163911
CREATED:20250323T162613Z
LAST-MODIFIED:20250323T162613Z
UID:5563-1749124800-1749128400@theriveroflifeworshipcenter.org
SUMMARY:Do you Need Prayer? Join us every Thursday from 12:00-1:00 PM
DESCRIPTION:
URL:https://theriveroflifeworshipcenter.org/event/do-you-need-prayer-join-us-every-thursday-from-1200-100-pm-167/
END:VEVENT
BEGIN:VEVENT
DTSTART;TZID=UTC:20250606T080000
DTEND;TZID=UTC:20250606T090000
DTSTAMP:20260425T163911
CREATED:20250323T165223Z
LAST-MODIFIED:20250323T165223Z
UID:5591-1749196800-1749200400@theriveroflifeworshipcenter.org
SUMMARY:Prayer Line
DESCRIPTION:
URL:https://theriveroflifeworshipcenter.org/event/prayer-line-462/
END:VEVENT
END:VCALENDAR