BEGIN:VCALENDAR
VERSION:2.0
PRODID:-//River of Life Worship Center - ECPv6.15.20//NONSGML v1.0//EN
CALSCALE:GREGORIAN
METHOD:PUBLISH
X-WR-CALNAME:River of Life Worship Center
X-ORIGINAL-URL:https://theriveroflifeworshipcenter.org
X-WR-CALDESC:Events for River of Life Worship Center
REFRESH-INTERVAL;VALUE=DURATION:PT1H
X-Robots-Tag:noindex
X-PUBLISHED-TTL:PT1H
BEGIN:VTIMEZONE
TZID:UTC
BEGIN:STANDARD
TZOFFSETFROM:+0000
TZOFFSETTO:+0000
TZNAME:UTC
DTSTART:20230101T000000
END:STANDARD
END:VTIMEZONE
BEGIN:VEVENT
DTSTART;TZID=UTC:20250126T103000
DTEND;TZID=UTC:20250126T120000
DTSTAMP:20260425T112321
CREATED:20250112T005844Z
LAST-MODIFIED:20250112T200338Z
UID:5209-1737887400-1737892800@theriveroflifeworshipcenter.org
SUMMARY:18th Pastor's Anniversary
DESCRIPTION:
URL:https://theriveroflifeworshipcenter.org/event/18th-pastors-anniversary/
END:VEVENT
BEGIN:VEVENT
DTSTART;TZID=UTC:20250124T080000
DTEND;TZID=UTC:20250124T090000
DTSTAMP:20260425T112321
CREATED:20241222T172024Z
LAST-MODIFIED:20241222T172024Z
UID:5117-1737705600-1737709200@theriveroflifeworshipcenter.org
SUMMARY:Prayer Line
DESCRIPTION:
URL:https://theriveroflifeworshipcenter.org/event/prayer-line-399/
END:VEVENT
BEGIN:VEVENT
DTSTART;TZID=UTC:20250123T120000
DTEND;TZID=UTC:20250123T130000
DTSTAMP:20260425T112321
CREATED:20241222T191956Z
LAST-MODIFIED:20241222T191956Z
UID:5150-1737633600-1737637200@theriveroflifeworshipcenter.org
SUMMARY:Do you Need Prayer? Join us every Thursday from 12:00-1:00 PM
DESCRIPTION:
URL:https://theriveroflifeworshipcenter.org/event/do-you-need-prayer-join-us-every-thursday-from-1200-100-pm-148/
END:VEVENT
BEGIN:VEVENT
DTSTART;TZID=UTC:20250122T080000
DTEND;TZID=UTC:20250122T090000
DTSTAMP:20260425T112321
CREATED:20241222T172000Z
LAST-MODIFIED:20241222T172000Z
UID:5118-1737532800-1737536400@theriveroflifeworshipcenter.org
SUMMARY:Prayer Line
DESCRIPTION:
URL:https://theriveroflifeworshipcenter.org/event/prayer-line-398/
END:VEVENT
BEGIN:VEVENT
DTSTART;TZID=UTC:20250121T190000
DTEND;TZID=UTC:20250121T200000
DTSTAMP:20260425T112321
CREATED:20241222T192354Z
LAST-MODIFIED:20241222T192354Z
UID:5161-1737486000-1737489600@theriveroflifeworshipcenter.org
SUMMARY:Tuesday Night Virtual Bible Study
DESCRIPTION:
URL:https://theriveroflifeworshipcenter.org/event/tuesday-night-virtual-bible-study-142/
END:VEVENT
BEGIN:VEVENT
DTSTART;TZID=UTC:20250121T120000
DTEND;TZID=UTC:20250121T130000
DTSTAMP:20260425T112321
CREATED:20241222T191706Z
LAST-MODIFIED:20241222T191706Z
UID:5143-1737460800-1737464400@theriveroflifeworshipcenter.org
SUMMARY:Do you Need Prayer? Join us every Tuesday from 12:00-1:00 PM
DESCRIPTION:
URL:https://theriveroflifeworshipcenter.org/event/do-you-need-prayer-join-us-every-tuesday-from-1200-100-pm-150/
END:VEVENT
BEGIN:VEVENT
DTSTART;TZID=UTC:20250120T080000
DTEND;TZID=UTC:20250120T090000
DTSTAMP:20260425T112321
CREATED:20241222T171938Z
LAST-MODIFIED:20241222T171938Z
UID:5119-1737360000-1737363600@theriveroflifeworshipcenter.org
SUMMARY:Prayer Line
DESCRIPTION:
URL:https://theriveroflifeworshipcenter.org/event/prayer-line-397/
END:VEVENT
BEGIN:VEVENT
DTSTART;TZID=UTC:20250117T080000
DTEND;TZID=UTC:20250117T090000
DTSTAMP:20260425T112321
CREATED:20241222T171604Z
LAST-MODIFIED:20241222T171604Z
UID:5120-1737100800-1737104400@theriveroflifeworshipcenter.org
SUMMARY:Prayer Line
DESCRIPTION:
URL:https://theriveroflifeworshipcenter.org/event/prayer-line-396/
END:VEVENT
BEGIN:VEVENT
DTSTART;TZID=UTC:20250116T120000
DTEND;TZID=UTC:20250116T130000
DTSTAMP:20260425T112321
CREATED:20241222T191935Z
LAST-MODIFIED:20241222T191935Z
UID:5151-1737028800-1737032400@theriveroflifeworshipcenter.org
SUMMARY:Do you Need Prayer? Join us every Thursday from 12:00-1:00 PM
DESCRIPTION:
URL:https://theriveroflifeworshipcenter.org/event/do-you-need-prayer-join-us-every-thursday-from-1200-100-pm-147/
END:VEVENT
BEGIN:VEVENT
DTSTART;TZID=UTC:20250115T080000
DTEND;TZID=UTC:20250115T090000
DTSTAMP:20260425T112321
CREATED:20241222T171547Z
LAST-MODIFIED:20241222T171547Z
UID:5121-1736928000-1736931600@theriveroflifeworshipcenter.org
SUMMARY:Prayer Line
DESCRIPTION:
URL:https://theriveroflifeworshipcenter.org/event/prayer-line-395/
END:VEVENT
BEGIN:VEVENT
DTSTART;TZID=UTC:20250114T190000
DTEND;TZID=UTC:20250114T200000
DTSTAMP:20260425T112321
CREATED:20241222T192330Z
LAST-MODIFIED:20241222T192330Z
UID:5162-1736881200-1736884800@theriveroflifeworshipcenter.org
SUMMARY:Tuesday Night Virtual Bible Study
DESCRIPTION:
URL:https://theriveroflifeworshipcenter.org/event/tuesday-night-virtual-bible-study-141/
END:VEVENT
BEGIN:VEVENT
DTSTART;TZID=UTC:20250114T120000
DTEND;TZID=UTC:20250114T130000
DTSTAMP:20260425T112321
CREATED:20241222T191641Z
LAST-MODIFIED:20241222T191641Z
UID:5145-1736856000-1736859600@theriveroflifeworshipcenter.org
SUMMARY:Do you Need Prayer? Join us every Tuesday from 12:00-1:00 PM
DESCRIPTION:
URL:https://theriveroflifeworshipcenter.org/event/do-you-need-prayer-join-us-every-tuesday-from-1200-100-pm-149/
END:VEVENT
BEGIN:VEVENT
DTSTART;TZID=UTC:20250113T080000
DTEND;TZID=UTC:20250113T090000
DTSTAMP:20260425T112321
CREATED:20241222T171431Z
LAST-MODIFIED:20241222T171431Z
UID:5122-1736755200-1736758800@theriveroflifeworshipcenter.org
SUMMARY:Prayer Line
DESCRIPTION:
URL:https://theriveroflifeworshipcenter.org/event/prayer-line-394/
END:VEVENT
BEGIN:VEVENT
DTSTART;TZID=UTC:20250110T080000
DTEND;TZID=UTC:20250110T090000
DTSTAMP:20260425T112321
CREATED:20241222T171411Z
LAST-MODIFIED:20241222T171411Z
UID:5123-1736496000-1736499600@theriveroflifeworshipcenter.org
SUMMARY:Prayer Line
DESCRIPTION:
URL:https://theriveroflifeworshipcenter.org/event/prayer-line-393/
END:VEVENT
BEGIN:VEVENT
DTSTART;TZID=UTC:20250109T120000
DTEND;TZID=UTC:20250109T130000
DTSTAMP:20260425T112321
CREATED:20241222T191914Z
LAST-MODIFIED:20241222T191914Z
UID:5152-1736424000-1736427600@theriveroflifeworshipcenter.org
SUMMARY:Do you Need Prayer? Join us every Thursday from 12:00-1:00 PM
DESCRIPTION:
URL:https://theriveroflifeworshipcenter.org/event/do-you-need-prayer-join-us-every-thursday-from-1200-100-pm-146/
END:VEVENT
BEGIN:VEVENT
DTSTART;TZID=UTC:20250108T080000
DTEND;TZID=UTC:20250108T090000
DTSTAMP:20260425T112321
CREATED:20241222T171152Z
LAST-MODIFIED:20241222T171152Z
UID:5124-1736323200-1736326800@theriveroflifeworshipcenter.org
SUMMARY:Prayer Line
DESCRIPTION:
URL:https://theriveroflifeworshipcenter.org/event/prayer-line-392/
END:VEVENT
BEGIN:VEVENT
DTSTART;TZID=UTC:20250107T190000
DTEND;TZID=UTC:20250107T200000
DTSTAMP:20260425T112321
CREATED:20241222T192258Z
LAST-MODIFIED:20241222T192258Z
UID:5163-1736276400-1736280000@theriveroflifeworshipcenter.org
SUMMARY:Tuesday Night Virtual Bible Study
DESCRIPTION:
URL:https://theriveroflifeworshipcenter.org/event/tuesday-night-virtual-bible-study-140/
END:VEVENT
BEGIN:VEVENT
DTSTART;TZID=UTC:20250107T120000
DTEND;TZID=UTC:20250107T130000
DTSTAMP:20260425T112321
CREATED:20241222T191612Z
LAST-MODIFIED:20241222T191612Z
UID:5144-1736251200-1736254800@theriveroflifeworshipcenter.org
SUMMARY:Do you Need Prayer? Join us every Tuesday from 12:00-1:00 PM
DESCRIPTION:
URL:https://theriveroflifeworshipcenter.org/event/do-you-need-prayer-join-us-every-tuesday-from-1200-100-pm-148/
END:VEVENT
BEGIN:VEVENT
DTSTART;TZID=UTC:20250106T080000
DTEND;TZID=UTC:20250106T090000
DTSTAMP:20260425T112321
CREATED:20241222T171130Z
LAST-MODIFIED:20241222T171130Z
UID:5125-1736150400-1736154000@theriveroflifeworshipcenter.org
SUMMARY:Prayer Line
DESCRIPTION:
URL:https://theriveroflifeworshipcenter.org/event/prayer-line-391/
END:VEVENT
BEGIN:VEVENT
DTSTART;TZID=UTC:20250103T080000
DTEND;TZID=UTC:20250103T090000
DTSTAMP:20260425T112321
CREATED:20241222T171103Z
LAST-MODIFIED:20241222T171103Z
UID:5126-1735891200-1735894800@theriveroflifeworshipcenter.org
SUMMARY:Prayer Line
DESCRIPTION:
URL:https://theriveroflifeworshipcenter.org/event/prayer-line-390/
END:VEVENT
BEGIN:VEVENT
DTSTART;TZID=UTC:20250102T120000
DTEND;TZID=UTC:20250102T130000
DTSTAMP:20260425T112321
CREATED:20241222T191854Z
LAST-MODIFIED:20241222T191854Z
UID:5153-1735819200-1735822800@theriveroflifeworshipcenter.org
SUMMARY:Do you Need Prayer? Join us every Thursday from 12:00-1:00 PM
DESCRIPTION:
URL:https://theriveroflifeworshipcenter.org/event/do-you-need-prayer-join-us-every-thursday-from-1200-100-pm-145/
END:VEVENT
BEGIN:VEVENT
DTSTART;TZID=UTC:20250101T080000
DTEND;TZID=UTC:20250101T090000
DTSTAMP:20260425T112321
CREATED:20241222T171028Z
LAST-MODIFIED:20241222T171028Z
UID:5127-1735718400-1735722000@theriveroflifeworshipcenter.org
SUMMARY:Prayer Line
DESCRIPTION:
URL:https://theriveroflifeworshipcenter.org/event/prayer-line-387/
END:VEVENT
BEGIN:VEVENT
DTSTART;TZID=UTC:20241230T080000
DTEND;TZID=UTC:20241230T090000
DTSTAMP:20260425T112321
CREATED:20241023T214144Z
LAST-MODIFIED:20241023T214144Z
UID:5044-1735545600-1735549200@theriveroflifeworshipcenter.org
SUMMARY:Prayer Line
DESCRIPTION:
URL:https://theriveroflifeworshipcenter.org/event/prayer-line-389/
END:VEVENT
BEGIN:VEVENT
DTSTART;TZID=UTC:20241227T080000
DTEND;TZID=UTC:20241227T090000
DTSTAMP:20260425T112321
CREATED:20241023T214116Z
LAST-MODIFIED:20241023T214116Z
UID:5018-1735286400-1735290000@theriveroflifeworshipcenter.org
SUMMARY:Prayer Line
DESCRIPTION:
URL:https://theriveroflifeworshipcenter.org/event/prayer-line-388/
END:VEVENT
BEGIN:VEVENT
DTSTART;TZID=UTC:20241226T120000
DTEND;TZID=UTC:20241226T130000
DTSTAMP:20260425T112321
CREATED:20241023T215350Z
LAST-MODIFIED:20241023T215350Z
UID:5072-1735214400-1735218000@theriveroflifeworshipcenter.org
SUMMARY:Do you Need Prayer? Join us every Thursday from 12:00-1:00 PM
DESCRIPTION:
URL:https://theriveroflifeworshipcenter.org/event/do-you-need-prayer-join-us-every-thursday-from-1200-100-pm-144/
END:VEVENT
BEGIN:VEVENT
DTSTART;TZID=UTC:20241225T080000
DTEND;TZID=UTC:20241225T090000
DTSTAMP:20260425T112321
CREATED:20241023T214028Z
LAST-MODIFIED:20241023T214028Z
UID:5020-1735113600-1735117200@theriveroflifeworshipcenter.org
SUMMARY:Prayer Line
DESCRIPTION:
URL:https://theriveroflifeworshipcenter.org/event/prayer-line-386/
END:VEVENT
BEGIN:VEVENT
DTSTART;TZID=UTC:20241224T190000
DTEND;TZID=UTC:20241224T200000
DTSTAMP:20260425T112321
CREATED:20241023T214610Z
LAST-MODIFIED:20241023T214610Z
UID:5047-1735066800-1735070400@theriveroflifeworshipcenter.org
SUMMARY:Tuesday Night Virtual Bible Study
DESCRIPTION:
URL:https://theriveroflifeworshipcenter.org/event/tuesday-night-virtual-bible-study-139/
END:VEVENT
BEGIN:VEVENT
DTSTART;TZID=UTC:20241224T120000
DTEND;TZID=UTC:20241224T130000
DTSTAMP:20260425T112321
CREATED:20241023T215053Z
LAST-MODIFIED:20241023T215053Z
UID:5050-1735041600-1735045200@theriveroflifeworshipcenter.org
SUMMARY:Do you Need Prayer? Join us every Tuesday from 12:00-1:00 PM
DESCRIPTION:
URL:https://theriveroflifeworshipcenter.org/event/do-you-need-prayer-join-us-every-tuesday-from-1200-100-pm-147/
END:VEVENT
BEGIN:VEVENT
DTSTART;TZID=UTC:20241223T080000
DTEND;TZID=UTC:20241223T090000
DTSTAMP:20260425T112321
CREATED:20241023T214008Z
LAST-MODIFIED:20241023T214008Z
UID:5021-1734940800-1734944400@theriveroflifeworshipcenter.org
SUMMARY:Prayer Line
DESCRIPTION:
URL:https://theriveroflifeworshipcenter.org/event/prayer-line-385/
END:VEVENT
BEGIN:VEVENT
DTSTART;TZID=UTC:20241220T080000
DTEND;TZID=UTC:20241220T090000
DTSTAMP:20260425T112321
CREATED:20241023T213949Z
LAST-MODIFIED:20241023T213949Z
UID:5022-1734681600-1734685200@theriveroflifeworshipcenter.org
SUMMARY:Prayer Line
DESCRIPTION:
URL:https://theriveroflifeworshipcenter.org/event/prayer-line-384/
END:VEVENT
END:VCALENDAR