BEGIN:VCALENDAR
VERSION:2.0
PRODID:-//River of Life Worship Center - ECPv6.15.20//NONSGML v1.0//EN
CALSCALE:GREGORIAN
METHOD:PUBLISH
X-ORIGINAL-URL:https://theriveroflifeworshipcenter.org
X-WR-CALDESC:Events for River of Life Worship Center
REFRESH-INTERVAL;VALUE=DURATION:PT1H
X-Robots-Tag:noindex
X-PUBLISHED-TTL:PT1H
BEGIN:VTIMEZONE
TZID:UTC
BEGIN:STANDARD
TZOFFSETFROM:+0000
TZOFFSETTO:+0000
TZNAME:UTC
DTSTART:20220101T000000
END:STANDARD
END:VTIMEZONE
BEGIN:VEVENT
DTSTART;TZID=UTC:20231002T080000
DTEND;TZID=UTC:20231002T090000
DTSTAMP:20260426T021517
CREATED:20230528T233703Z
LAST-MODIFIED:20230528T233703Z
UID:3182-1696233600-1696237200@theriveroflifeworshipcenter.org
SUMMARY:Prayer Line
DESCRIPTION:
URL:https://theriveroflifeworshipcenter.org/event/prayer-line-193/
END:VEVENT
BEGIN:VEVENT
DTSTART;TZID=UTC:20231002T123000
DTEND;TZID=UTC:20231002T133000
DTSTAMP:20260426T021517
CREATED:20230826T194936Z
LAST-MODIFIED:20230826T194936Z
UID:3458-1696249800-1696253400@theriveroflifeworshipcenter.org
SUMMARY:Healing Service
DESCRIPTION:
URL:https://theriveroflifeworshipcenter.org/event/healing-service/
END:VEVENT
BEGIN:VEVENT
DTSTART;TZID=UTC:20231003T120000
DTEND;TZID=UTC:20231003T130000
DTSTAMP:20260426T021517
CREATED:20230528T234958Z
LAST-MODIFIED:20230528T234958Z
UID:3219-1696334400-1696338000@theriveroflifeworshipcenter.org
SUMMARY:Do you Need Prayer? Join us every Tuesday from 12:00-1:00 PM
DESCRIPTION:
URL:https://theriveroflifeworshipcenter.org/event/do-you-need-prayer-join-us-every-tuesday-from-1200-100-pm-84/
END:VEVENT
BEGIN:VEVENT
DTSTART;TZID=UTC:20231003T190000
DTEND;TZID=UTC:20231003T200000
DTSTAMP:20260426T021517
CREATED:20230528T234753Z
LAST-MODIFIED:20230528T234753Z
UID:3208-1696359600-1696363200@theriveroflifeworshipcenter.org
SUMMARY:Tuesday Night Virtual Bible Study
DESCRIPTION:
URL:https://theriveroflifeworshipcenter.org/event/tuesday-night-virtual-bible-study-74/
END:VEVENT
BEGIN:VEVENT
DTSTART;TZID=UTC:20231004T080000
DTEND;TZID=UTC:20231004T090000
DTSTAMP:20260426T021517
CREATED:20230528T234039Z
LAST-MODIFIED:20230528T234039Z
UID:3178-1696406400-1696410000@theriveroflifeworshipcenter.org
SUMMARY:Prayer Line
DESCRIPTION:
URL:https://theriveroflifeworshipcenter.org/event/prayer-line-198/
END:VEVENT
BEGIN:VEVENT
DTSTART;TZID=UTC:20231005T120000
DTEND;TZID=UTC:20231005T130000
DTSTAMP:20260426T021517
CREATED:20230528T234454Z
LAST-MODIFIED:20230528T234454Z
UID:3200-1696507200-1696510800@theriveroflifeworshipcenter.org
SUMMARY:Do you Need Prayer? Join us every Thursday from 12:00-1:00 PM
DESCRIPTION:
URL:https://theriveroflifeworshipcenter.org/event/do-you-need-prayer-join-us-every-thursday-from-1200-100-pm-81/
END:VEVENT
BEGIN:VEVENT
DTSTART;TZID=UTC:20231006T080000
DTEND;TZID=UTC:20231006T090000
DTSTAMP:20260426T021517
CREATED:20230528T234159Z
LAST-MODIFIED:20230528T234159Z
UID:3174-1696579200-1696582800@theriveroflifeworshipcenter.org
SUMMARY:Prayer Line
DESCRIPTION:
URL:https://theriveroflifeworshipcenter.org/event/prayer-line-202/
END:VEVENT
BEGIN:VEVENT
DTSTART;TZID=UTC:20231009T080000
DTEND;TZID=UTC:20231009T090000
DTSTAMP:20260426T021517
CREATED:20230528T233849Z
LAST-MODIFIED:20230528T233849Z
UID:3181-1696838400-1696842000@theriveroflifeworshipcenter.org
SUMMARY:Prayer Line
DESCRIPTION:
URL:https://theriveroflifeworshipcenter.org/event/prayer-line-195/
END:VEVENT
BEGIN:VEVENT
DTSTART;TZID=UTC:20231010T120000
DTEND;TZID=UTC:20231010T130000
DTSTAMP:20260426T021517
CREATED:20230528T235019Z
LAST-MODIFIED:20230528T235019Z
UID:3212-1696939200-1696942800@theriveroflifeworshipcenter.org
SUMMARY:Do you Need Prayer? Join us every Tuesday from 12:00-1:00 PM
DESCRIPTION:
URL:https://theriveroflifeworshipcenter.org/event/do-you-need-prayer-join-us-every-tuesday-from-1200-100-pm-85/
END:VEVENT
BEGIN:VEVENT
DTSTART;TZID=UTC:20231010T190000
DTEND;TZID=UTC:20231010T200000
DTSTAMP:20260426T021517
CREATED:20230528T234817Z
LAST-MODIFIED:20230528T234817Z
UID:3207-1696964400-1696968000@theriveroflifeworshipcenter.org
SUMMARY:Tuesday Night Virtual Bible Study
DESCRIPTION:
URL:https://theriveroflifeworshipcenter.org/event/tuesday-night-virtual-bible-study-76/
END:VEVENT
BEGIN:VEVENT
DTSTART;TZID=UTC:20231011T080000
DTEND;TZID=UTC:20231011T090000
DTSTAMP:20260426T021517
CREATED:20230528T234058Z
LAST-MODIFIED:20230528T234058Z
UID:3177-1697011200-1697014800@theriveroflifeworshipcenter.org
SUMMARY:Prayer Line
DESCRIPTION:
URL:https://theriveroflifeworshipcenter.org/event/prayer-line-199/
END:VEVENT
BEGIN:VEVENT
DTSTART;TZID=UTC:20231012T120000
DTEND;TZID=UTC:20231012T130000
DTSTAMP:20260426T021517
CREATED:20230528T234513Z
LAST-MODIFIED:20230528T234513Z
UID:3199-1697112000-1697115600@theriveroflifeworshipcenter.org
SUMMARY:Do you Need Prayer? Join us every Thursday from 12:00-1:00 PM
DESCRIPTION:
URL:https://theriveroflifeworshipcenter.org/event/do-you-need-prayer-join-us-every-thursday-from-1200-100-pm-82/
END:VEVENT
BEGIN:VEVENT
DTSTART;TZID=UTC:20231013T080000
DTEND;TZID=UTC:20231013T090000
DTSTAMP:20260426T021517
CREATED:20230528T234219Z
LAST-MODIFIED:20230528T234219Z
UID:3173-1697184000-1697187600@theriveroflifeworshipcenter.org
SUMMARY:Prayer Line
DESCRIPTION:
URL:https://theriveroflifeworshipcenter.org/event/prayer-line-203/
END:VEVENT
BEGIN:VEVENT
DTSTART;TZID=UTC:20231013T193000
DTEND;TZID=UTC:20231013T210000
DTSTAMP:20260426T021517
CREATED:20230916T014416Z
LAST-MODIFIED:20230916T014416Z
UID:3514-1697225400-1697230800@theriveroflifeworshipcenter.org
SUMMARY:Woman of Worship Conference
DESCRIPTION:
URL:https://theriveroflifeworshipcenter.org/event/woman-of-worship-conference/
END:VEVENT
BEGIN:VEVENT
DTSTART;TZID=UTC:20231014T110000
DTEND;TZID=UTC:20231014T130000
DTSTAMP:20260426T021517
CREATED:20230916T015006Z
LAST-MODIFIED:20230916T015006Z
UID:3516-1697281200-1697288400@theriveroflifeworshipcenter.org
SUMMARY:Women of Worship Conference
DESCRIPTION:
URL:https://theriveroflifeworshipcenter.org/event/women-of-worship-conference-3/
LOCATION:Turf Valley Resort\, 2700 Turf Valley Road\, Ellicott City\, United States
END:VEVENT
BEGIN:VEVENT
DTSTART;TZID=UTC:20231015T103000
DTEND;TZID=UTC:20231015T130000
DTSTAMP:20260426T021517
CREATED:20230916T114111Z
LAST-MODIFIED:20230916T114111Z
UID:3518-1697365800-1697374800@theriveroflifeworshipcenter.org
SUMMARY:Women of Worship Conference
DESCRIPTION:
URL:https://theriveroflifeworshipcenter.org/event/women-of-worship-conference-4/
LOCATION:River of Life Worship Center\, 8232 Redmiles Ln\, Odenton\, United States
END:VEVENT
BEGIN:VEVENT
DTSTART;TZID=UTC:20231016T080000
DTEND;TZID=UTC:20231016T090000
DTSTAMP:20260426T021517
CREATED:20230528T233723Z
LAST-MODIFIED:20230528T233739Z
UID:3184-1697443200-1697446800@theriveroflifeworshipcenter.org
SUMMARY:Prayer Line
DESCRIPTION:
URL:https://theriveroflifeworshipcenter.org/event/prayer-line-194/
END:VEVENT
BEGIN:VEVENT
DTSTART;TZID=UTC:20231017T120000
DTEND;TZID=UTC:20231017T130000
DTSTAMP:20260426T021517
CREATED:20230528T235043Z
LAST-MODIFIED:20230528T235043Z
UID:3211-1697544000-1697547600@theriveroflifeworshipcenter.org
SUMMARY:Do you Need Prayer? Join us every Tuesday from 12:00-1:00 PM
DESCRIPTION:
URL:https://theriveroflifeworshipcenter.org/event/do-you-need-prayer-join-us-every-tuesday-from-1200-100-pm-86/
END:VEVENT
BEGIN:VEVENT
DTSTART;TZID=UTC:20231017T190000
DTEND;TZID=UTC:20231017T200000
DTSTAMP:20260426T021517
CREATED:20230528T234839Z
LAST-MODIFIED:20230528T234839Z
UID:3206-1697569200-1697572800@theriveroflifeworshipcenter.org
SUMMARY:Tuesday Night Virtual Bible Study
DESCRIPTION:
URL:https://theriveroflifeworshipcenter.org/event/tuesday-night-virtual-bible-study-77/
END:VEVENT
BEGIN:VEVENT
DTSTART;TZID=UTC:20231018T080000
DTEND;TZID=UTC:20231018T090000
DTSTAMP:20260426T021517
CREATED:20230528T234118Z
LAST-MODIFIED:20230528T234118Z
UID:3176-1697616000-1697619600@theriveroflifeworshipcenter.org
SUMMARY:Prayer Line
DESCRIPTION:
URL:https://theriveroflifeworshipcenter.org/event/prayer-line-200/
END:VEVENT
BEGIN:VEVENT
DTSTART;TZID=UTC:20231019T120000
DTEND;TZID=UTC:20231019T130000
DTSTAMP:20260426T021517
CREATED:20230528T234533Z
LAST-MODIFIED:20230528T234533Z
UID:3198-1697716800-1697720400@theriveroflifeworshipcenter.org
SUMMARY:Do you Need Prayer? Join us every Thursday from 12:00-1:00 PM
DESCRIPTION:
URL:https://theriveroflifeworshipcenter.org/event/do-you-need-prayer-join-us-every-thursday-from-1200-100-pm-83/
END:VEVENT
BEGIN:VEVENT
DTSTART;TZID=UTC:20231020T080000
DTEND;TZID=UTC:20231020T090000
DTSTAMP:20260426T021517
CREATED:20230528T234236Z
LAST-MODIFIED:20230528T234236Z
UID:3172-1697788800-1697792400@theriveroflifeworshipcenter.org
SUMMARY:Prayer Line
DESCRIPTION:
URL:https://theriveroflifeworshipcenter.org/event/prayer-line-204/
END:VEVENT
BEGIN:VEVENT
DTSTART;TZID=UTC:20231023T080000
DTEND;TZID=UTC:20231023T090000
DTSTAMP:20260426T021517
CREATED:20230528T233912Z
LAST-MODIFIED:20230528T233912Z
UID:3180-1698048000-1698051600@theriveroflifeworshipcenter.org
SUMMARY:Prayer Line
DESCRIPTION:
URL:https://theriveroflifeworshipcenter.org/event/prayer-line-196/
END:VEVENT
BEGIN:VEVENT
DTSTART;TZID=UTC:20231024T120000
DTEND;TZID=UTC:20231024T130000
DTSTAMP:20260426T021517
CREATED:20230528T235115Z
LAST-MODIFIED:20230528T235115Z
UID:3210-1698148800-1698152400@theriveroflifeworshipcenter.org
SUMMARY:Do you Need Prayer? Join us every Tuesday from 12:00-1:00 PM
DESCRIPTION:
URL:https://theriveroflifeworshipcenter.org/event/do-you-need-prayer-join-us-every-tuesday-from-1200-100-pm-87/
END:VEVENT
BEGIN:VEVENT
DTSTART;TZID=UTC:20231024T190000
DTEND;TZID=UTC:20231024T200000
DTSTAMP:20260426T021517
CREATED:20230528T234901Z
LAST-MODIFIED:20230528T234901Z
UID:3205-1698174000-1698177600@theriveroflifeworshipcenter.org
SUMMARY:Tuesday Night Virtual Bible Study
DESCRIPTION:
URL:https://theriveroflifeworshipcenter.org/event/tuesday-night-virtual-bible-study-78/
END:VEVENT
BEGIN:VEVENT
DTSTART;TZID=UTC:20231025T080000
DTEND;TZID=UTC:20231025T090000
DTSTAMP:20260426T021517
CREATED:20230528T234135Z
LAST-MODIFIED:20230528T234135Z
UID:3175-1698220800-1698224400@theriveroflifeworshipcenter.org
SUMMARY:Prayer Line
DESCRIPTION:
URL:https://theriveroflifeworshipcenter.org/event/prayer-line-201/
END:VEVENT
BEGIN:VEVENT
DTSTART;TZID=UTC:20231026T120000
DTEND;TZID=UTC:20231026T130000
DTSTAMP:20260426T021517
CREATED:20230528T234549Z
LAST-MODIFIED:20230528T234549Z
UID:3197-1698321600-1698325200@theriveroflifeworshipcenter.org
SUMMARY:Do you Need Prayer? Join us every Thursday from 12:00-1:00 PM
DESCRIPTION:
URL:https://theriveroflifeworshipcenter.org/event/do-you-need-prayer-join-us-every-thursday-from-1200-100-pm-84/
END:VEVENT
BEGIN:VEVENT
DTSTART;TZID=UTC:20231027T080000
DTEND;TZID=UTC:20231027T090000
DTSTAMP:20260426T021517
CREATED:20230528T234255Z
LAST-MODIFIED:20230528T234255Z
UID:3171-1698393600-1698397200@theriveroflifeworshipcenter.org
SUMMARY:Prayer Line
DESCRIPTION:
URL:https://theriveroflifeworshipcenter.org/event/prayer-line-205/
END:VEVENT
BEGIN:VEVENT
DTSTART;TZID=UTC:20231027T193000
DTEND;TZID=UTC:20231027T193000
DTSTAMP:20260426T021517
CREATED:20230911T235107Z
LAST-MODIFIED:20230911T235107Z
UID:3478-1698435000-1698435000@theriveroflifeworshipcenter.org
SUMMARY:Night of Worship
DESCRIPTION:
URL:https://theriveroflifeworshipcenter.org/event/night-of-worship/
END:VEVENT
BEGIN:VEVENT
DTSTART;TZID=UTC:20231030T080000
DTEND;TZID=UTC:20231030T090000
DTSTAMP:20260426T021517
CREATED:20230528T233938Z
LAST-MODIFIED:20230528T233938Z
UID:3179-1698652800-1698656400@theriveroflifeworshipcenter.org
SUMMARY:Prayer Line
DESCRIPTION:
URL:https://theriveroflifeworshipcenter.org/event/prayer-line-197/
END:VEVENT
END:VCALENDAR