BEGIN:VCALENDAR
VERSION:2.0
PRODID:-//River of Life Worship Center - ECPv6.15.20//NONSGML v1.0//EN
CALSCALE:GREGORIAN
METHOD:PUBLISH
X-WR-CALNAME:River of Life Worship Center
X-ORIGINAL-URL:https://theriveroflifeworshipcenter.org
X-WR-CALDESC:Events for River of Life Worship Center
REFRESH-INTERVAL;VALUE=DURATION:PT1H
X-Robots-Tag:noindex
X-PUBLISHED-TTL:PT1H
BEGIN:VTIMEZONE
TZID:UTC
BEGIN:STANDARD
TZOFFSETFROM:+0000
TZOFFSETTO:+0000
TZNAME:UTC
DTSTART:20240101T000000
END:STANDARD
END:VTIMEZONE
BEGIN:VEVENT
DTSTART;TZID=UTC:20250930T190000
DTEND;TZID=UTC:20250930T200000
DTSTAMP:20260424T044312
CREATED:20250813T082833Z
LAST-MODIFIED:20250813T083056Z
UID:6144-1759258800-1759262400@theriveroflifeworshipcenter.org
SUMMARY:Tuesday Night Virtual Bible Study
DESCRIPTION:
URL:https://theriveroflifeworshipcenter.org/event/tuesday-night-virtual-bible-study-177/
END:VEVENT
BEGIN:VEVENT
DTSTART;TZID=UTC:20250930T120000
DTEND;TZID=UTC:20250930T130000
DTSTAMP:20260424T044312
CREATED:20250813T082322Z
LAST-MODIFIED:20250813T082322Z
UID:6131-1759233600-1759237200@theriveroflifeworshipcenter.org
SUMMARY:Do you Need Prayer? Join us every Tuesday from 12:00-1:00 PM
DESCRIPTION:
URL:https://theriveroflifeworshipcenter.org/event/do-you-need-prayer-join-us-every-tuesday-from-1200-100-pm-186/
END:VEVENT
BEGIN:VEVENT
DTSTART;TZID=UTC:20250929T080000
DTEND;TZID=UTC:20250929T090000
DTSTAMP:20260424T044312
CREATED:20250813T081421Z
LAST-MODIFIED:20250813T081421Z
UID:6097-1759132800-1759136400@theriveroflifeworshipcenter.org
SUMMARY:Prayer Line
DESCRIPTION:
URL:https://theriveroflifeworshipcenter.org/event/prayer-line-504/
END:VEVENT
BEGIN:VEVENT
DTSTART;TZID=UTC:20250927T100000
DTEND;TZID=UTC:20250927T120000
DTSTAMP:20260424T044312
CREATED:20250903T164222Z
LAST-MODIFIED:20250920T170726Z
UID:6290-1758967200-1758974400@theriveroflifeworshipcenter.org
SUMMARY:Fire and Glory Conference
DESCRIPTION:
URL:https://theriveroflifeworshipcenter.org/event/fire-and-ice-conference/
LOCATION:Chesapeake City of Praise Fire & Glory Conference\, 4100 5th St\, North Beach\, MD\, 20714\, United States
ORGANIZER;CN="Chesapeake City of Praise":MAILTO:chesapeakecityofpriase@gmail.com
END:VEVENT
BEGIN:VEVENT
DTSTART;TZID=UTC:20250926T080000
DTEND;TZID=UTC:20250926T090000
DTSTAMP:20260424T044312
CREATED:20250813T081355Z
LAST-MODIFIED:20250813T081355Z
UID:6098-1758873600-1758877200@theriveroflifeworshipcenter.org
SUMMARY:Prayer Line
DESCRIPTION:
URL:https://theriveroflifeworshipcenter.org/event/prayer-line-503/
END:VEVENT
BEGIN:VEVENT
DTSTART;TZID=UTC:20250925T120000
DTEND;TZID=UTC:20250925T130000
DTSTAMP:20260424T044312
CREATED:20250813T081807Z
LAST-MODIFIED:20250813T081807Z
UID:6123-1758801600-1758805200@theriveroflifeworshipcenter.org
SUMMARY:Do you Need Prayer? Join us every Thursday from 12:00-1:00 PM
DESCRIPTION:
URL:https://theriveroflifeworshipcenter.org/event/do-you-need-prayer-join-us-every-thursday-from-1200-100-pm-183/
END:VEVENT
BEGIN:VEVENT
DTSTART;TZID=UTC:20250924T080000
DTEND;TZID=UTC:20250924T090000
DTSTAMP:20260424T044312
CREATED:20250813T081313Z
LAST-MODIFIED:20250813T081313Z
UID:6099-1758700800-1758704400@theriveroflifeworshipcenter.org
SUMMARY:Prayer Line
DESCRIPTION:
URL:https://theriveroflifeworshipcenter.org/event/prayer-line-502/
END:VEVENT
BEGIN:VEVENT
DTSTART;TZID=UTC:20250923T190000
DTEND;TZID=UTC:20250923T200000
DTSTAMP:20260424T044312
CREATED:20250813T082902Z
LAST-MODIFIED:20250813T082902Z
UID:6141-1758654000-1758657600@theriveroflifeworshipcenter.org
SUMMARY:Tuesday Night Virtual Bible Study
DESCRIPTION:
URL:https://theriveroflifeworshipcenter.org/event/tuesday-night-virtual-bible-study-178/
END:VEVENT
BEGIN:VEVENT
DTSTART;TZID=UTC:20250923T120000
DTEND;TZID=UTC:20250923T130000
DTSTAMP:20260424T044312
CREATED:20250813T082253Z
LAST-MODIFIED:20250813T082253Z
UID:6132-1758628800-1758632400@theriveroflifeworshipcenter.org
SUMMARY:Do you Need Prayer? Join us every Tuesday from 12:00-1:00 PM
DESCRIPTION:
URL:https://theriveroflifeworshipcenter.org/event/do-you-need-prayer-join-us-every-tuesday-from-1200-100-pm-185/
END:VEVENT
BEGIN:VEVENT
DTSTART;TZID=UTC:20250922T080000
DTEND;TZID=UTC:20250922T090000
DTSTAMP:20260424T044312
CREATED:20250813T081241Z
LAST-MODIFIED:20250813T081241Z
UID:6100-1758528000-1758531600@theriveroflifeworshipcenter.org
SUMMARY:Prayer Line
DESCRIPTION:
URL:https://theriveroflifeworshipcenter.org/event/prayer-line-501/
END:VEVENT
BEGIN:VEVENT
DTSTART;TZID=UTC:20250920T100000
DTEND;TZID=UTC:20250920T120000
DTSTAMP:20260424T044312
CREATED:20250829T233643Z
LAST-MODIFIED:20250829T233738Z
UID:6282-1758362400-1758369600@theriveroflifeworshipcenter.org
SUMMARY:Outreach Evangelism Event
DESCRIPTION:
URL:https://theriveroflifeworshipcenter.org/event/outreach-evangelism-event/
END:VEVENT
BEGIN:VEVENT
DTSTART;TZID=UTC:20250919T080000
DTEND;TZID=UTC:20250919T090000
DTSTAMP:20260424T044312
CREATED:20250813T081220Z
LAST-MODIFIED:20250813T081220Z
UID:6101-1758268800-1758272400@theriveroflifeworshipcenter.org
SUMMARY:Prayer Line
DESCRIPTION:
URL:https://theriveroflifeworshipcenter.org/event/prayer-line-500/
END:VEVENT
BEGIN:VEVENT
DTSTART;TZID=UTC:20250918T120000
DTEND;TZID=UTC:20250918T130000
DTSTAMP:20260424T044312
CREATED:20250813T081718Z
LAST-MODIFIED:20250813T081718Z
UID:6124-1758196800-1758200400@theriveroflifeworshipcenter.org
SUMMARY:Do you Need Prayer? Join us every Thursday from 12:00-1:00 PM
DESCRIPTION:
URL:https://theriveroflifeworshipcenter.org/event/do-you-need-prayer-join-us-every-thursday-from-1200-100-pm-182/
END:VEVENT
BEGIN:VEVENT
DTSTART;TZID=UTC:20250917T080000
DTEND;TZID=UTC:20250917T090000
DTSTAMP:20260424T044312
CREATED:20250813T081200Z
LAST-MODIFIED:20250813T081200Z
UID:6102-1758096000-1758099600@theriveroflifeworshipcenter.org
SUMMARY:Prayer Line
DESCRIPTION:
URL:https://theriveroflifeworshipcenter.org/event/prayer-line-499/
END:VEVENT
BEGIN:VEVENT
DTSTART;TZID=UTC:20250916T190000
DTEND;TZID=UTC:20250916T200000
DTSTAMP:20260424T044312
CREATED:20250813T082801Z
LAST-MODIFIED:20250813T082801Z
UID:6145-1758049200-1758052800@theriveroflifeworshipcenter.org
SUMMARY:Tuesday Night Virtual Bible Study
DESCRIPTION:
URL:https://theriveroflifeworshipcenter.org/event/tuesday-night-virtual-bible-study-176/
END:VEVENT
BEGIN:VEVENT
DTSTART;TZID=UTC:20250916T120000
DTEND;TZID=UTC:20250916T130000
DTSTAMP:20260424T044312
CREATED:20250813T082224Z
LAST-MODIFIED:20250813T082224Z
UID:6133-1758024000-1758027600@theriveroflifeworshipcenter.org
SUMMARY:Do you Need Prayer? Join us every Tuesday from 12:00-1:00 PM
DESCRIPTION:
URL:https://theriveroflifeworshipcenter.org/event/do-you-need-prayer-join-us-every-tuesday-from-1200-100-pm-184/
END:VEVENT
BEGIN:VEVENT
DTSTART;TZID=UTC:20250915T080000
DTEND;TZID=UTC:20250915T090000
DTSTAMP:20260424T044312
CREATED:20250813T081135Z
LAST-MODIFIED:20250813T081135Z
UID:6103-1757923200-1757926800@theriveroflifeworshipcenter.org
SUMMARY:Prayer Line
DESCRIPTION:
URL:https://theriveroflifeworshipcenter.org/event/prayer-line-498/
END:VEVENT
BEGIN:VEVENT
DTSTART;TZID=UTC:20250913T140000
DTEND;TZID=UTC:20250913T150000
DTSTAMP:20260424T044312
CREATED:20250829T232311Z
LAST-MODIFIED:20250829T233336Z
UID:6279-1757772000-1757775600@theriveroflifeworshipcenter.org
SUMMARY:Project Life
DESCRIPTION:
URL:https://theriveroflifeworshipcenter.org/event/project-life-4/
END:VEVENT
BEGIN:VEVENT
DTSTART;TZID=UTC:20250912T080000
DTEND;TZID=UTC:20250912T090000
DTSTAMP:20260424T044312
CREATED:20250813T081113Z
LAST-MODIFIED:20250813T081113Z
UID:6104-1757664000-1757667600@theriveroflifeworshipcenter.org
SUMMARY:Prayer Line
DESCRIPTION:
URL:https://theriveroflifeworshipcenter.org/event/prayer-line-497/
END:VEVENT
BEGIN:VEVENT
DTSTART;TZID=UTC:20250911T120000
DTEND;TZID=UTC:20250911T130000
DTSTAMP:20260424T044312
CREATED:20250813T081648Z
LAST-MODIFIED:20250813T081648Z
UID:6125-1757592000-1757595600@theriveroflifeworshipcenter.org
SUMMARY:Do you Need Prayer? Join us every Thursday from 12:00-1:00 PM
DESCRIPTION:
URL:https://theriveroflifeworshipcenter.org/event/do-you-need-prayer-join-us-every-thursday-from-1200-100-pm-181/
END:VEVENT
BEGIN:VEVENT
DTSTART;TZID=UTC:20250910T080000
DTEND;TZID=UTC:20250910T090000
DTSTAMP:20260424T044312
CREATED:20250813T081049Z
LAST-MODIFIED:20250813T081049Z
UID:6105-1757491200-1757494800@theriveroflifeworshipcenter.org
SUMMARY:Prayer Line
DESCRIPTION:
URL:https://theriveroflifeworshipcenter.org/event/prayer-line-496/
END:VEVENT
BEGIN:VEVENT
DTSTART;TZID=UTC:20250909T190000
DTEND;TZID=UTC:20250909T200000
DTSTAMP:20260424T044312
CREATED:20250813T082723Z
LAST-MODIFIED:20250813T082723Z
UID:6146-1757444400-1757448000@theriveroflifeworshipcenter.org
SUMMARY:Tuesday Night Virtual Bible Study
DESCRIPTION:
URL:https://theriveroflifeworshipcenter.org/event/tuesday-night-virtual-bible-study-175/
END:VEVENT
BEGIN:VEVENT
DTSTART;TZID=UTC:20250909T120000
DTEND;TZID=UTC:20250909T130000
DTSTAMP:20260424T044312
CREATED:20250813T082159Z
LAST-MODIFIED:20250813T082159Z
UID:6134-1757419200-1757422800@theriveroflifeworshipcenter.org
SUMMARY:Do you Need Prayer? Join us every Tuesday from 12:00-1:00 PM
DESCRIPTION:
URL:https://theriveroflifeworshipcenter.org/event/do-you-need-prayer-join-us-every-tuesday-from-1200-100-pm-183/
END:VEVENT
BEGIN:VEVENT
DTSTART;TZID=UTC:20250908T123000
DTEND;TZID=UTC:20250908T133000
DTSTAMP:20260424T044312
CREATED:20250829T231846Z
LAST-MODIFIED:20250829T231846Z
UID:6276-1757334600-1757338200@theriveroflifeworshipcenter.org
SUMMARY:Healing Service
DESCRIPTION:
URL:https://theriveroflifeworshipcenter.org/event/healing-service-12/
END:VEVENT
BEGIN:VEVENT
DTSTART;TZID=UTC:20250908T080000
DTEND;TZID=UTC:20250908T090000
DTSTAMP:20260424T044312
CREATED:20250813T081015Z
LAST-MODIFIED:20250813T081015Z
UID:6106-1757318400-1757322000@theriveroflifeworshipcenter.org
SUMMARY:Prayer Line
DESCRIPTION:
URL:https://theriveroflifeworshipcenter.org/event/prayer-line-495/
END:VEVENT
BEGIN:VEVENT
DTSTART;TZID=UTC:20250907T120000
DTEND;TZID=UTC:20250907T140000
DTSTAMP:20260424T044312
CREATED:20250808T190810Z
LAST-MODIFIED:20250808T190810Z
UID:6089-1757246400-1757253600@theriveroflifeworshipcenter.org
SUMMARY:Annual Picnic
DESCRIPTION:
URL:https://theriveroflifeworshipcenter.org/event/annual-picnic-2/
END:VEVENT
BEGIN:VEVENT
DTSTART;TZID=UTC:20250905T080000
DTEND;TZID=UTC:20250905T090000
DTSTAMP:20260424T044312
CREATED:20250813T080941Z
LAST-MODIFIED:20250813T080941Z
UID:6107-1757059200-1757062800@theriveroflifeworshipcenter.org
SUMMARY:Prayer Line
DESCRIPTION:
URL:https://theriveroflifeworshipcenter.org/event/prayer-line-494/
END:VEVENT
BEGIN:VEVENT
DTSTART;TZID=UTC:20250904T120000
DTEND;TZID=UTC:20250904T130000
DTSTAMP:20260424T044312
CREATED:20250813T081616Z
LAST-MODIFIED:20250813T081616Z
UID:6126-1756987200-1756990800@theriveroflifeworshipcenter.org
SUMMARY:Do you Need Prayer? Join us every Thursday from 12:00-1:00 PM
DESCRIPTION:
URL:https://theriveroflifeworshipcenter.org/event/do-you-need-prayer-join-us-every-thursday-from-1200-100-pm-180/
END:VEVENT
BEGIN:VEVENT
DTSTART;TZID=UTC:20250903T080000
DTEND;TZID=UTC:20250903T090000
DTSTAMP:20260424T044312
CREATED:20250813T080924Z
LAST-MODIFIED:20250813T080924Z
UID:6108-1756886400-1756890000@theriveroflifeworshipcenter.org
SUMMARY:Prayer Line
DESCRIPTION:
URL:https://theriveroflifeworshipcenter.org/event/prayer-line-493/
END:VEVENT
BEGIN:VEVENT
DTSTART;TZID=UTC:20250902T190000
DTEND;TZID=UTC:20250902T200000
DTSTAMP:20260424T044312
CREATED:20250813T082659Z
LAST-MODIFIED:20250813T082659Z
UID:6147-1756839600-1756843200@theriveroflifeworshipcenter.org
SUMMARY:Tuesday Night Virtual Bible Study
DESCRIPTION:
URL:https://theriveroflifeworshipcenter.org/event/tuesday-night-virtual-bible-study-174/
END:VEVENT
END:VCALENDAR